Workbook
Name EURO: DEF!$B$2:$B$10
Name JEDN: [1]DEF!$C$2:$C$10
Name JEDN: DEF!$C$2:$C$10
Name KAT_POJ: [1]DEF!$A$2:$A$10
Name KAT_POJ: DEF!$A$2:$A$10
Name KLAS_BUD: [1]DEF!$E$2:$E$21
Name KLAS_BUD: DEF!$E$2:$E$21
Name OSW_TECH: DEF!$J$2:$J$9
Name OSW_TYP: [1]DEF!$I$2:$I$4
Name OSW_TYP: DEF!$I$2:$I$4
Name PAL_POJ: [1]DEF!$D$2:$D$10
Name PAL_POJ: DEF!$D$2:$D$10
Name PRZEZ_OZE: DEF!$H$2:$H$5
Name RODZAJ_OZE: DEF!$G$2:$G$13
Name STATUS_SKLAD: DEF!$L$2:$L$4
Name TAK_OZE: [1]DEF!$F$2:$F$3
Name TAK_OZE: DEF!$F$2:$F$3
Name ZAG_GAZWYSYP: DEF!$K$2:$K$6

Sheet DEF
A1: KAT_POJ | B1: EURO | C1: JEDN | D1: PAL_POJ | E1: KLAS_BUD | F1: TAK_OZE | G1: RODZAJ_OZE | H1: PRZEZ_OZE | I1: OSW_TYP | J1: OSW_TECH | K1: ZAG_GAZWYSYP | L1: STATUS_SKLAD
A2: osobowy | B2: BEZ EURO | C2: tona | D2: olej napędowy | E2: Budynki mieszkalne jednorodzinne | F2: NIE | G2: kolektory słoneczne płaskie | H2: produkcja na potrzeby własne | I2: Oświetlenie uliczne | J2: Lampy żarowe | K2: spalanie w pochodni | L2: czynne
A3: dostawczy | B3: EURO 1 | C3: kg | D3: benzyna | E3: Budynki o dwóch mieszkaniach | F3: TAK - wypełnić arkusz OZE | G3: kolektory słoneczne próżniowe | H3: produkcja na sprzedaż | I3: Sygnalizacja świetlna | J3: Świetlówki | K3: spalanie w celu produkcji energii elektrycznej | L3: zamknięte
A4: ciężarowy | B4: EURO 2 | C4: m3 | D4: LPG | E4: Budynki wielomieszkaniowe | G4: panele fotowoltaiczne | H4: produkcja na potrzeby własne i sprzedaż nadwyżek | I4: Podświetlenie obiektów | J4: Lampy rtęciowe | K4: spalanie w celu produkcji ciepła | L4: poddane rekultywacji
A5: autobus | B5: EURO 3 | C5: m3 | D5: CNG | E5: Budynki zbiorowego zamieszkania | G5: pompa ciepła | H5: inne | J5: Niskoprężne lampy sodowe | K5: spalanie w kogeneracji
A6: specjalny | B6: EURO 3 EEV | C6: litr | D6: energia elektr. | E6: Budynki hoteli | G6: kocioł na biomasę | J6: Wysokoprężne lampy sodowe | K6: inne (proszę podać w uwagach)
A7: tramwaj | B7: EURO 4 | C7: kWh | D7: etanol | E7: Budynki zakwaterowania turystycznego, pozostałe | G7: biogazownia | J7: Lampy metalo-halogenkowe
A8: trolejbus | B8: EURO 4 EEV | C8: MWh | D8: biodiesel | E8: Budynki biurowe | G8: turbina wiatrowa o poziomej osi obrotu | J8: Lampy LED
A9: inne | B9: EURO 5 | C9: GJ | D9: wodór | E9: Budynki handlowo -usługowe | G9: turbina wiatrowa o pionowej osi obrotu | J9: inne
B10: EURO 6 | D10: inne | E10: Budynki łączności, dworców i terminali | G10: instalacja geotermalna (głęboka)
E11: Budynki garaży | G11: elektrownia wodna
E12: Budynki przemysłowe | G12: instalacja hybrydowa
E13: Zbiorniki, silosy i budynki magazynowe | G13: inne
E14: Ogólnodostępne obiekty kulturalne
E15: Budynki muzeów i bibliotek
E16: Budynki szkół i instytucji badawczych
E17: Budynki szpitali i zakładów opieki medycznej
E18: Budynki kultury fizycznej
E19: Budynki gospodarstw rolnych
E20: Budynki przeznaczone do sprawowania kultu religijnego i czynności religijnych
E21: Pozostałe budynki niemieszkalne

Sheet TYTUŁ
H11: Gmina: | L11: Święciechowa
H12: Powiat: | L12: Leszczyński
H13: Województwo: | L13: ='[2]D. Gmina'!E4 -> Wielkopolskie
E18: Opracownie bazy: | M18: Zawartość bazy:
E19: Rok kontrolny 2021 | L19: 1. | M19: TYTUŁ
L20: 2. | M20: RAPORT | N20: Podsumowanie wielkości emisji - tabele, wykresy
L21: 3. | M21: PROGNOZA | N21: Prognoza w 2027 r. według scenariuszy
L22: 4. | M22: OGOLNE | N22: Ogólne informacje
L23: 5. | M23: BUD_GMIN | N23: Budynki, urządzenia i wyposażenie obiektów gminnych
L24: 6. | M24: BUD_USLUG | N24: Budynki, urządzenia i wyposażenie obiektów pozostałych, niemieszkalnych
L25: 7. | M25: BUD_MIESZK | N25: Budynki mieszkalne
L26: 8. | M26: BUD_MIESZK_A | N26: Budynki mieszkalne - wyniki ankietyzacji
L27: 9. | M27: PRZEM | N27: Przemysł
L28: 10. | M28: OSW | N28: Oświetlenie publiczne
L29: 11. | M29: TR_GMIN | N29: Pojazdy gminne
L30: 12. | M30: TR_PUBL | N30: Transport publiczny gminny
L31: 13. | M31: TR_PRYW | N31: Transport prywatny i komercyjny
... L34: 16. | M34: DANE_GAZ | N34: Dane od dostawcy gazu ziemnego

Sheet RAPORT
A1: PODSUMOWANIE WIELKOŚCI EMISJI
A2: Zestawienia zbiorcze i wykresy
B4: Zużycie energii [MWh] | C4: Energia elektryczna | D4: Gaz ziemny wysokometanowy | E4: Gaz ziemny zaazotowany | F4: Ciepło sieciowe | G4: Olej opałowy | H4: Olej napędowy | I4: LPG | J4: Benzyna | K4: Węgiel kamienny | L4: Węgiel brunanty | M4: Drewno | N4: SUMA
B5: Budynki, urządzenia i wyposażenie obiektów gminnych | C5: =BUD_GMIN!G5 -> 241.057 | D5: =BUD_GMIN!G6 -> 0 | E5: =BUD_GMIN!G7 -> 1070.8268 | F5: =BUD_GMIN!G8 -> 0 | G5: =BUD_GMIN!G9 -> 658.08301 | H5: =BUD_GMIN!G10 -> 0 | I5: =BUD_GMIN!G13 -> 0 | J5: 0 | K5: =BUD_GMIN!G11 -> 302.49156 | L5: =BUD_GMIN!G12 -> 0 | M5: =BUD_GMIN!G14 -> 0 | N5: =SUM(C5:M5) -> 2272.4584
B6: Budynki, urządzenia i wyposażenie obiektów pozostałych, niemieszkalnych | C6: =BUD_USLUG!G5 -> 1975 | D6: =BUD_USLUG!G6 -> 0 | E6: =BUD_USLUG!G7 -> 27290.861 | F6: =BUD_USLUG!G8 -> 0 | G6: =BUD_USLUG!G9 -> 58.002614 | H6: =BUD_USLUG!G10 -> 0 | I6: =BUD_USLUG!G13 -> 347.99653 | J6: 0 | K6: =BUD_USLUG!G11 -> 3635.2 | L6: =BUD_USLUG!G12 -> 0 | M6: =BUD_USLUG!G14 -> 1683.3333 | N6: =SUM(C6:M6) -> 34990.394
B7: Budynki mieszkalne | C7: =BUD_MIESZK!G5 -> 7215 | D7: =BUD_MIESZK!G6 -> 0 | E7: =BUD_MIESZK!G7 -> 9513.1737 | F7: =BUD_USLUG!G8 -> 0 | G7: =BUD_MIESZK!G9 -> 583.78179 | H7: =BUD_MIESZK!G10 -> 0 | I7: =BUD_MIESZK!G13 -> 0 | J7: 0 | K7: =BUD_MIESZK!G11 -> 24587.204 | L7: =BUD_MIESZK!G12 -> 0 | M7: =BUD_MIESZK!G14 -> 16527.303 | N7: =SUM(C7:M7) -> 58426.463
B8: Przemysł | C8: =PRZEM!G5 -> 5922 | D8: =PRZEM!G6 -> 34272.468 | E8: =PRZEM!G7 -> 67.532397 | F8: 0 | G8: 0 | H8: 0 | I8: 0 | J8: 0 | K8: 0 | L8: 0 | M8: 0 | N8: =SUM(C8:M8) -> 40262
B9: Oświetlenie publiczne | C9: =OSW!C5 -> 571 | D9: 0 | E9: 0 | F9: 0 | G9: 0 | H9: 0 | I9: 0 | J9: 0 | K9: 0 | L9: 0 | M9: 0 | N9: =SUM(C9:M9) -> 571
B10: Pojazdy gminne | C10: 0 | D10: 0 | E10: 0 | F10: 0 | G10: 0 | H10: =TR_GMIN!G7 -> 139.83446 | I10: =TR_GMIN!G8 -> 0 | J10: =TR_GMIN!G6 -> 0 | K10: 0 | L10: 0 | M10: 0 | N10: =SUM(C10:M10) -> 139.83446 | O10: =N10+N11 -> 445.98891
B11: Transport publiczny gminny | C11: =TR_PUBL!G5 -> 0 | D11: 0 | E11: 0 | F11: 0 | G11: 0 | H11: =TR_PUBL!G7 -> 306.15445 | I11: =TR_PUBL!G8 -> 0 | J11: =TR_PUBL!G6 -> 0 | K11: 0 | L11: 0 | M11: 0 | N11: =SUM(C11:M11) -> 306.15445
B12: Transport prywatny i komercyjny | C12: 0 | D12: 0 | E12: 0 | F12: 0 | G12: 0 | H12: =TR_PRYW!N12 -> 19034.831 | I12: =TR_PRYW!O12 -> 1458.5903 | J12: =TR_PRYW!M12 -> 6865.8635 | K12: 0 | L12: 0 | M12: 0 | N12: =SUM(C12:M12) -> 27359.285 | O12: =N5+N9+N10+N11 -> 3289.4473
B13: Gospodarka odpadami | C13: 0 | D13: 0 | E13: 0 | F13: 0 | G13: 0 | H13: 0 | I13: 0 | J13: 0 | K13: 0 | L13: 0 | M13: 0 | N13: =SUM(C13:M13) -> 0
B14: Gospodarka wodno-ściekowa | C14: 0 | D14: 0 | E14: 0 | F14: 0 | G14: 0 | H14: 0 | I14: 0 | J14: 0 | K14: 0 | L14: 0 | M14: 0 | N14: =SUM(C14:M14) -> 0
B15: SUMA | C15: =SUM(C5:C14) -> 15924.057 | D15: =SUM(D5:D14) -> 34272.468 | E15: =SUM(E5:E14) -> 37942.394 | F15: =SUM(F5:F14) -> 0 | G15: =SUM(G5:G14) -> 1299.8674 | H15: =SUM(H5:H14) -> 19480.82 | I15: =SUM(I5:I14) -> 1806.5868 | J15: =SUM(J5:J14) -> 6865.8635 | ... N15: =SUM(N5:N14) -> 164327.59
B17: Zastosowane wskaźniki emisji | C17: 0.812 | D17: 0.201 | E17: 0.198 | F17: 0 | G17: 0.276 | H17: 0.267 | I17: 0.227 | J17: 0.249 | K17: 0.341 | L17: 0.388 | M17: 0
B19: Emisja [Mg CO2] | C19: Energia elektryczna | D19: Gaz ziemny wysokometanowy | E19: Gaz ziemny zaazotowany | F19: Ciepło sieciowe | G19: Olej opałowy | H19: Olej napędowy | I19: LPG | J19: Benzyna | K19: Węgiel kamienny | L19: Węgiel brunanty | M19: Drewno | N19: SUMA
B20: Budynki, urządzenia i wyposażenie obiektów gminnych | C20: =C5*C$17 -> 195.73828 | D20: =D5*D$17 -> 0 | E20: =E5*E$17 -> 212.02371 | F20: =F5*F$17 -> 0 | G20: =G5*G$17 -> 181.63091 | H20: =H5*H$17 -> 0 | I20: =I5*I$17 -> 0 | J20: =J5*J$17 -> 0 | ... M20: =M5*M$17 -> 0 | N20: =SUM(C20:M20) -> 692.54252 | O20: =N20+N24+N25+N26 -> 1275.2736
B21: Budynki, urządzenia i wyposażenie obiektów pozostałych, niemieszkalnych | C21: =C6*C$17 -> 1603.7 | D21: =D6*D$17 -> 0 | E21: =E6*E$17 -> 5403.5905 | F21: =F6*F$17 -> 0 | G21: =G6*G$17 -> 16.008721 | H21: =H6*H$17 -> 0 | I21: =I6*I$17 -> 78.995212 | J21: =J6*J$17 -> 0 | ... M21: =M6*M$17 -> 0 | N21: =SUM(C21:M21) -> 8341.8976
B22: Budynki mieszkalne | C22: =C7*C$17 -> 5858.58 | D22: =D7*D$17 -> 0 | E22: =E7*E$17 -> 1883.6084 | F22: =F7*F$17 -> 0 | G22: =G7*G$17 -> 161.12377 | H22: =H7*H$17 -> 0 | I22: =I7*I$17 -> 0 | J22: =J7*J$17 -> 0 | ... M22: =M7*M$17 -> 0 | N22: =SUM(C22:M22) -> 16287.549
B23: Przemysł | C23: =C8*C$17 -> 4808.664 | D23: =D8*D$17 -> 6888.766 | E23: =E8*E$17 -> 13.371415 | F23: =F8*F$17 -> 0 | G23: =G8*G$17 -> 0 | H23: =H8*H$17 -> 0 | I23: =I8*I$17 -> 0 | J23: =J8*J$17 -> 0 | ... M23: =M8*M$17 -> 0 | N23: =SUM(C23:M23) -> 11710.801
B24: Oświetlenie publiczne | C24: =C9*C$17 -> 463.652 | D24: =D9*D$17 -> 0 | E24: =E9*E$17 -> 0 | F24: =F9*F$17 -> 0 | G24: =G9*G$17 -> 0 | H24: =H9*H$17 -> 0 | I24: =I9*I$17 -> 0 | J24: =J9*J$17 -> 0 | ... M24: =M9*M$17 -> 0 | N24: =SUM(C24:M24) -> 463.652
B25: Pojazdy gminne | C25: =C10*C$17 -> 0 | D25: =D10*D$17 -> 0 | E25: =E10*E$17 -> 0 | F25: =F10*F$17 -> 0 | G25: =G10*G$17 -> 0 | H25: =H10*H$17 -> 37.3358 | I25: =I10*I$17 -> 0 | J25: =J10*J$17 -> 0 | ... M25: =M10*M$17 -> 0 | N25: =SUM(C25:M25) -> 37.3358
B26: Transport publiczny gminny | C26: =C11*C$17 -> 0 | D26: =D11*D$17 -> 0 | E26: =E11*E$17 -> 0 | F26: =F11*F$17 -> 0 | G26: =G11*G$17 -> 0 | H26: =H11*H$17 -> 81.743238 | I26: =I11*I$17 -> 0 | J26: =J11*J$17 -> 0 | ... M26: =M11*M$17 -> 0 | N26: =SUM(C26:M26) -> 81.743238 | O26: =N26+N25 -> 119.07904
B27: Transport prywatny i komercyjny | C27: =C12*C$17 -> 0 | D27: =D12*D$17 -> 0 | E27: =E12*E$17 -> 0 | F27: =F12*F$17 -> 0 | G27: =G12*G$17 -> 0 | H27: =H12*H$17 -> 5082.3 | I27: =I12*I$17 -> 331.1 | J27: =J12*J$17 -> 1709.6 | ... M27: =M12*M$17 -> 0 | N27: =SUM(C27:M27) -> 7123
B28: Gospodarka odpadami | C28: =C13*C$17 -> 0 | D28: =D13*D$17 -> 0 | E28: =E13*E$17 -> 0 | F28: =F13*F$17 -> 0 | G28: =G13*G$17 -> 0 | H28: =H13*H$17 -> 0 | I28: =I13*I$17 -> 0 | J28: =J13*J$17 -> 0 | ... M28: =M13*M$17 -> 0 | N28: =SUM(C28:M28) -> 0
B29: Gospodarka wodno-ściekowa | C29: =C14*C$17 -> 0 | D29: =D14*D$17 -> 0 | E29: =E14*E$17 -> 0 | F29: =F14*F$17 -> 0 | G29: =G14*G$17 -> 0 | H29: =H14*H$17 -> 0 | I29: =I14*I$17 -> 0 | J29: =J14*J$17 -> 0 | ... M29: =M14*M$17 -> 0 | N29: =SUM(C29:M29) -> 0 | O29: Sprawdzenie | P29: =SUM(BUD_GMIN!I15+BUD_USLUG!I15+BUD_MIESZK!I15+PRZEM!I15+OSW!D5+TR_GMIN!I9+TR_PUBL!I9+TR_PRYW!J12) -> 44738.869
B30: SUMA | C30: =SUM(C20:C29) -> 12930.334 | D30: =SUM(D20:D29) -> 6888.766 | E30: =SUM(E20:E29) -> 7512.594 | F30: =SUM(F20:F29) -> 0 | G30: =SUM(G20:G29) -> 358.76341 | H30: =SUM(H20:H29) -> 5201.379 | I30: =SUM(I20:I29) -> 410.09521 | J30: =SUM(J20:J29) -> 1709.6 | ... N30: =SUM(N20:N29) -> 44738.521 | O30: =IF(N30-P30<1,"OK","BŁĄD") -> OK | P30: =SUM(BUD_GMIN!I15,BUD_USLUG!I15,BUD_MIESZK!I15,PRZEM!I15,OSW!D5,TR_GMIN!I9,TR_PUBL!I9,TR_PRYW!J12) -> 44738.869 | Q30: Suma z arkuszy
O31: =IF(O30="BŁĄD","Sprawdź dane na arkuszach obszarów - wskaźniki emisji i energii","")
B32: Liczba mieszkańców | C32: =OGOLNE!D18 -> 8166 | D32: os.
B33: Emisja CO2 na jednego mieszkańca | C33: =N30/C32 -> 5.4786335 | D33: Mg CO2/os
Q34: =K30*5.5% -> 534.98442 | R34: =K30-Q34 -> 9192.005

Sheet PROGNOZA
A1: Zmiana procentowa w perspektywie 2022-2027
A2: przemysł | B2: 0.1
A3: transport | B3: 0.12
A4: usługi | B4: 0.2
A5: gospodarstwa domowe | B5: 0.02
S7: Tabela 1. Emisja dwutlenku węgla w poszczególnych sektorach w roku bazowym (2013 r.) oraz w roku docelowym 2020 t CO2 | Y7: Tabela 2. Produkcja energii OZE w poszczególnych sektorach w roku bazowym (2013 r.) oraz w roku docelowym 2020 [MWh] | AH7: Tabela 2. Redukcja zużycia energii w poszczególnych sektorach w roku bazowym (2013 r.) oraz w roku docelowym 2020 [MWh]
A8: Zużycie energii [MWh] | B8: Energia elektryczna | C8: Gaz ziemny wysokometanowy | D8: Gaz ziemny zaazotowany | E8: Ciepło sieciowe | F8: Olej opałowy | G8: Olej napędowy | H8: LPG | I8: Benzyna | J8: Węgiel kamienny | K8: Węgiel brunanty | L8: Drewno | M8: SUMA | O8: Prognoza scenariusz 0 | P8: Prognoza scenariusz 1 | S8: Sektor | T8: Emisja w 2013r [tCO2] | U8: Scenariusz 0 dla roku 2020 [tCO2] | V8: Scenariusz docelowy [tCO2] | W8: Wymagana redukcja dla Scenariusza docelowego [tCO2] | Y8: Sektor | Z8: Produkcja energii z OZE w 2013r [MWh] | AA8: Udział OZE zapotrzebowaniu na energię w 2013 r | AB8: Produkcja energii z OZE w 2020r w Scenariuszu 1 [MWh] | AC8: Udział OZE w zapotrzebowaniu na energię w 2020 r w Scenariuszu 1 | AD8: Produkcja energii z OZE w 2020r w Scenariuszu docelowym [MWh] | AE8: Wzrost produkcji energii z OZE do 2020r w Scenariuszu docelowym [ MWh] | AF8: Udział OZE zapotrzebowaniu na energię w 2020 r w Scenariuszu docelowym | AH8: Sektor | AI8: Zużycie energii w 2013r [MWh] | AJ8: Zużycie energii w Scenariuszu 0 dla roku 2020 [MWh] | AK8: Zużycie energii w Scenariuszu docelowym dla roku 2020 [MWh] | AL8: Wymagana redukcja zużycia energii dla Scenariusza docelowego [MWh]
A9: Budynki, urządzenia i wyposażenie obiektów gminnych | B9: =RAPORT!C5 -> 241.057 | C9: =RAPORT!D5 -> 0 | D9: =RAPORT!E5 -> 1070.8268 | E9: =RAPORT!F5 -> 0 | F9: =RAPORT!G5 -> 658.08301 | G9: =RAPORT!H5 -> 0 | H9: =RAPORT!I5 -> 0 | I9: =RAPORT!J5 -> 0 | ... L9: =RAPORT!M5 -> 0 | M9: =SUM(B9:L9) -> 2272.4584 | O9: =M9+(M9*B$4) -> 2726.95 | P9: =O9*0.82 -> 2236.099 | S9: Budynki, urządzenia i wyposażenie obiektów gminnych | T9: =M24 -> 692.54252 | U9: =P24 -> 681.46184 | V9: =T9*0.8 -> 554.03402 | W9: =U9-V9 -> 127.42782 | Y9: Budynki, urządzenia i wyposażenie obiektów gminnych | Z9: =L9 -> 0 | AA9: =L9/M9 -> 0 | AB9: 0 | AC9: =AB9/P9 -> 0 | AD9: 450 | AE9: =AD9-AB9 -> 450 | AF9: =AD9/AK9 -> 0.24752929 | AH9: Budynki, urządzenia i wyposażenie obiektów gminnych | AI9: =M9 -> 2272.4584 | AJ9: =P9 -> 2236.099 | AK9: =AI9*0.8 -> 1817.9667 | AL9: =AJ9-AK9 -> 418.13234
A10: Budynki, urządzenia i wyposażenie obiektów pozostałych, niemieszkalnych | B10: =RAPORT!C6 -> 1975 | C10: =RAPORT!D6 -> 0 | D10: =RAPORT!E6 -> 27290.861 | E10: =RAPORT!F6 -> 0 | F10: =RAPORT!G6 -> 58.002614 | G10: =RAPORT!H6 -> 0 | H10: =RAPORT!I6 -> 347.99653 | I10: =RAPORT!J6 -> 0 | ... L10: =RAPORT!M6 -> 1683.3333 | M10: =SUM(B10:L10) -> 34990.394 | O10: =M10+(M10*B$4) -> 41988.472 | P10: =O10*0.82 -> 34430.547 | S10: Budynki, urządzenia i wyposażenie obiektów pozostałych, niemieszkalnych | T10: =M25 -> 8341.8976 | U10: =P25 -> 8208.4273 | V10: =T10*0.8 -> 6673.5181 | W10: =U10-V10 -> 1534.9092 | Y10: Budynki, urządzenia i wyposażenie obiektów pozostałych, niemieszkalnych | Z10: =L10 -> 1683.3333 | AA10: =L10/M10 -> 0.048108442 | AB10: =L10+(L10*B4) -> 2020 | AC10: =AB10/P10 -> 0.058668832 | AD10: =Z10*1.4 -> 2356.6667 | AE10: =AD10-AB10 -> 336.66667 | AF10: =AD10/AK10 -> 0.084189774 | AH10: Budynki, urządzenia i wyposażenie obiektów pozostałych, niemieszkalnych | AI10: =M10 -> 34990.394 | AJ10: =P10 -> 34430.547 | AK10: =AI10*0.8 -> 27992.315 | AL10: =AJ10-AK10 -> 6438.2324
A11: Budynki mieszkalne | B11: =RAPORT!C7 -> 7215 | C11: =RAPORT!D7 -> 0 | D11: =RAPORT!E7 -> 9513.1737 | E11: =RAPORT!F7 -> 0 | F11: =RAPORT!G7 -> 583.78179 | G11: =RAPORT!H7 -> 0 | H11: =RAPORT!I7 -> 0 | I11: =RAPORT!J7 -> 0 | ... L11: =RAPORT!M7 -> 16527.303 | M11: =SUM(B11:L11) -> 58426.463 | O11: =M11+(M11*B$5) -> 59594.992 | P11: =O11*0.82 -> 48867.893 | S11: Budynki mieszkalne | T11: =M26 -> 16287.549 | U11: =P26 -> 13622.906 | V11: =T11*0.8 -> 13030.039 | W11: =U11-V11 -> 592.86677 | Y11: Budynki mieszkalne | Z11: =L11 -> 16527.303 | AA11: =L11/M11 -> 0.28287359 | AB11: =L11+(L11*B5) -> 16857.849 | AC11: =AB11/P11 -> 0.34496779 | AD11: =Z11*1.37 -> 22642.405 | AE11: =AD11-AB11 -> 5784.5561 | AF11: =AD11/AK11 -> 0.48442102 | AH11: Budynki mieszkalne | AI11: =M11 -> 58426.463 | AJ11: =P11 -> 48867.893 | AK11: =AI11*0.8 -> 46741.17 | AL11: =AJ11-AK11 -> 2126.7232
A12: Przemysł | B12: =RAPORT!C8 -> 5922 | C12: =RAPORT!D8 -> 34272.468 | D12: =RAPORT!E8 -> 67.532397 | E12: =RAPORT!F8 -> 0 | F12: =RAPORT!G8 -> 0 | G12: =RAPORT!H8 -> 0 | H12: =RAPORT!I8 -> 0 | I12: =RAPORT!J8 -> 0 | ... L12: =RAPORT!M8 -> 0 | M12: =SUM(B12:L12) -> 40262 | O12: =M12+(M12*B$2) -> 44288.2 | P12: =O12*0.82 -> 36316.324 | S12: Przemysł | T12: =M27 -> 11710.801 | U12: =P27 -> 10563.143 | V12: =T12*0.8 -> 9368.6411 | W12: =U12-V12 -> 1194.5017 | Y12: Przemysł | Z12: =L12 -> 0 | AA12: =L12/M12 -> 0 | AB12: 0 | AC12: =AB12/P12 -> 0 | AD12: 680 | AE12: =AD12-AB12 -> 680 | AF12: =AD12/AK12 -> 0.021111718 | AH12: Przemysł | AI12: =M12 -> 40262 | AJ12: =P12 -> 36316.324 | AK12: =AI12*0.8 -> 32209.6 | AL12: =AJ12-AK12 -> 4106.724
A13: Oświetlenie publiczne | B13: =RAPORT!C9 -> 571 | C13: =RAPORT!D9 -> 0 | D13: =RAPORT!E9 -> 0 | E13: =RAPORT!F9 -> 0 | F13: =RAPORT!G9 -> 0 | G13: =RAPORT!H9 -> 0 | H13: =RAPORT!I9 -> 0 | I13: =RAPORT!J9 -> 0 | ... L13: =RAPORT!M9 -> 0 | M13: =SUM(B13:L13) -> 571 | O13: =M13+(M13*B$4) -> 685.2 | P13: =O13*0.82 -> 561.864 | S13: Oświetlenie publiczne | T13: =M28 -> 463.652 | U13: =P28 -> 456.23357 | V13: =T13*0.8 -> 370.9216 | W13: =U13-V13 -> 85.311968 | Y13: Oświetlenie publiczne | Z13: =L13 -> 0 | AA13: =L13/M13 -> 0 | AB13: 0 | AC13: =AB13/P13 -> 0 | AD13: 520 | AE13: =AD13-AB13 -> 520 | AF13: =AD13/AK13 -> 1.1383538 | AH13: Oświetlenie publiczne | AI13: =M13 -> 571 | AJ13: =P13 -> 561.864 | AK13: =AI13*0.8 -> 456.8 | AL13: =AJ13-AK13 -> 105.064
A14: Pojazdy gminne | B14: =RAPORT!C10 -> 0 | C14: =RAPORT!D10 -> 0 | D14: =RAPORT!E10 -> 0 | E14: =RAPORT!F10 -> 0 | F14: =RAPORT!G10 -> 0 | G14: =RAPORT!H10 -> 139.83446 | H14: =RAPORT!I10 -> 0 | I14: =RAPORT!J10 -> 0 | ... L14: =RAPORT!M10 -> 0 | M14: =SUM(B14:L14) -> 139.83446 | O14: =M14+(M14*B$3) -> 156.61459 | P14: =O14*0.82 -> 128.42396 | S14: Pojazdy gminne | T14: =M29 -> 37.3358 | U14: =P29 -> 34.289198 | V14: =T14*0.8 -> 29.86864 | W14: =U14-V14 -> 4.4205587 | Y14: Pojazdy gminne | Z14: =L14 -> 0 | AA14: =L14/M14 -> 0 | AB14: 0 | AC14: =AB14/P14 -> 0 | AE14: =AD14-AB14 -> 0 | AF14: =AD14/AK14 -> 0 | AH14: Pojazdy gminne | AI14: =M14 -> 139.83446 | AJ14: =P14 -> 128.42396 | AK14: =AI14*0.8 -> 111.86756 | AL14: =AJ14-AK14 -> 16.5564
A15: Transport publiczny gminny | B15: =RAPORT!C11 -> 0 | C15: =RAPORT!D11 -> 0 | D15: =RAPORT!E11 -> 0 | E15: =RAPORT!F11 -> 0 | F15: =RAPORT!G11 -> 0 | G15: =RAPORT!H11 -> 306.15445 | H15: =RAPORT!I11 -> 0 | I15: =RAPORT!J11 -> 0 | ... L15: =RAPORT!M11 -> 0 | M15: =SUM(B15:L15) -> 306.15445 | O15: =M15+(M15*B$3) -> 342.89298 | P15: =O15*0.82 -> 281.17225 | S15: Transport publiczny gminny | T15: =M30 -> 81.743238 | U15: =P30 -> 75.07299 | V15: =T15*0.8 -> 65.394591 | W15: =U15-V15 -> 9.6783994 | Y15: Transport publiczny gminny | Z15: =L15 -> 0 | AA15: =L15/M15 -> 0 | AB15: 0 | AC15: =AB15/P15 -> 0 | AE15: =AD15-AB15 -> 0 | AF15: =AD15/AK15 -> 0 | AH15: Transport publiczny gminny | AI15: =M15 -> 306.15445 | AJ15: =P15 -> 281.17225 | AK15: =AI15*0.8 -> 244.92356 | AL15: =AJ15-AK15 -> 36.248687
A16: Transport prywatny i komercyjny | B16: =RAPORT!C12 -> 0 | C16: =RAPORT!D12 -> 0 | D16: =RAPORT!E12 -> 0 | E16: =RAPORT!F12 -> 0 | F16: =RAPORT!G12 -> 0 | G16: =RAPORT!H12 -> 19034.831 | H16: =RAPORT!I12 -> 1458.5903 | I16: =RAPORT!J12 -> 6865.8635 | ... L16: =RAPORT!M12 -> 0 | M16: =SUM(B16:L16) -> 27359.285 | O16: =M16+(M16*B$3) -> 30642.399 | P16: =O16*0.82 -> 25126.768 | S16: Transport prywatny i komercyjny | T16: =M31 -> 7123 | U16: =P31 -> 6541.7632 | V16: =T16*0.8 -> 5698.4 | W16: =U16-V16 -> 843.3632 | Y16: Transport prywatny i komercyjny | Z16: =L16 -> 0 | AA16: =L16/M16 -> 0 | AB16: 0 | AC16: =AB16/P16 -> 0 | AE16: =AD16-AB16 -> 0 | AF16: =AD16/AK16 -> 0 | AH16: Transport prywatny i komercyjny | AI16: =M16 -> 27359.285 | AJ16: =P16 -> 25126.768 | AK16: =AI16*0.8 -> 21887.428 | AL16: =AJ16-AK16 -> 3239.3394
A17: Gospodarka odpadami | B17: =RAPORT!C13 -> 0 | C17: =RAPORT!D13 -> 0 | D17: =RAPORT!E13 -> 0 | E17: =RAPORT!F13 -> 0 | F17: =RAPORT!G13 -> 0 | G17: =RAPORT!H13 -> 0 | H17: =RAPORT!I13 -> 0 | I17: =RAPORT!J13 -> 0 | ... L17: =RAPORT!M13 -> 0 | M17: =SUM(B17:L17) -> 0 | P17: =O17*0.82 -> 0 | S17: Razem | T17: =SUM(T9:T16) -> 44738.521 | U17: =SUM(U9:U16) -> 40183.297 | V17: =SUM(V9:V16) -> 35790.817 | W17: =SUM(W9:W16) -> 4392.4796 | Y17: Razem | Z17: =SUM(Z9:Z16) -> 18210.636 | AA17: =Z17/M19 -> 0.11081911 | AB17: =SUM(AB9:AB16) -> 18877.849 | AC17: =AB17/P19 -> 0.12759693 | AD17: =SUM(AD9:AD16) -> 26649.072 | AE17: =SUM(AE9:AE16) -> 7771.2228 | AF17: =AD17/AK17 -> 0.20271301 | AH17: Razem | AI17: =SUM(AI9:AI16) -> 164327.59 | AJ17: =SUM(AJ9:AJ16) -> 147949.09 | AK17: =SUM(AK9:AK16) -> 131462.07 | AL17: =SUM(AL9:AL16) -> 16487.02
A18: Gospodarka wodno-ściekowa | B18: =RAPORT!C14 -> 0 | C18: =RAPORT!D14 -> 0 | D18: =RAPORT!E14 -> 0 | E18: =RAPORT!F14 -> 0 | F18: =RAPORT!G14 -> 0 | G18: =RAPORT!H14 -> 0 | H18: =RAPORT!I14 -> 0 | I18: =RAPORT!J14 -> 0 | ... L18: =RAPORT!M14 -> 0 | M18: =SUM(B18:L18) -> 0 | P18: =O18*0.82 -> 0 | S18: Dynamika emisji | U18: =(U17-T17)/T17 -> -0.10181885 | V18: =(V17-T17)/T17 -> -0.2 | Y18: Dynamika produkcji | AB18: =(AB17-Z17)/Z17 -> 0.036638628 | AD18: =AD17/AK17 -> 0.20271301 | AH18: Dynamika emisji | AJ18: =(AJ17-AI17)/AI17 -> -0.099669796 | AK18: =(AK17-AI17)/AI17 -> -0.2
A19: SUMA | B19: =SUM(B9:B18) -> 15924.057 | C19: =SUM(C9:C18) -> 34272.468 | D19: =SUM(D9:D18) -> 37942.394 | E19: =SUM(E9:E18) -> 0 | F19: =SUM(F9:F18) -> 1299.8674 | G19: =SUM(G9:G18) -> 19480.82 | H19: =SUM(H9:H18) -> 1806.5868 | I19: =SUM(I9:I18) -> 6865.8635 | ... M19: =SUM(M9:M18) -> 164327.59 | O19: =SUM(O9:O18) -> 180425.72 | P19: =SUM(P9:P18) -> 147949.09
A21: Zastosowane wskaźniki emisji | B21: 0.812 | C21: 0.201 | D21: 0.198 | E21: 0 | F21: 0.276 | G21: 0.267 | H21: 0.227 | I21: 0.249 | J21: 0.341 | K21: 0.388 | L21: 0
A23: Emisja [Mg CO2] | B23: Energia elektryczna | C23: Gaz ziemny wysokometanowy | D23: Gaz ziemny zaazotowany | E23: Ciepło sieciowe | F23: Olej opałowy | G23: Olej napędowy | H23: LPG | I23: Benzyna | J23: Węgiel kamienny | K23: Węgiel brunanty | L23: Drewno | M23: SUMA | O23: Prognoza scenariusz bazowy | P23: Prognoza scenariusz 1
A24: Budynki, urządzenia i wyposażenie obiektów gminnych | B24: =RAPORT!C20 -> 195.73828 | C24: =RAPORT!D20 -> 0 | D24: =RAPORT!E20 -> 212.02371 | E24: =RAPORT!F20 -> 0 | F24: =RAPORT!G20 -> 181.63091 | G24: =RAPORT!H20 -> 0 | H24: =RAPORT!I20 -> 0 | I24: =RAPORT!J20 -> 0 | ... L24: =RAPORT!M20 -> 0 | M24: =SUM(B24:L24) -> 692.54252 | O24: =M24+(M24*B$4) -> 831.05103 | P24: =O24*0.82 -> 681.46184
A25: Budynki, urządzenia i wyposażenie obiektów pozostałych, niemieszkalnych | B25: =RAPORT!C21 -> 1603.7 | C25: =RAPORT!D21 -> 0 | D25: =RAPORT!E21 -> 5403.5905 | E25: =RAPORT!F21 -> 0 | F25: =RAPORT!G21 -> 16.008721 | G25: =RAPORT!H21 -> 0 | H25: =RAPORT!I21 -> 78.995212 | I25: =RAPORT!J21 -> 0 | ... L25: =RAPORT!M21 -> 0 | M25: =SUM(B25:L25) -> 8341.8976 | O25: =M25+(M25*B$4) -> 10010.277 | P25: =O25*0.82 -> 8208.4273
A26: Budynki mieszkalne | B26: =RAPORT!C22 -> 5858.58 | C26: =RAPORT!D22 -> 0 | D26: =RAPORT!E22 -> 1883.6084 | E26: =RAPORT!F22 -> 0 | F26: =RAPORT!G22 -> 161.12377 | G26: =RAPORT!H22 -> 0 | H26: =RAPORT!I22 -> 0 | I26: =RAPORT!J22 -> 0 | ... L26: =RAPORT!M22 -> 0 | M26: =SUM(B26:L26) -> 16287.549 | O26: =M26+(M26*B$5) -> 16613.3 | P26: =O26*0.82 -> 13622.906
A27: Przemysł | B27: =RAPORT!C23 -> 4808.664 | C27: =RAPORT!D23 -> 6888.766 | D27: =RAPORT!E23 -> 13.371415 | E27: =RAPORT!F23 -> 0 | F27: =RAPORT!G23 -> 0 | G27: =RAPORT!H23 -> 0 | H27: =RAPORT!I23 -> 0 | I27: =RAPORT!J23 -> 0 | ... L27: =RAPORT!M23 -> 0 | M27: =SUM(B27:L27) -> 11710.801 | O27: =M27+(M27*B$2) -> 12881.882 | P27: =O27*0.82 -> 10563.143
A28: Oświetlenie publiczne | B28: =RAPORT!C24 -> 463.652 | C28: =RAPORT!D24 -> 0 | D28: =RAPORT!E24 -> 0 | E28: =RAPORT!F24 -> 0 | F28: =RAPORT!G24 -> 0 | G28: =RAPORT!H24 -> 0 | H28: =RAPORT!I24 -> 0 | I28: =RAPORT!J24 -> 0 | ... L28: =RAPORT!M24 -> 0 | M28: =SUM(B28:L28) -> 463.652 | O28: =M28+(M28*B$4) -> 556.3824 | P28: =O28*0.82 -> 456.23357
A29: Pojazdy gminne | B29: =RAPORT!C25 -> 0 | C29: =RAPORT!D25 -> 0 | D29: =RAPORT!E25 -> 0 | E29: =RAPORT!F25 -> 0 | F29: =RAPORT!G25 -> 0 | G29: =RAPORT!H25 -> 37.3358 | H29: =RAPORT!I25 -> 0 | I29: =RAPORT!J25 -> 0 | ... L29: =RAPORT!M25 -> 0 | M29: =SUM(B29:L29) -> 37.3358 | O29: =M29+(M29*B$3) -> 41.816096 | P29: =O29*0.82 -> 34.289198
A30: Transport publiczny gminny | B30: =RAPORT!C26 -> 0 | C30: =RAPORT!D26 -> 0 | D30: =RAPORT!E26 -> 0 | E30: =RAPORT!F26 -> 0 | F30: =RAPORT!G26 -> 0 | G30: =RAPORT!H26 -> 81.743238 | H30: =RAPORT!I26 -> 0 | I30: =RAPORT!J26 -> 0 | ... L30: =RAPORT!M26 -> 0 | M30: =SUM(B30:L30) -> 81.743238 | O30: =M30+(M30*B$3) -> 91.552427 | P30: =O30*0.82 -> 75.07299
A31: Transport prywatny i komercyjny | B31: =RAPORT!C27 -> 0 | C31: =RAPORT!D27 -> 0 | D31: =RAPORT!E27 -> 0 | E31: =RAPORT!F27 -> 0 | F31: =RAPORT!G27 -> 0 | G31: =RAPORT!H27 -> 5082.3 | H31: =RAPORT!I27 -> 331.1 | I31: =RAPORT!J27 -> 1709.6 | ... L31: =RAPORT!M27 -> 0 | M31: =SUM(B31:L31) -> 7123 | O31: =M31+(M31*B$3) -> 7977.76 | P31: =O31*0.82 -> 6541.7632
A32: Gospodarka odpadami | B32: =RAPORT!C28 -> 0 | C32: =RAPORT!D28 -> 0 | D32: =RAPORT!E28 -> 0 | E32: =RAPORT!F28 -> 0 | F32: =RAPORT!G28 -> 0 | G32: =RAPORT!H28 -> 0 | H32: =RAPORT!I28 -> 0 | I32: =RAPORT!J28 -> 0 | ... L32: =RAPORT!M28 -> 0 | M32: =SUM(B32:L32) -> 0 | P32: =O32*0.82 -> 0
A33: Gospodarka wodno-ściekowa | B33: =RAPORT!C29 -> 0 | C33: =RAPORT!D29 -> 0 | D33: =RAPORT!E29 -> 0 | E33: =RAPORT!F29 -> 0 | F33: =RAPORT!G29 -> 0 | G33: =RAPORT!H29 -> 0 | H33: =RAPORT!I29 -> 0 | I33: =RAPORT!J29 -> 0 | ... L33: =RAPORT!M29 -> 0 | M33: =SUM(B33:L33) -> 0 | P33: =O33*0.82 -> 0
A34: SUMA | B34: =SUM(B24:B33) -> 12930.334 | C34: =SUM(C24:C33) -> 6888.766 | D34: =SUM(D24:D33) -> 7512.594 | E34: =SUM(E24:E33) -> 0 | F34: =SUM(F24:F33) -> 358.76341 | G34: =SUM(G24:G33) -> 5201.379 | H34: =SUM(H24:H33) -> 410.09521 | I34: =SUM(I24:I33) -> 1709.6 | ... M34: =SUM(M24:M33) -> 44738.521 | O34: =SUM(O24:O33) -> 49004.02 | P34: =SUM(P24:P33) -> 40183.297

Sheet OGOLNE
A1: OGÓLNA CHARAKTERYSTYKA GMINY
B2: Źródło: Bank Danych Lokalnych GUS (2020)
B3: 1.Gmina | D3: Święciechowa
B4: 2. Liczba sołectw | D4: 12
B5: 3. Charakter | D5: Gmina Wiejska
B6: 4. Sołectwa w gminie | D6: Długie Nowe
D7: Długie Stare
D8: Gołanice
D9: Henrykowo
D10: Krzycko Małe
D11: Lasocice
D12: Niechłód
D13: Piotrowice
D14: Przybyszewo
D15: Strzyżewice
D16: Święciechowa
D17: Trzebiny
B18: 5. Liczba mieszkańców | C18: gmina | D18: 8166
C19: miasto | D19: -
C20: obszar wiejski | D20: -
B21: 6. Liczba mieszkańców | C21: 2009 | D21: 7326
C22: 2010 | D22: 7455
C23: 2011 | D23: 7505
C24: 2012 | D24: 7549
C25: 2013 | D25: 7661
B26: 7. Liczba podmiotów gospodarczych | C26: 2009 | D26: 697
C27: 2010 | D27: 739
C28: 2011 | D28: 745
C29: 2012 | D29: 758
C30: 2013 | D30: 789
B31: 8. Gęstość zaludnienia (ludność na 1 km2) | C31: gmina | D31: 61
C32: miasto | D32: -
C33: obszar wiejski | D33: -
B34: 9. Powierzchnia gminy (ha) | D34: 13494
B35: 10. Kierunki wykorzystania powierzchni | C35: ogółem (ha), w tym: | D35: 13494
C36: użytki rolne (ha) | D36: 8131
C37: grunty leśne (ha) | D37: 4604
C38: grunty pod wodami (ha) | D38: 73
C39: grunty zabudowane (ha) | D39: 630
C40: użytki ekologiczne(ha) | D40: 0
...

Sheet BUD_GMIN
A1: BUDYNKI GMINNE
A2: Charakterystyka, zużycie paliw oraz emisja CO2
B4: Rodzaj paliwa | C4: Zużycie paliwa | D4: Jednostka | E4: Wartość opałowa | F4: Jednostka | G4: Całkowita energia (MWh) | H4: Wskaźnik emisji (Mg CO2/MWh) | I4: Całkowita emisja (Mg CO2) | J4: Udział w emisji | K4: UWAGI
B5: Energia elektryczna | C5: =SUM(R19:R45)/1000 -> 241.057 | D5: MWh | E5: 1 | F5: MWh | G5: =C5*E5 -> 241.057 | H5: 0.812 | I5: =H5*G5 -> 195.73828 | J5: =I5/$I$15 -> 0.28263721
B6: Gaz ziemny wysokometanowy | C6: 0 | D6: m³ | E6: 36.09 | F6: MJ/m³ | G6: =C6*E6/3600 -> 0 | H6: 0.201 | I6: =H6*G6 -> 0 | J6: =I6/$I$15 -> 0
B7: Gaz ziemny zaazotowany | C7: =SUM(T19:T45) -> 122225 | D7: m³ | E7: 31.54 | F7: MJ/m³ | G7: =C7*E7/3600 -> 1070.8268 | H7: 0.198 | I7: =H7*G7 -> 212.02371 | J7: =I7/$I$15 -> 0.30615262
B8: Ciepło sieciowe | C8: =SUM(S19:S44)/3.6 -> 0 | D8: MWh | E8: 1 | F8: MWh | G8: =C8*E8 -> 0 | H8: 0 | I8: =H8*G8 -> 0 | J8: =I8/$I$15 -> 0
B9: Olej opałowy | C9: =SUM(V19:V45) -> 65499 | D9: l | E9: 36.17 | F9: MJ/l | G9: =C9*E9/3600 -> 658.08301 | H9: 0.276 | I9: =H9*G9 -> 181.63091 | J9: =I9/$I$15 -> 0.2622668
B10: Olej napędowy | C10: 0 | D10: l | E10: 35.96 | F10: MJ/l | G10: =C10*E10/3600 -> 0 | H10: 0.267 | I10: =H10*G10 -> 0 | J10: =I10/$I$15 -> 0
B11: Węgiel kamienny | C11: =SUM(W19:W45) -> 47.93 | D11: Mg | E11: 22.72 | F11: GJ/Mg | G11: =C11*E11/3.6 -> 302.49156 | H11: 0.341 | I11: =H11*G11 -> 103.14962 | J11: =I11/$I$15 -> 0.14894337
B12: Węgiel brunanty | C12: 0 | D12: Mg | E12: 8.76 | F12: GJ/Mg | G12: =C12*E12/3.6 -> 0 | H12: 0.388 | I12: =H12*G12 -> 0 | J12: =I12/$I$15 -> 0
B13: LPG | C13: 0 | D13: l | E13: 26.5 | F13: MJ/l | G13: =C13*E13/3600 -> 0 | H13: 0.227 | I13: =H13*G13 -> 0 | J13: =I13/$I$15 -> 0
B14: Drewno | C14: =SUM(Z19:Z44) -> 0 | D14: Mg | E14: 20 | F14: GJ/Mg | G14: =C14*E14/3.6 -> 0 | H14: 0 | I14: =H14*G14 -> 0 | J14: =I14/$I$15 -> 0
B15: SUMA | G15: =SUM(G5:G14) -> 2272.4584 | I15: =SUM(I5:I14) -> 692.54252
B17: Adres | D17: Podmiot odpowiedzialny | E17: Klasyfikacja obiektu | F17: Średnia liczba osób przebywających w budynku | G17: Wykorzystanie budynku w ciągu roku | H17: Powierzchnia użytkowa obiektu | I17: Kubatura obiektu | J17: Rok budowy | K17: Zapotrzebowanie ciepła [kW lub inna właściwa jednostka] | N17: Stopień zaawansowania termomodernizacji (ocena szacunkowa) | R17: Zużycie energii w obiekcie (całkowite roczne zużycie na wszystkie potrzby budynku: urządzenia, ogrzewanie, technologia) | AA17: Czy w budynku wykorzystywane są odnawialne źródła energii (OZE)?
B18: [ulica] | C18: [nr bud.] | D18: [nazwa jednostki] | E18: [wg PKOB] | F18: [ilość osób] | G18: [ilość miesięcy] | H18: [m2] | I18: [m3] | J18: [rok lub okres] | K18: CO | L18: C.W.U. | M18: went-klima | N18: ściany [%] | O18: stropy [%] | P18: stolarka [%] | Q18: instalacja c.o. | R18: Energia elektryczna [kWh/rok] | S18: Ciepło z sieci [GJ/rok] | T18: Gaz ziemny zaazotowany [m3/rok] | U18: Gaz płynny [L/rok] | V18: Olej opałowy [L/rok] | W18: Węgiel kamienny [t/rok] | X18: Węgiel brunatny [t/rok] | Y18: Inne paliwa kopalne [t/rok] | Z18: Drewno/inna biomasa [t/rok]
B19: Urząd Gminy ul.Ułańska | C19: 4 | D19: Gmina Święciechowa | E19: Budynki biurowe | F19: 20 | G19: 12 | H19: 450 | J19: 1974 | M19: =-M20 -> 0 | R19: 29016 | S19: 0 | T19: 0 | U19: 0 | V19: 9868 | W19: 0 | X19: =-T19-W20 -> 0 | Y19: 0 | Z19: 0 | AA19: NIE
B20: Urząd Gminy ul. Rynek | C20: 14a | D20: Gmina Święciechowa | E20: Budynki biurowe | F20: 3 | G20: 12 | H20: 350 | J20: 1974 | M20: 0 | R20: 11542 | S20: 0 | T20: 0 | U20: 0 | V20: 14267 | W20: 0 | X20: 0 | Y20: 0 | Z20: 0 | AA20: NIE
B21: Pawilon ul. Ułańska | C21: 34 | D21: Gmina Święciechowa | E21: Budynki handlowo -usługowe | F21: 10 | G21: 12 | H21: 480 | M21: 0 | P21: 1 | R21: 2393 | S21: 0 | T21: 0 | U21: 0 | V21: 10612 | W21: 0 | X21: 0 | Y21: 0 | Z21: 0 | AA21: NIE
B22: GOPS ul. Strzelecka | C22: 7 | D22: Gmina Święciechowa | E22: Budynki biurowe | F22: 8 | G22: 12 | H22: 139 | M22: 0 | P22: 1 | R22: 5271 | S22: 0 | T22: 4918 | U22: 0 | V22: 0 | W22: 0 | X22: 0 | Y22: 0 | Z22: 0 | AA22: NIE
B23: Bar przy plaży Gołanice | D23: Gmina Święciechowa | E23: Budynki handlowo -usługowe | F23: 2 | G23: 4 | H23: 2700 | S23: 0 | T23: 0 | U23: 0 | V23: 0 | W23: 0 | X23: 0 | Y23: 0 | Z23: 0 | AA23: NIE
B24: Sala Święciechowa ul. Strzelecka | C24: 6 | D24: Gmina Święciechowa | E24: Ogólnodostępne obiekty kulturalne | G24: 12 | H24: 1420 | J24: 1987 | P24: 1 | R24: 23077 | S24: 0 | T24: 26345 | U24: 0 | V24: 0 | W24: 0 | X24: 0 | Y24: 0 | Z24: 0 | AA24: NIE
B25: Sala Długie Nowe | D25: Gmina Święciechowa | E25: Ogólnodostępne obiekty kulturalne | G25: 12 | H25: 230 | J25: 1965 | P25: 1 | R25: 2269 | S25: 0 | T25: 0 | U25: 0 | V25: 0 | W25: 0 | X25: 0 | Y25: 0 | Z25: 0 | AA25: NIE
B26: Sala Długie Stare ul. Wiosenna | D26: Gmina Święciechowa | E26: Ogólnodostępne obiekty kulturalne | G26: 12 | H26: 430 | J26: 1900 | R26: 5212 | S26: 0 | T26: 0 | U26: 0 | V26: 0 | W26: 0 | X26: 0 | Y26: 0 | Z26: 0 | AA26: NIE
B27: Sala Lasocice ul. Święciechowska | C27: 1 | D27: Gmina Święciechowa | E27: Ogólnodostępne obiekty kulturalne | G27: 12 | H27: 320 | J27: 1977 | R27: 2457 | S27: 0 | T27: 0 | U27: 0 | V27: 0 | W27: 9.9 | X27: 0 | Y27: 0 | Z27: 0 | AA27: NIE
B28: Sala Przybyszewo ul. Wiejska | D28: Gmina Święciechowa | E28: Ogólnodostępne obiekty kulturalne | G28: 12 | H28: 190 | J28: 1987 | P28: 1 | R28: 3489 | S28: 0 | T28: 0 | U28: 0 | V28: 0 | W28: 0 | X28: 0 | Y28: 0 | Z28: 0 | AA28: NIE
B29: Sala Niechłód | C29: 24 | D29: Gmina Święciechowa | E29: Ogólnodostępne obiekty kulturalne | G29: 12 | H29: 380 | R29: 5629 | S29: 0 | T29: 0 | U29: 0 | V29: 18443 | W29: 0 | X29: 0 | Y29: 0 | Z29: 0 | AA29: NIE
B30: Sala Piotrowice | D30: Gmina Święciechowa | E30: Ogólnodostępne obiekty kulturalne | G30: 12 | H30: 120 | J30: 1965 | R30: 5629 | S30: 0 | T30: 0 | U30: 0 | V30: 0 | W30: 0 | X30: 0 | Y30: 0 | Z30: 0 | AA30: NIE
B31: Sala Trzebiny | D31: Gmina Święciechowa | E31: Ogólnodostępne obiekty kulturalne | G31: 12 | H31: 62 | J31: 2001 | R31: 3404 | S31: 0 | T31: 0 | U31: 0 | V31: 0 | W31: 0 | X31: 0 | Y31: 0 | Z31: 0 | AA31: NIE
B32: Sala Krzycko Male ul. Główna | D32: Gmina Święciechowa | E32: Ogólnodostępne obiekty kulturalne | G32: 12 | H32: 310 | J32: 1990 | R32: 1537 | S32: 0 | T32: 0 | U32: 0 | V32: 0 | W32: 4.3 | X32: 0 | Y32: 0 | Z32: 0 | AA32: NIE
B33: Sala Gołanice ul. Stawowa | D33: Gmina Święciechowa | E33: Ogólnodostępne obiekty kulturalne | G33: 12 | H33: 320 | J33: 1978 | R33: 630 | S33: 0 | T33: 0 | U33: 0 | V33: 0 | W33: 7.13 | X33: 0 | Y33: 0 | Z33: 0 | AA33: NIE
B34: Sala Henrykowo | D34: Gmina Święciechowa | E34: Ogólnodostępne obiekty kulturalne | G34: 12 | H34: 200 | J34: 1850 | R34: 166 | S34: 0 | T34: 0 | U34: 0 | V34: 0 | W34: 4.7 | X34: 0 | Y34: 0 | Z34: 0 | AA34: NIE
B35: Sala Strzyżewice ul. Lotnicza | D35: Gmina Święciechowa | E35: Ogólnodostępne obiekty kulturalne | G35: 12 | H35: 130 | J35: 1994 | R35: 1143 | S35: 0 | T35: 0 | U35: 0 | V35: 0 | W35: 0 | X35: 0 | Y35: 0 | Z35: 0 | AA35: NIE
B36: SOK ul. Śmigielska | D36: Gmina Święciechowa | E36: Ogólnodostępne obiekty kulturalne | F36: 20 | G36: 12 | H36: 348 | J36: 1981 | M36: 0 | O36: 1 | P36: 1 | Q36: 0 | R36: 6799 | S36: 0 | T36: 8561 | U36: 0 | V36: 0 | W36: 0 | X36: 0 | Y36: 0 | Z36: 0 | AA36: NIE
B37: Szkoła Podstawowa w Święciechowie ul Szkolna | C37: 15 | D37: Gmina Święciechowa | E37: Budynki szkół i instytucji badawczych | F37: 390 | G37: 10 | N37: 1 | O37: 1 | P37: 1 | R37: 24861 | S37: 0 | T37: 39946 | U37: 0 | V37: 0 | W37: 0 | X37: 0 | Y37: 0 | Z37: 0 | AA37: TAK - wypełnić arkusz OZE
B38: Szkoła Podstawowa w Długiem Starem ul Leszczyńska | C38: 1 | D38: Gmina Święciechowa | E38: Budynki szkół i instytucji badawczych | F38: 143 | G38: 10 | H38: 881 | J38: 1993 | R38: 7605 | S38: 0 | T38: 0 | U38: 0 | V38: 0 | W38: 17 | X38: 0 | Y38: 0 | Z38: 0 | AA38: NIE
B39: Szkoła Podstawowa w Lasocicach ul Szkolna | C39: 13 | D39: Gmina Święciechowa | E39: Budynki szkół i instytucji badawczych | F39: 158 | G39: 10 | R39: 14801 | S39: 0 | T39: 0 | U39: 0 | V39: 0 | W39: 4.9 | X39: 0 | Y39: 0 | Z39: 0 | AA39: NIE
B40: Klub dziecięcy i Klub Seniora w Święciechowie ul. Kościelna | C40: 4 | D40: Gmina Święciechowa | E40: Budynki szkół i instytucji badawczych | F40: 110 | G40: 11 | J40: 1900 | P40: 1 | R40: 6234 | S40: 0 | T40: 0 | U40: 0 | V40: 12309 | W40: 0 | X40: 0 | Y40: 0 | Z40: 0 | AA40: NIE
B41: Przedszkole w Długiem Starem ul. Wschowska | D41: Gmina Święciechowa | E41: Budynki szkół i instytucji badawczych | F41: 46 | G41: 10 | J41: 1900 | P41: 1 | S41: 0 | T41: 0 | U41: 0 | V41: 0 | W41: 0 | X41: 0 | Y41: 0 | Z41: 0 | AA41: NIE
B42: Przedszkole w Niechłodzie | D42: Gmina Święciechowa | E42: Budynki szkół i instytucji badawczych | F42: 25 | G42: 10 | H42: 70
...

Sheet BUD_USLUG
A1: BUDYNKI USŁUGOWE
A2: Struktura zużycia paliw oraz emisja CO2
B4: Rodzaj paliwa | C4: Zużycie paliwa | D4: Jednostka | E4: Wartość opałowa | F4: Jednostka | G4: Całkowita energia (MWh) | H4: Wskaźnik emisji (Mg CO2/MWh) | I4: Całkowita emisja (Mg CO2) | J4: Udział w emisji | K4: UWAGI
B5: Energia elektryczna | C5: 1975 | D5: MWh | E5: 1 | F5: MWh | G5: =C5*E5 -> 1975 | H5: 0.812 | I5: =H5*G5 -> 1603.7 | J5: =I5/$I$15 -> 0.19224643 | K5: ENEA Operator sp. z o.o. taryfa G
B6: Gaz ziemny wysokometanowy | C6: 0 | D6: m³ | E6: 36.09 | F6: MJ/m³ | G6: =C6*E6/3600 -> 0 | H6: 0.201 | I6: =H6*G6 -> 0 | J6: =I6/$I$15 -> 0 | K6: PGNiG
B7: Gaz ziemny zaazotowany | C7: =SUM(DANE_GAZ!G75:G77)*1000 -> 3115000 | D7: m³ | E7: 31.54 | F7: MJ/m³ | G7: =C7*E7/3600 -> 27290.861 | H7: 0.198 | I7: =H7*G7 -> 5403.5905 | J7: =I7/$I$15 -> 0.64776514
B8: Ciepło sieciowe | C8: 0 | D8: MWh | E8: 1 | F8: MWh | G8: =C8*E8 -> 0 | H8: 0 | I8: =H8*G8 -> 0 | J8: =I8/$I$15 -> 0
B9: Olej opałowy | C9: =G29 -> 5773 | D9: l | E9: 36.17 | F9: MJ/l | G9: =C9*E9/3600 -> 58.002614 | H9: 0.276 | I9: =H9*G9 -> 16.008721 | J9: =I9/$I$15 -> 0.0019190743 | K9: dane szacunkowe
B10: Olej napędowy | C10: 0 | D10: l | E10: 35.96 | F10: MJ/l | G10: =C10*E10/3600 -> 0 | H10: 0.267 | I10: =H10*G10 -> 0 | J10: =I10/$I$15 -> 0
B11: Węgiel kamienny | C11: =E29 -> 576 | D11: Mg | E11: 22.72 | F11: GJ/Mg | G11: =C11*E11/3.6 -> 3635.2 | H11: 0.341 | I11: =H11*G11 -> 1239.6032 | J11: =I11/$I$15 -> 0.14859967 | K11: dane szacunkowe
B12: Węgiel brunanty | C12: 0 | D12: Mg | E12: 8.76 | F12: GJ/Mg | G12: =C12*E12/3.6 -> 0 | H12: 0.388 | I12: =H12*G12 -> 0 | J12: =I12/$I$15 -> 0
B13: LPG | C13: =H29 -> 47275 | D13: l | E13: 26.5 | F13: MJ/l | G13: =C13*E13/3600 -> 347.99653 | H13: 0.227 | I13: =H13*G13 -> 78.995212 | J13: =I13/$I$15 -> 0.0094696933 | K13: dane szacunkowe
B14: Drewno | C14: =F29 -> 303 | D14: Mg | E14: 20 | F14: GJ/Mg | G14: =C14*E14/3.6 -> 1683.3333 | H14: 0 | I14: =H14*G14 -> 0 | J14: =I14/$I$15 -> 0 | K14: dane szacunkowe
B15: SUMA | G15: =SUM(G5:G14) -> 34990.394 | I15: =SUM(I5:I14) -> 8341.8976 | J15: =SUM(J5:J14) -> 1
B17: Szacunek zużycia paliw | E17: i pomiejszone o ilość odbiorców gazu
B18: Liczba przedsiębiorstw (bez os. fiz.) | C18: =301-COUNTA(BUD_GMIN!B19:B234)-E18 -> 232 | D18: szt | E18: =DANE_GAZ!E75+DANE_GAZ!E76+DANE_GAZ!E77 -> 42
B19: Szac. powierzchnia budynków usługowych | C19: =C18*100 -> 23200 | D19: m2
B20: Szac. wsk. zap. energ. - usługi | C20: 0.25 | D20: MWh/m2
B21: Całkowite zapotrzebowanie energetyczne | C21: =C19*C20 -> 5800 | D21: MWh
B25: Struktura zużycia paliw wg GUS (2012): | E25: 0.6267 | F25: 0.29 | G25: 0.01 | H25: 0.06
B26: Całkowite zapotrzebowanie energ. budynków [MWh] | C26: Ciepło gaz [MWh] | D26: Sieć ciepłownicza [MWh] | E26: Węgiel [MWh] | F26: Drewno [MWh] | G26: Olej opałowy [MWh] | H26: LPG [MWh]
B27: =C21 -> 5800 | C27: =C6*E6/3600 -> 0 | D27: 0 | E27: =($B27-$C27-$D27)*E25 -> 3634.86 | F27: =($B27-$C27-$D27)*F25 -> 1682 | G27: =($B27-$C27-$D27)*G25 -> 58 | H27: =($B27-$C27-$D27)*H25 -> 348
E28: Węgiel [Mg] | F28: Drewno [Mg] | G28: Olej opałowy [l] | H28: LPG [l]
E29: =ROUND(E27*3.6/E11,0) -> 576 | F29: =ROUND(F27*3.6/E14,0) -> 303 | G29: =ROUND(G27*3600/E9,0) -> 5773 | H29: =ROUND(H27*3600/E13,0) -> 47275

Sheet BUD_MIESZK
A1: BUDYNKI MIESZKALNE
A2: Struktura zużycia paliw oraz emisja CO2
B4: Rodzaj paliwa | C4: Zużycie paliwa | D4: Jednostka | E4: Wartość opałowa | F4: Jednostka | G4: Całkowita energia (MWh) | H4: Wskaźnik emisji (Mg CO2/MWh) | I4: Całkowita emisja (Mg CO2) | J4: Udział w emisji | K4: UWAGI
B5: Energia elektryczna | C5: 7215 | D5: MWh | E5: 1 | F5: MWh | G5: =C5*E5 -> 7215 | H5: 0.812 | I5: =H5*G5 -> 5858.58 | J5: =I5/$I$15 -> 0.35969685 | K5: ENEA Operator sp. z o.o. taryfa G
B6: Gaz ziemny wysokometanowy | C6: 0 | D6: m³ | E6: 36.09 | F6: MJ/m³ | G6: =C6*E6/3600 -> 0 | H6: 0.201 | I6: =H6*G6 -> 0 | J6: =I6/$I$15 -> 0 | K6: PGNiG
B7: Gaz ziemny zaazotowany | C7: =H19 -> 1085841 | D7: m³ | E7: 31.54 | F7: MJ/m³ | G7: =C7*E7/3600 -> 9513.1737 | H7: 0.198 | I7: =H7*G7 -> 1883.6084 | J7: =I7/$I$15 -> 0.11564714 | K7: dane PGNiG
B8: Ciepło sieciowe | C8: 0 | D8: MWh | E8: 1 | F8: MWh | G8: =C8*E8 -> 0 | H8: 0 | I8: =H8*G8 -> 0 | J8: =I8/$I$15 -> 0
B9: Olej opałowy | C9: =C25+E30 -> 58103.8 | D9: l | E9: 36.17 | F9: MJ/l | G9: =C9*E9/3600 -> 583.78179 | H9: 0.276 | I9: =H9*G9 -> 161.12377 | J9: =I9/$I$15 -> 0.0098924508 | K9: szacunki na podst. Deklaracji CEEB
B10: Olej napędowy | C10: 0 | D10: l | E10: 35.96 | F10: MJ/l | G10: =C10*E10/3600 -> 0 | H10: 0.267 | I10: =H10*G10 -> 0 | J10: =I10/$I$15 -> 0
B11: Węgiel kamienny | C11: =C21+C30 -> 3895.8598 | D11: Mg | E11: 22.72 | F11: GJ/Mg | G11: =C11*E11/3.6 -> 24587.204 | H11: 0.341 | I11: =H11*G11 -> 8384.2366 | J11: =I11/$I$15 -> 0.51476356 | K11: szacunki na podst. Deklaracji CEEB
B12: Węgiel brunanty | C12: 0 | D12: Mg | E12: 8.76 | F12: GJ/Mg | G12: =C12*E12/3.6 -> 0 | H12: 0.388 | I12: =H12*G12 -> 0 | J12: =I12/$I$15 -> 0
B13: LPG | C13: 0 | D13: l | E13: 26.5 | F13: MJ/l | G13: =C13*E13/3600 -> 0 | H13: 0.227 | I13: =H13*G13 -> 0 | J13: =I13/$I$15 -> 0
B14: Drewno | C14: =C23+D30 -> 2974.9146 | D14: Mg | E14: 20 | F14: GJ/Mg | G14: =C14*E14/3.6 -> 16527.303 | H14: 0 | I14: =H14*G14 -> 0 | J14: =I14/$I$15 -> 0 | K14: szacunki na podst. Deklaracji CEEB
B15: SUMA | G15: =SUM(G5:G14) -> 58426.463 | I15: =SUM(I5:I14) -> 16287.549 | J15: =SUM(J5:J14) -> 1
B17: Szacunek zużycia paliw - na podstawie deklaracji CEEB
B18: Liczba mieszkań | C18: =OGOLNE!D46 -> 2638 | D18: szt | F18: zużycie gazu dane PGNiG | H18: 9893.1 | I18: MWh
B19: Powierzchnia mieszkań | C19: =OGOLNE!D49 -> 290519 | D19: m2 | H19: 1085841 | I19: m3
H21: Dane Baza CEEB
B22: Zużycie węgla na jednostkę powierzchni | C22: 30 | D22: kg/m2 | H22: ogrzewanie | I22: szt | J22: % | K22: 140 | L22: kWh/m2
H23: węgiel | I23: 1310 | J23: =I23*100/$I$29 -> 44.6794 | K23: =C19*K22 -> 40672660 | L23: kWh
B24: Zużycie drewna na jednostkę powierzchni | C24: 40 | D24: kg/m2 | E24: 0,1m3/m2 | H24: pellet | I24: 131 | J24: =I24*100/$I$29 -> 4.46794 | K24: =K23/1000 -> 40672.66 | L24: MWh
H25: gaz ziemny | I25: 707 | J25: =I25*100/$I$29 -> 24.113233
B26: Zużycie oleju na jednostkę powierzchni | C26: 25 | D26: l/m2 | H26: olej opałowy | I26: 24 | J26: =I26*100/$I$29 -> 0.81855389
H27: drewno | I27: 627 | J27: =I27*100/$I$29 -> 21.38472
B28: Struktura zużycia paliw na ogrzewanie w gospodarstwach domowych wg CEEB: | C28: 0.447 | D28: 0.256 | E28: 0.008 | H28: pompa ciepła | I28: 133 | J28: =I28*100/$I$29 -> 4.5361528
B29: Powierzchnia mieszkań | C29: Węgiel [Mg] | D29: Drewno [Mg] | E29: Olej opałowy [l] | I29: =SUM(I23:I28) -> 2932
B30: =C19 -> 290519 | C30: =B30*C28*C22/1000 -> 3895.8598 | D30: =B30*C24*D28/1000 -> 2974.9146 | E30: =B30*C26*E28 -> 58103.8
B33: Szacunek zużycia paliw - bilans energetyczny (porównawczo)
B34: Ilość budynków mieszkalnych | C34: =OGOLNE!D43 -> 2053 | D34: szt
B35: Powierzchnia budynków mieszkalnych | C35: =OGOLNE!D49 -> 290519 | D35: m2
B36: Szac. wsk. zap. energ. na ogrzewanie | C36: 0.16 | D36: MWh/m2
B37: Całkowite zapotrzebowanie energetyczne | C37: =C35*C36 -> 46483.04 | D37: MWh
B38: Ilość budynków przeankietyzowanych
B39: Zużycie węgla z ankiet | D39: MWh
B41: Struktura zużycia paliw na ogrzewanie w gospodarstwach domowych wg GUS (2012): | E41: 0.447 | F41: 0.26 | G41: 0.01
B42: Całkowite zapotrzebowanie energ. Pozostałych budynków [MWh] | C42: Ciepło gaz [MWh] | D42: Sieć ciepłownicza [MWh] | E42: Węgiel [MWh] | F42: Drewno [MWh] | G42: Olej opałowy [MWh]
B43: =C37-C39 -> 46483.04 | C43: =DANE_GAZ!H73*E6/3.6 -> 8020 | D43: 0 | E43: =($B43-$C43-$D43)*E41 -> 17192.979 | F43: =($B43-$C43-$D43)*F41 -> 10000.39 | G43: =($B43-$C43-$D43)*G41 -> 384.6304
E44: Węgiel [Mg] | F44: Drewno [Mg] | G44: Olej opałowy [l]
E45: =ROUND(E43*3.6/E11,0) -> 2724 | F45: =ROUND(F43*3.6/E14,0) -> 1800 | G45: =ROUND(G43*3600/E9,0) -> 38282

Sheet BUD_MIESZK_A
A1: BUDYNKI MIESZKALNE
A2: Wyniki ankietyzacji mieszkańców | AA2: Udziały paliw | AB2: =AB3/SUM($AB$3:$AF$3) -> 0.44551282 | AC2: =AC3/SUM($AB$3:$AF$3) -> 0.43910256 | AD2: =AD3/SUM($AB$3:$AF$3) -> 0.057692308 | AE2: =AE3/SUM($AB$3:$AF$3) -> 0.038461538 | AF2: =AF3/SUM($AB$3:$AF$3) -> 0.019230769
AA3: Sumy kolumn | AB3: =SUM(Wyniki_ankiet[węgiel (w tym miał) i drewno]) -> 139 | AC3: =SUM(Wyniki_ankiet[tylko węgiel (w tym miał) bez drewna]) -> 137 | AD3: =SUM(Wyniki_ankiet[tylko drewno bez węgla]) -> 18 | AE3: =SUM(Wyniki_ankiet[gaz]) -> 12 | AF3: =SUM(Wyniki_ankiet[olej opałowy]) -> 6
A4: l.p | B4: Lokalizacja | C4: Miejscowość | D4: Gospodarstwo rolne wraz z budynkami mieszkalnymi | E4: Budynek | F4: Powierzchnia użytkowa w m2 | G4: Powierzchnia ogrzewana w m2 | H4: Rok budowy | I4: Czy ściany w budynku były ocieplane? | J4: Czy dach lub stropodach w budynku był ocieplany? | K4: Rodzaj drzwi i okien zewnętrznych w budynku | L4: Stan okien w budynku | M4: Sposób ogrzewania budynku | N4: Źródło/a ciepła wykorzystywane w budynku | O4: Wielkość zużycia węgla w tonach (jeśli występuje) | P4: zużycie węgla do ogrzewania kg/m2 | Q4: Wielkość zużycia gazu w m3 (jeśli występuje) | R4: Wielkość zużycia drewna w kg (jeśli występuje) | S4: zużycie drewna do ogrzewania kg/m22 | T4: Inne źródła wykorzystywane w celach ogrzewania | U4: Olej opałowy zużycie w litrach | V4: zużycie oleju do ogrzewania l/m2 | W4: Całkowite roczne zużycie energii elektrycznej w gospodarstwie domowym w kWh | X4: Czy w budynku wykorzystywane są odnawialne źródła energii? | Y4: Jeśli tak proszę wskazać jakie | Z4: Jeśli występują odnawialne źródła energii | AA4: Czy jest Pan/Pani zainteresowany/a wymianą źródła ciepła na nowe, ekologiczne? | AB4: węgiel (w tym miał) i drewno | AC4: tylko węgiel (w tym miał) bez drewna | AD4: tylko drewno bez węgla | AE4: gaz | AF4: olej opałowy
A5: 1 | B5: obszar wiejski | C5: =SUM(BUD_MIESZK_A!U9:U171) -> 7000 | D5: nie | E5: Wolnostojący | F5: 270 | G5: 270 | H5: 2011 | I5: nie | J5: tak | K5: PCV | L5: Dobry | M5: ogrzewanie centralne: kocioł węglowy z podajnikiem | N5: drewno, inne | O5: 5 | P5: =IFERROR(Wyniki_ankiet[[#This Row],[Wielkość zużycia węgla w tonach (jeśli występuje)]]*1000/Wyniki_ankiet[[#This Row],[Powierzchnia ogrzewana w m2]],) -> 18.518519 | Q5: 0 | R5: 600 | S5: =IFERROR(Wyniki_ankiet[[#This Row],[Wielkość zużycia drewna w kg (jeśli występuje)]]/Wyniki_ankiet[[#This Row],[Powierzchnia ogrzewana w m2]],) -> 2.2222222 | T5: miał 0 5 ton | V5: =IFERROR(Wyniki_ankiet[[#This Row],[Olej opałowy zużycie w litrach]]/Wyniki_ankiet[[#This Row],[Powierzchnia ogrzewana w m2]],) -> 0 | W5: 2600 | X5: nie | Y5: - | AA5: tak | AB5: =IF(AND(Wyniki_ankiet[[#This Row],[Wielkość zużycia węgla w tonach (jeśli występuje)]]>0,Wyniki_ankiet[[#This Row],[Wielkość zużycia drewna w kg (jeśli występuje)]]>0),1,) -> 1 | AC5: =IF(AND(Wyniki_ankiet[[#This Row],[Wielkość zużycia węgla w tonach (jeśli występuje)]]>0,Wyniki_ankiet[[#This Row],[Wielkość zużycia drewna w kg (jeśli występuje)]]=0),1,) -> 0 | AD5: =IF(AND(Wyniki_ankiet[[#This Row],[Wielkość zużycia drewna w kg (jeśli występuje)]]>0,Wyniki_ankiet[[#This Row],[Wielkość zużycia węgla w tonach (jeśli występuje)]]=0),1,) -> 0 | AE5: =IF(Wyniki_ankiet[[#This Row],[Wielkość zużycia gazu w m3 (jeśli występuje)]]>0,1,) -> 0
A6: 2 | B6: obszar wiejski | C6: =SUM(BUD_MIESZK_A!U10:U172) -> 7000 | D6: nie | E6: Bliźniak | F6: 170 | G6: 150 | H6: 2000 | I6: tak | J6: tak | K6: PCV | L6: Dobry | M6: ogrzewanie centralne: kocioł węglowy rusztowy | N6: węgiel | O6: 2 | P6: =IFERROR(Wyniki_ankiet[[#This Row],[Wielkość zużycia węgla w tonach (jeśli występuje)]]*1000/Wyniki_ankiet[[#This Row],[Powierzchnia ogrzewana w m2]],) -> 13.333333 | Q6: 0 | S6: =IFERROR(Wyniki_ankiet[[#This Row],[Wielkość zużycia drewna w kg (jeśli występuje)]]/Wyniki_ankiet[[#This Row],[Powierzchnia ogrzewana w m2]],) -> 0 | T6: 0 | V6: =IFERROR(Wyniki_ankiet[[#This Row],[Olej opałowy zużycie w litrach]]/Wyniki_ankiet[[#This Row],[Powierzchnia ogrzewana w m2]],) -> 0 | W6: 2100 | X6: tak | Y6: Kolektory słoneczne | AA6: tak | AB6: =IF(AND(Wyniki_ankiet[[#This Row],[Wielkość zużycia węgla w tonach (jeśli występuje)]]>0,Wyniki_ankiet[[#This Row],[Wielkość zużycia drewna w kg (jeśli występuje)]]>0),1,) -> 0 | AC6: =IF(AND(Wyniki_ankiet[[#This Row],[Wielkość zużycia węgla w tonach (jeśli występuje)]]>0,Wyniki_ankiet[[#This Row],[Wielkość zużycia drewna w kg (jeśli występuje)]]=0),1,) -> 1 | AD6: =IF(AND(Wyniki_ankiet[[#This Row],[Wielkość zużycia drewna w kg (jeśli występuje)]]>0,Wyniki_ankiet[[#This Row],[Wielkość zużycia węgla w tonach (jeśli występuje)]]=0),1,) -> 0 | AE6: =IF(Wyniki_ankiet[[#This Row],[Wielkość zużycia gazu w m3 (jeśli występuje)]]>0,1,) -> 0
A7: 3 | B7: obszar wiejski | C7: =SUM(BUD_MIESZK_A!U11:U173) -> 7000 | D7: tak | E7: Wolnostojący | F7: 193 | G7: 193 | H7: 1923 | I7: nie | J7: tak | K7: Drewniane | L7: Dobry | M7: ogrzewanie centralne: kocioł węglowy rusztowy | N7: węgiel, drewno | O7: 3 | P7: =IFERROR(Wyniki_ankiet[[#This Row],[Wielkość zużycia węgla w tonach (jeśli występuje)]]*1000/Wyniki_ankiet[[#This Row],[Powierzchnia ogrzewana w m2]],) -> 15.544041 | Q7: 0 | R7: 2400 | S7: =IFERROR(Wyniki_ankiet[[#This Row],[Wielkość zużycia drewna w kg (jeśli występuje)]]/Wyniki_ankiet[[#This Row],[Powierzchnia ogrzewana w m2]],) -> 12.435233 | T7: 0 | V7: =IFERROR(Wyniki_ankiet[[#This Row],[Olej opałowy zużycie w litrach]]/Wyniki_ankiet[[#This Row],[Powierzchnia ogrzewana w m2]],) -> 0 | X7: nie | Y7: - | AA7: tak | AB7: =IF(AND(Wyniki_ankiet[[#This Row],[Wielkość zużycia węgla w tonach (jeśli występuje)]]>0,Wyniki_ankiet[[#This Row],[Wielkość zużycia drewna w kg (jeśli występuje)]]>0),1,) -> 1 | AC7: =IF(AND(Wyniki_ankiet[[#This Row],[Wielkość zużycia węgla w tonach (jeśli występuje)]]>0,Wyniki_ankiet[[#This Row],[Wielkość zużycia drewna w kg (jeśli występuje)]]=0),1,) -> 0 | AD7: =IF(AND(Wyniki_ankiet[[#This Row],[Wielkość zużycia drewna w kg (jeśli występuje)]]>0,Wyniki_ankiet[[#This Row],[Wielkość zużycia węgla w tonach (jeśli występuje)]]=0),1,) -> 0 | AE7: =IF(Wyniki_ankiet[[#This Row],[Wielkość zużycia gazu w m3 (jeśli występuje)]]>0,1,) -> 0
A8: 4 | B8: obszar wiejski | C8: =SUM(BUD_MIESZK_A!U12:U174) -> 7000 | D8: nie | E8: Wolnostojący | F8: 138 | G8: 138 | H8: 1991 | I8: tak | J8: tak | K8: PCV | L8: Dobry | M8: ogrzewanie centralne: kocioł węglowy rusztowy | N8: węgiel, drewno | O8: 4 | P8: =IFERROR(Wyniki_ankiet[[#This Row],[Wielkość zużycia węgla w tonach (jeśli występuje)]]*1000/Wyniki_ankiet[[#This Row],[Powierzchnia ogrzewana w m2]],) -> 28.985507 | Q8: 0 | R8: 2400 | S8: =IFERROR(Wyniki_ankiet[[#This Row],[Wielkość zużycia drewna w kg (jeśli występuje)]]/Wyniki_ankiet[[#This Row],[Powierzchnia ogrzewana w m2]],) -> 17.391304 | T8: 0 | V8: =IFERROR(Wyniki_ankiet[[#This Row],[Olej opałowy zużycie w litrach]]/Wyniki_ankiet[[#This Row],[Powierzchnia ogrzewana w m2]],) -> 0 | X8: nie | Y8: - | AA8: tak | AB8: =IF(AND(Wyniki_ankiet[[#This Row],[Wielkość zużycia węgla w tonach (jeśli występuje)]]>0,Wyniki_ankiet[[#This Row],[Wielkość zużycia drewna w kg (jeśli występuje)]]>0),1,) -> 1 | AC8: =IF(AND(Wyniki_ankiet[[#This Row],[Wielkość zużycia węgla w tonach (jeśli występuje)]]>0,Wyniki_ankiet[[#This Row],[Wielkość zużycia drewna w kg (jeśli występuje)]]=0),1,) -> 0 | AD8: =IF(AND(Wyniki_ankiet[[#This Row],[Wielkość zużycia drewna w kg (jeśli występuje)]]>0,Wyniki_ankiet[[#This Row],[Wielkość zużycia węgla w tonach (jeśli występuje)]]=0),1,) -> 0 | AE8: =IF(Wyniki_ankiet[[#This Row],[Wielkość zużycia gazu w m3 (jeśli występuje)]]>0,1,) -> 0
A9: 5 | B9: obszar wiejski | C9: =SUM(BUD_MIESZK_A!U13:U175) -> 7000 | D9: tak | E9: Wolnostojący | F9: 110 | G9: 110 | H9: 1912 | I9: nie | J9: tak | K9: PCV | L9: Dobry | M9: ogrzewanie centralne: kocioł węglowy rusztowy | N9: węgiel, drewno | O9: 3 | P9: =IFERROR(Wyniki_ankiet[[#This Row],[Wielkość zużycia węgla w tonach (jeśli występuje)]]*1000/Wyniki_ankiet[[#This Row],[Powierzchnia ogrzewana w m2]],) -> 27.272727 | Q9: 0 | R9: 3000 | S9: =IFERROR(Wyniki_ankiet[[#This Row],[Wielkość zużycia drewna w kg (jeśli występuje)]]/Wyniki_ankiet[[#This Row],[Powierzchnia ogrzewana w m2]],) -> 27.272727 | T9: 0 | V9: =IFERROR(Wyniki_ankiet[[#This Row],[Olej opałowy zużycie w litrach]]/Wyniki_ankiet[[#This Row],[Powierzchnia ogrzewana w m2]],) -> 0 | X9: nie | Y9: - | AA9: tak | AB9: =IF(AND(Wyniki_ankiet[[#This Row],[Wielkość zużycia węgla w tonach (jeśli występuje)]]>0,Wyniki_ankiet[[#This Row],[Wielkość zużycia drewna w kg (jeśli występuje)]]>0),1,) -> 1 | AC9: =IF(AND(Wyniki_ankiet[[#This Row],[Wielkość zużycia węgla w tonach (jeśli występuje)]]>0,Wyniki_ankiet[[#This Row],[Wielkość zużycia drewna w kg (jeśli występuje)]]=0),1,) -> 0 | AD9: =IF(AND(Wyniki_ankiet[[#This Row],[Wielkość zużycia drewna w kg (jeśli występuje)]]>0,Wyniki_ankiet[[#This Row],[Wielkość zużycia węgla w tonach (jeśli występuje)]]=0),1,) -> 0 | AE9: =IF(Wyniki_ankiet[[#This Row],[Wielkość zużycia gazu w m3 (jeśli występuje)]]>0,1,) -> 0
A10: 6 | B10: obszar wiejski | C10: =SUM(BUD_MIESZK_A!U14:U176) -> 7000 | D10: nie | E10: Wolnostojący | F10: 220 | G10: 220 | H10: 1974 | I10: tak | J10: nie | K10: PCV | L10: Dobry | M10: ogrzewanie centralne: kocioł węglowy rusztowy | N10: węgiel, drewno | O10: 3 | P10: =IFERROR(Wyniki_ankiet[[#This Row],[Wielkość zużycia węgla w tonach (jeśli występuje)]]*1000/Wyniki_ankiet[[#This Row],[Powierzchnia ogrzewana w m2]],) -> 13.636364 | Q10: 0 | R10: 1800 | S10: =IFERROR(Wyniki_ankiet[[#This Row],[Wielkość zużycia drewna w kg (jeśli występuje)]]/Wyniki_ankiet[[#This Row],[Powierzchnia ogrzewana w m2]],) -> 8.1818182 | T10: 0 | V10: =IFERROR(Wyniki_ankiet[[#This Row],[Olej opałowy zużycie w litrach]]/Wyniki_ankiet[[#This Row],[Powierzchnia ogrzewana w m2]],) -> 0 | X10: nie | Y10: - | AA10: tak | AB10: =IF(AND(Wyniki_ankiet[[#This Row],[Wielkość zużycia węgla w tonach (jeśli występuje)]]>0,Wyniki_ankiet[[#This Row],[Wielkość zużycia drewna w kg (jeśli występuje)]]>0),1,) -> 1 | AC10: =IF(AND(Wyniki_ankiet[[#This Row],[Wielkość zużycia węgla w tonach (jeśli występuje)]]>0,Wyniki_ankiet[[#This Row],[Wielkość zużycia drewna w kg (jeśli występuje)]]=0),1,) -> 0 | AD10: =IF(AND(Wyniki_ankiet[[#This Row],[Wielkość zużycia drewna w kg (jeśli występuje)]]>0,Wyniki_ankiet[[#This Row],[Wielkość zużycia węgla w tonach (jeśli występuje)]]=0),1,) -> 0 | AE10: =IF(Wyniki_ankiet[[#This Row],[Wielkość zużycia gazu w m3 (jeśli występuje)]]>0,1,) -> 0
A11: 7 | B11: obszar wiejski | C11: =SUM(BUD_MIESZK_A!U15:U177) -> 7000 | D11: nie | E11: Wolnostojący | F11: 210 | G11: 180 | H11: - | I11: tak | J11: nie | K11: PCV | L11: Dobry | M11: ogrzewanie cenralne | N11: węgiel, drewno | O11: 5 | P11: =IFERROR(Wyniki_ankiet[[#This Row],[Wielkość zużycia węgla w tonach (jeśli występuje)]]*1000/Wyniki_ankiet[[#This Row],[Powierzchnia ogrzewana w m2]],) -> 27.777778 | Q11: 0 | R11: 3000 | S11: =IFERROR(Wyniki_ankiet[[#This Row],[Wielkość zużycia drewna w kg (jeśli występuje)]]/Wyniki_ankiet[[#This Row],[Powierzchnia ogrzewana w m2]],) -> 16.666667 | T11: 0 | V11: =IFERROR(Wyniki_ankiet[[#This Row],[Olej opałowy zużycie w litrach]]/Wyniki_ankiet[[#This Row],[Powierzchnia ogrzewana w m2]],) -> 0 | X11: nie | Y11: - | AA11: tak | AB11: =IF(AND(Wyniki_ankiet[[#This Row],[Wielkość zużycia węgla w tonach (jeśli występuje)]]>0,Wyniki_ankiet[[#This Row],[Wielkość zużycia drewna w kg (jeśli występuje)]]>0),1,) -> 1 | AC11: =IF(AND(Wyniki_ankiet[[#This Row],[Wielkość zużycia węgla w tonach (jeśli występuje)]]>0,Wyniki_ankiet[[#This Row],[Wielkość zużycia drewna w kg (jeśli występuje)]]=0),1,) -> 0 | AD11: =IF(AND(Wyniki_ankiet[[#This Row],[Wielkość zużycia drewna w kg (jeśli występuje)]]>0,Wyniki_ankiet[[#This Row],[Wielkość zużycia węgla w tonach (jeśli występuje)]]=0),1,) -> 0 | AE11: =IF(Wyniki_ankiet[[#This Row],[Wielkość zużycia gazu w m3 (jeśli występuje)]]>0,1,) -> 0
A12: 8 | B12: obszar wiejski | C12: =SUM(BUD_MIESZK_A!U16:U178) -> 7000 | D12: nie | E12: Wolnostojący | F12: 90 | G12: 90 | H12: 1964 | I12: tak | J12: nie | K12: PCV | L12: Dobry | M12: ogrzewanie centralne: kocioł węglowy rusztowy | N12: węgiel, drewno | O12: 3.5 | P12: =IFERROR(Wyniki_ankiet[[#This Row],[Wielkość zużycia węgla w tonach (jeśli występuje)]]*1000/Wyniki_ankiet[[#This Row],[Powierzchnia ogrzewana w m2]],) -> 38.888889 | Q12: 0 | R12: 1800 | S12: =IFERROR(Wyniki_ankiet[[#This Row],[Wielkość zużycia drewna w kg (jeśli występuje)]]/Wyniki_ankiet[[#This Row],[Powierzchnia ogrzewana w m2]],) -> 20 | T12: 0 | V12: =IFERROR(Wyniki_ankiet[[#This Row],[Olej opałowy zużycie w litrach]]/Wyniki_ankiet[[#This Row],[Powierzchnia ogrzewana w m2]],) -> 0 | X12: nie | Y12: - | AA12: tak | AB12: =IF(AND(Wyniki_ankiet[[#This Row],[Wielkość zużycia węgla w tonach (jeśli występuje)]]>0,Wyniki_ankiet[[#This Row],[Wielkość zużycia drewna w kg (jeśli występuje)]]>0),1,) -> 1 | AC12: =IF(AND(Wyniki_ankiet[[#This Row],[Wielkość zużycia węgla w tonach (jeśli występuje)]]>0,Wyniki_ankiet[[#This Row],[Wielkość zużycia drewna w kg (jeśli występuje)]]=0),1,) -> 0 | AD12: =IF(AND(Wyniki_ankiet[[#This Row],[Wielkość zużycia drewna w kg (jeśli występuje)]]>0,Wyniki_ankiet[[#This Row],[Wielkość zużycia węgla w tonach (jeśli występuje)]]=0),1,) -> 0 | AE12: =IF(Wyniki_ankiet[[#This Row],[Wielkość zużycia gazu w m3 (jeśli występuje)]]>0,1,) -> 0
A13: 9 | B13: obszar wiejski | C13: =SUM(BUD_MIESZK_A!U17:U179) -> 7000 | D13: nie | E13: Wolnostojący | F13: - | G13: 100 | H13: - | I13: tak | J13: nie | K13: PCV | L13: Dobry | M13: ogrzewanie centralne: kocioł węglowy rusztowy | N13: węgiel, drewno | O13: 3.5 | P13: =IFERROR(Wyniki_ankiet[[#This Row],[Wielkość zużycia węgla w tonach (jeśli występuje)]]*1000/Wyniki_ankiet[[#This Row],[Powierzchnia ogrzewana w m2]],) -> 35 | Q13: 0 | R13: 1200 | S13: =IFERROR(Wyniki_ankiet[[#This Row],[Wielkość zużycia drewna w kg (jeśli występuje)]]/Wyniki_ankiet[[#This Row],[Powierzchnia ogrzewana w m2]],) -> 12 | T13: 0 | V13: =IFERROR(Wyniki_ankiet[[#This Row],[Olej opałowy zużycie w litrach]]/Wyniki_ankiet[[#This Row],[Powierzchnia ogrzewana w m2]],) -> 0 | X13: nie | Y13: - | AA13: tak | AB13: =IF(AND(Wyniki_ankiet[[#This Row],[Wielkość zużycia węgla w tonach (jeśli występuje)]]>0,Wyniki_ankiet[[#This Row],[Wielkość zużycia drewna w kg (jeśli występuje)]]>0),1,) -> 1 | AC13: =IF(AND(Wyniki_ankiet[[#This Row],[Wielkość zużycia węgla w tonach (jeśli występuje)]]>0,Wyniki_ankiet[[#This Row],[Wielkość zużycia drewna w kg (jeśli występuje)]]=0),1,) -> 0 | AD13: =IF(AND(Wyniki_ankiet[[#This Row],[Wielkość zużycia drewna w kg (jeśli występuje)]]>0,Wyniki_ankiet[[#This Row],[Wielkość zużycia węgla w tonach (jeśli występuje)]]=0),1,) -> 0 | AE13: =IF(Wyniki_ankiet[[#This Row],[Wielkość zużycia gazu w m3 (jeśli występuje)]]>0,1,) -> 0
