Workbook
Name EURO: DEF!$B$2:$B$10
Name JEDN: [1]DEF!$C$2:$C$10
Name JEDN: DEF!$C$2:$C$10
Name KAT_POJ: [1]DEF!$A$2:$A$10
Name KAT_POJ: DEF!$A$2:$A$10
Name KLAS_BUD: [1]DEF!$E$2:$E$21
Name KLAS_BUD: DEF!$E$2:$E$21
Name OSW_TECH: DEF!$J$2:$J$9
Name OSW_TYP: [1]DEF!$I$2:$I$4
Name OSW_TYP: DEF!$I$2:$I$4
Name PAL_POJ: [1]DEF!$D$2:$D$10
Name PAL_POJ: DEF!$D$2:$D$10
Name PRZEZ_OZE: DEF!$H$2:$H$5
Name RODZAJ_OZE: DEF!$G$2:$G$13
Name STATUS_SKLAD: DEF!$L$2:$L$4
Name TAK_OZE: [1]DEF!$F$2:$F$3
Name TAK_OZE: DEF!$F$2:$F$3
Name ZAG_GAZWYSYP: DEF!$K$2:$K$6

Sheet DEF
A1: KAT_POJ | B1: EURO | C1: JEDN | D1: PAL_POJ | E1: KLAS_BUD | F1: TAK_OZE | G1: RODZAJ_OZE | H1: PRZEZ_OZE | I1: OSW_TYP | J1: OSW_TECH | K1: ZAG_GAZWYSYP | L1: STATUS_SKLAD
A2: osobowy | B2: BEZ EURO | C2: tona | D2: olej napędowy | E2: Budynki mieszkalne jednorodzinne | F2: NIE | G2: kolektory słoneczne płaskie | H2: produkcja na potrzeby własne | I2: Oświetlenie uliczne | J2: Lampy żarowe | K2: spalanie w pochodni | L2: czynne
A3: dostawczy | B3: EURO 1 | C3: kg | D3: benzyna | E3: Budynki o dwóch mieszkaniach | F3: TAK - wypełnić arkusz OZE | G3: kolektory słoneczne próżniowe | H3: produkcja na sprzedaż | I3: Sygnalizacja świetlna | J3: Świetlówki | K3: spalanie w celu produkcji energii elektrycznej | L3: zamknięte
A4: ciężarowy | B4: EURO 2 | C4: m3 | D4: LPG | E4: Budynki wielomieszkaniowe | G4: panele fotowoltaiczne | H4: produkcja na potrzeby własne i sprzedaż nadwyżek | I4: Podświetlenie obiektów | J4: Lampy rtęciowe | K4: spalanie w celu produkcji ciepła | L4: poddane rekultywacji
A5: autobus | B5: EURO 3 | C5: m3 | D5: CNG | E5: Budynki zbiorowego zamieszkania | G5: pompa ciepła | H5: inne | J5: Niskoprężne lampy sodowe | K5: spalanie w kogeneracji
A6: specjalny | B6: EURO 3 EEV | C6: litr | D6: energia elektr. | E6: Budynki hoteli | G6: kocioł na biomasę | J6: Wysokoprężne lampy sodowe | K6: inne (proszę podać w uwagach)
A7: tramwaj | B7: EURO 4 | C7: kWh | D7: etanol | E7: Budynki zakwaterowania turystycznego, pozostałe | G7: biogazownia | J7: Lampy metalo-halogenkowe
A8: trolejbus | B8: EURO 4 EEV | C8: MWh | D8: biodiesel | E8: Budynki biurowe | G8: turbina wiatrowa o poziomej osi obrotu | J8: Lampy LED
A9: inne | B9: EURO 5 | C9: GJ | D9: wodór | E9: Budynki handlowo -usługowe | G9: turbina wiatrowa o pionowej osi obrotu | J9: inne
B10: EURO 6 | D10: inne | E10: Budynki łączności, dworców i terminali | G10: instalacja geotermalna (głęboka)
E11: Budynki garaży | G11: elektrownia wodna
E12: Budynki przemysłowe | G12: instalacja hybrydowa
E13: Zbiorniki, silosy i budynki magazynowe | G13: inne
E14: Ogólnodostępne obiekty kulturalne
E15: Budynki muzeów i bibliotek
E16: Budynki szkół i instytucji badawczych
E17: Budynki szpitali i zakładów opieki medycznej
E18: Budynki kultury fizycznej
E19: Budynki gospodarstw rolnych
E20: Budynki przeznaczone do sprawowania kultu religijnego i czynności religijnych
E21: Pozostałe budynki niemieszkalne

Sheet TYTUŁ
H11: Gmina: | L11: Święciechowa
H12: Powiat: | L12: Leszczyński
H13: Województwo: | L13: ='[2]D. Gmina'!E4 -> Wielkopolskie
E18: Opracownie bazy: | M18: Zawartość bazy:
E19: Rok kontrolny 2021 | L19: 1. | M19: TYTUŁ
L20: 2. | M20: RAPORT | N20: Podsumowanie wielkości emisji - tabele, wykresy
L21: 3. | M21: PROGNOZA | N21: Prognoza w 2027 r. według scenariuszy
L22: 4. | M22: OGOLNE | N22: Ogólne informacje
L23: 5. | M23: BUD_GMIN | N23: Budynki, urządzenia i wyposażenie obiektów gminnych
L24: 6. | M24: BUD_USLUG | N24: Budynki, urządzenia i wyposażenie obiektów pozostałych, niemieszkalnych
L25: 7. | M25: BUD_MIESZK | N25: Budynki mieszkalne
L26: 8. | M26: BUD_MIESZK_A | N26: Budynki mieszkalne - wyniki ankietyzacji
L27: 9. | M27: PRZEM | N27: Przemysł
L28: 10. | M28: OSW | N28: Oświetlenie publiczne
L29: 11. | M29: TR_GMIN | N29: Pojazdy gminne
L30: 12. | M30: TR_PUBL | N30: Transport publiczny gminny
L31: 13. | M31: TR_PRYW | N31: Transport prywatny i komercyjny
... L34: 16. | M34: DANE_GAZ | N34: Dane od dostawcy gazu ziemnego

Sheet RAPORT
A1: PODSUMOWANIE WIELKOŚCI EMISJI
A2: Zestawienia zbiorcze i wykresy
B4: Zużycie energii [MWh] | C4: Energia elektryczna | D4: Gaz ziemny wysokometanowy | E4: Gaz ziemny zaazotowany | F4: Ciepło sieciowe | G4: Olej opałowy | H4: Olej napędowy | I4: LPG | J4: Benzyna | K4: Węgiel kamienny | L4: Węgiel brunanty | M4: Drewno | N4: SUMA
B5: Budynki, urządzenia i wyposażenie obiektów gminnych | C5: =BUD_GMIN!G5 -> 241.057 | D5: =BUD_GMIN!G6 -> 0 | E5: =BUD_GMIN!G7 -> 1070.8268 | F5: =BUD_GMIN!G8 -> 0 | G5: =BUD_GMIN!G9 -> 658.08301 | H5: =BUD_GMIN!G10 -> 0 | I5: =BUD_GMIN!G13 -> 0 | J5: 0 | K5: =BUD_GMIN!G11 -> 302.49156 | L5: =BUD_GMIN!G12 -> 0 | M5: =BUD_GMIN!G14 -> 0 | N5: =SUM(C5:M5) -> 2272.4584
B6: Budynki, urządzenia i wyposażenie obiektów pozostałych, niemieszkalnych | C6: =BUD_USLUG!G5 -> 1975 | D6: =BUD_USLUG!G6 -> 0 | E6: =BUD_USLUG!G7 -> 27290.861 | F6: =BUD_USLUG!G8 -> 0 | G6: =BUD_USLUG!G9 -> 58.002614 | H6: =BUD_USLUG!G10 -> 0 | I6: =BUD_USLUG!G13 -> 347.99653 | J6: 0 | K6: =BUD_USLUG!G11 -> 3635.2 | L6: =BUD_USLUG!G12 -> 0 | M6: =BUD_USLUG!G14 -> 1683.3333 | N6: =SUM(C6:M6) -> 34990.394
B7: Budynki mieszkalne | C7: =BUD_MIESZK!G5 -> 7215 | D7: =BUD_MIESZK!G6 -> 0 | E7: =BUD_MIESZK!G7 -> 9513.1737 | F7: =BUD_USLUG!G8 -> 0 | G7: =BUD_MIESZK!G9 -> 583.78179 | H7: =BUD_MIESZK!G10 -> 0 | I7: =BUD_MIESZK!G13 -> 0 | J7: 0 | K7: =BUD_MIESZK!G11 -> 24587.204 | L7: =BUD_MIESZK!G12 -> 0 | M7: =BUD_MIESZK!G14 -> 16527.303 | N7: =SUM(C7:M7) -> 58426.463
B8: Przemysł | C8: =PRZEM!G5 -> 5922 | D8: =PRZEM!G6 -> 34272.468 | E8: =PRZEM!G7 -> 67.532397 | F8: 0 | G8: 0 | H8: 0 | I8: 0 | J8: 0 | K8: 0 | L8: 0 | M8: 0 | N8: =SUM(C8:M8) -> 40262
B9: Oświetlenie publiczne | C9: =OSW!C5 -> 571 | D9: 0 | E9: 0 | F9: 0 | G9: 0 | H9: 0 | I9: 0 | J9: 0 | K9: 0 | L9: 0 | M9: 0 | N9: =SUM(C9:M9) -> 571
B10: Pojazdy gminne | C10: 0 | D10: 0 | E10: 0 | F10: 0 | G10: 0 | H10: =TR_GMIN!G7 -> 139.83446 | I10: =TR_GMIN!G8 -> 0 | J10: =TR_GMIN!G6 -> 0 | K10: 0 | L10: 0 | M10: 0 | N10: =SUM(C10:M10) -> 139.83446 | O10: =N10+N11 -> 445.98891
B11: Transport publiczny gminny | C11: =TR_PUBL!G5 -> 0 | D11: 0 | E11: 0 | F11: 0 | G11: 0 | H11: =TR_PUBL!G7 -> 306.15445 | I11: =TR_PUBL!G8 -> 0 | J11: =TR_PUBL!G6 -> 0 | K11: 0 | L11: 0 | M11: 0 | N11: =SUM(C11:M11) -> 306.15445
B12: Transport prywatny i komercyjny | C12: 0 | D12: 0 | E12: 0 | F12: 0 | G12: 0 | H12: =TR_PRYW!N12 -> 19034.831 | I12: =TR_PRYW!O12 -> 1458.5903 | J12: =TR_PRYW!M12 -> 6865.8635 | K12: 0 | L12: 0 | M12: 0 | N12: =SUM(C12:M12) -> 27359.285 | O12: =N5+N9+N10+N11 -> 3289.4473
B13: Gospodarka odpadami | C13: 0 | D13: 0 | E13: 0 | F13: 0 | G13: 0 | H13: 0 | I13: 0 | J13: 0 | K13: 0 | L13: 0 | M13: 0 | N13: =SUM(C13:M13) -> 0
B14: Gospodarka wodno-ściekowa | C14: 0 | D14: 0 | E14: 0 | F14: 0 | G14: 0 | H14: 0 | I14: 0 | J14: 0 | K14: 0 | L14: 0 | M14: 0 | N14: =SUM(C14:M14) -> 0
B15: SUMA | C15: =SUM(C5:C14) -> 15924.057 | D15: =SUM(D5:D14) -> 34272.468 | E15: =SUM(E5:E14) -> 37942.394 | F15: =SUM(F5:F14) -> 0 | G15: =SUM(G5:G14) -> 1299.8674 | H15: =SUM(H5:H14) -> 19480.82 | I15: =SUM(I5:I14) -> 1806.5868 | J15: =SUM(J5:J14) -> 6865.8635 | ... N15: =SUM(N5:N14) -> 164327.59
B17: Zastosowane wskaźniki emisji | C17: 0.812 | D17: 0.201 | E17: 0.198 | F17: 0 | G17: 0.276 | H17: 0.267 | I17: 0.227 | J17: 0.249 | K17: 0.341 | L17: 0.388 | M17: 0
B19: Emisja [Mg CO2] | C19: Energia elektryczna | D19: Gaz ziemny wysokometanowy | E19: Gaz ziemny zaazotowany | F19: Ciepło sieciowe | G19: Olej opałowy | H19: Olej napędowy | I19: LPG | J19: Benzyna | K19: Węgiel kamienny | L19: Węgiel brunanty | M19: Drewno | N19: SUMA
B20: Budynki, urządzenia i wyposażenie obiektów gminnych | C20: =C5*C$17 -> 195.73828 | D20: =D5*D$17 -> 0 | E20: =E5*E$17 -> 212.02371 | F20: =F5*F$17 -> 0 | G20: =G5*G$17 -> 181.63091 | H20: =H5*H$17 -> 0 | I20: =I5*I$17 -> 0 | J20: =J5*J$17 -> 0 | ... M20: =M5*M$17 -> 0 | N20: =SUM(C20:M20) -> 692.54252 | O20: =N20+N24+N25+N26 -> 1275.2736
B21: Budynki, urządzenia i wyposażenie obiektów pozostałych, niemieszkalnych | C21: =C6*C$17 -> 1603.7 | D21: =D6*D$17 -> 0 | E21: =E6*E$17 -> 5403.5905 | F21: =F6*F$17 -> 0 | G21: =G6*G$17 -> 16.008721 | H21: =H6*H$17 -> 0 | I21: =I6*I$17 -> 78.995212 | J21: =J6*J$17 -> 0 | ... M21: =M6*M$17 -> 0 | N21: =SUM(C21:M21) -> 8341.8976
B22: Budynki mieszkalne | C22: =C7*C$17 -> 5858.58 | D22: =D7*D$17 -> 0 | E22: =E7*E$17 -> 1883.6084 | F22: =F7*F$17 -> 0 | G22: =G7*G$17 -> 161.12377 | H22: =H7*H$17 -> 0 | I22: =I7*I$17 -> 0 | J22: =J7*J$17 -> 0 | ... M22: =M7*M$17 -> 0 | N22: =SUM(C22:M22) -> 16287.549
B23: Przemysł | C23: =C8*C$17 -> 4808.664 | D23: =D8*D$17 -> 6888.766 | E23: =E8*E$17 -> 13.371415 | F23: =F8*F$17 -> 0 | G23: =G8*G$17 -> 0 | H23: =H8*H$17 -> 0 | I23: =I8*I$17 -> 0 | J23: =J8*J$17 -> 0 | ... M23: =M8*M$17 -> 0 | N23: =SUM(C23:M23) -> 11710.801
B24: Oświetlenie publiczne | C24: =C9*C$17 -> 463.652 | D24: =D9*D$17 -> 0 | E24: =E9*E$17 -> 0 | F24: =F9*F$17 -> 0 | G24: =G9*G$17 -> 0 | H24: =H9*H$17 -> 0 | I24: =I9*I$17 -> 0 | J24: =J9*J$17 -> 0 | ... M24: =M9*M$17 -> 0 | N24: =SUM(C24:M24) -> 463.652
B25: Pojazdy gminne | C25: =C10*C$17 -> 0 | D25: =D10*D$17 -> 0 | E25: =E10*E$17 -> 0 | F25: =F10*F$17 -> 0 | G25: =G10*G$17 -> 0 | H25: =H10*H$17 -> 37.3358 | I25: =I10*I$17 -> 0 | J25: =J10*J$17 -> 0 | ... M25: =M10*M$17 -> 0 | N25: =SUM(C25:M25) -> 37.3358
B26: Transport publiczny gminny | C26: =C11*C$17 -> 0 | D26: =D11*D$17 -> 0 | E26: =E11*E$17 -> 0 | F26: =F11*F$17 -> 0 | G26: =G11*G$17 -> 0 | H26: =H11*H$17 -> 81.743238 | I26: =I11*I$17 -> 0 | J26: =J11*J$17 -> 0 | ... M26: =M11*M$17 -> 0 | N26: =SUM(C26:M26) -> 81.743238 | O26: =N26+N25 -> 119.07904
B27: Transport prywatny i komercyjny | C27: =C12*C$17 -> 0 | D27: =D12*D$17 -> 0 | E27: =E12*E$17 -> 0 | F27: =F12*F$17 -> 0 | G27: =G12*G$17 -> 0 | H27: =H12*H$17 -> 5082.3 | I27: =I12*I$17 -> 331.1 | J27: =J12*J$17 -> 1709.6 | ... M27: =M12*M$17 -> 0 | N27: =SUM(C27:M27) -> 7123
B28: Gospodarka odpadami | C28: =C13*C$17 -> 0 | D28: =D13*D$17 -> 0 | E28: =E13*E$17 -> 0 | F28: =F13*F$17 -> 0 | G28: =G13*G$17 -> 0 | H28: =H13*H$17 -> 0 | I28: =I13*I$17 -> 0 | J28: =J13*J$17 -> 0 | ... M28: =M13*M$17 -> 0 | N28: =SUM(C28:M28) -> 0
B29: Gospodarka wodno-ściekowa | C29: =C14*C$17 -> 0 | D29: =D14*D$17 -> 0 | E29: =E14*E$17 -> 0 | F29: =F14*F$17 -> 0 | G29: =G14*G$17 -> 0 | H29: =H14*H$17 -> 0 | I29: =I14*I$17 -> 0 | J29: =J14*J$17 -> 0 | ... M29: =M14*M$17 -> 0 | N29: =SUM(C29:M29) -> 0 | O29: Sprawdzenie | P29: =SUM(BUD_GMIN!I15+BUD_USLUG!I15+BUD_MIESZK!I15+PRZEM!I15+OSW!D5+TR_GMIN!I9+TR_PUBL!I9+TR_PRYW!J12) -> 44738.869
B30: SUMA | C30: =SUM(C20:C29) -> 12930.334 | D30: =SUM(D20:D29) -> 6888.766 | E30: =SUM(E20:E29) -> 7512.594 | F30: =SUM(F20:F29) -> 0 | G30: =SUM(G20:G29) -> 358.76341 | H30: =SUM(H20:H29) -> 5201.379 | I30: =SUM(I20:I29) -> 410.09521 | J30: =SUM(J20:J29) -> 1709.6 | ... N30: =SUM(N20:N29) -> 44738.521 | O30: =IF(N30-P30<1,"OK","BŁĄD") -> OK | P30: =SUM(BUD_GMIN!I15,BUD_USLUG!I15,BUD_MIESZK!I15,PRZEM!I15,OSW!D5,TR_GMIN!I9,TR_PUBL!I9,TR_PRYW!J12) -> 44738.869 | Q30: Suma z arkuszy
O31: =IF(O30="BŁĄD","Sprawdź dane na arkuszach obszarów - wskaźniki emisji i energii","")
B32: Liczba mieszkańców | C32: =OGOLNE!D18 -> 8166 | D32: os.
B33: Emisja CO2 na jednego mieszkańca | C33: =N30/C32 -> 5.4786335 | D33: Mg CO2/os
Q34: =K30*5.5% -> 534.98442 | R34: =K30-Q34 -> 9192.005

Sheet PROGNOZA
A1: Zmiana procentowa w perspektywie 2022-2027
A2: przemysł | B2: 0.1
A3: transport | B3: 0.12
A4: usługi | B4: 0.2
A5: gospodarstwa domowe | B5: 0.02
S7: Tabela 1. Emisja dwutlenku węgla w poszczególnych sektorach w roku bazowym (2013 r.) oraz w roku docelowym 2020 t CO2 | Y7: Tabela 2. Produkcja energii OZE w poszczególnych sektorach w roku bazowym (2013 r.) oraz w roku docelowym 2020 [MWh] | AH7: Tabela 2. Redukcja zużycia energii w poszczególnych sektorach w roku bazowym (2013 r.) oraz w roku docelowym 2020 [MWh]
A8: Zużycie energii [MWh] | B8: Energia elektryczna | C8: Gaz ziemny wysokometanowy | D8: Gaz ziemny zaazotowany | E8: Ciepło sieciowe | F8: Olej opałowy | G8: Olej napędowy | H8: LPG | I8: Benzyna | J8: Węgiel kamienny | K8: Węgiel brunanty | L8: Drewno | M8: SUMA | O8: Prognoza scenariusz 0 | P8: Prognoza scenariusz 1 | S8: Sektor | T8: Emisja w 2013r [tCO2] | U8: Scenariusz 0 dla roku 2020 [tCO2] | V8: Scenariusz docelowy [tCO2] | W8: Wymagana redukcja dla Scenariusza docelowego [tCO2] | Y8: Sektor | Z8: Produkcja energii z OZE w 2013r [MWh] | AA8: Udział OZE zapotrzebowaniu na energię w 2013 r | AB8: Produkcja energii z OZE w 2020r w Scenariuszu 1 [MWh] | AC8: Udział OZE w zapotrzebowaniu na energię w 2020 r w Scenariuszu 1 | AD8: Produkcja energii z OZE w 2020r w Scenariuszu docelowym [MWh] | AE8: Wzrost produkcji energii z OZE do 2020r w Scenariuszu docelowym [ MWh] | AF8: Udział OZE zapotrzebowaniu na energię w 2020 r w Scenariuszu docelowym | AH8: Sektor | AI8: Zużycie energii w 2013r [MWh] | AJ8: Zużycie energii w Scenariuszu 0 dla roku 2020 [MWh] | AK8: Zużycie energii w Scenariuszu docelowym dla roku 2020 [MWh] | AL8: Wymagana redukcja zużycia energii dla Scenariusza docelowego [MWh]
A9: Budynki, urządzenia i wyposażenie obiektów gminnych | B9: =RAPORT!C5 -> 241.057 | C9: =RAPORT!D5 -> 0 | D9: =RAPORT!E5 -> 1070.8268 | E9: =RAPORT!F5 -> 0 | F9: =RAPORT!G5 -> 658.08301 | G9: =RAPORT!H5 -> 0 | H9: =RAPORT!I5 -> 0 | I9: =RAPORT!J5 -> 0 | ... L9: =RAPORT!M5 -> 0 | M9: =SUM(B9:L9) -> 2272.4584 | O9: =M9+(M9*B$4) -> 2726.95 | P9: =O9*0.82 -> 2236.099 | S9: Budynki, urządzenia i wyposażenie obiektów gminnych | T9: =M24 -> 692.54252 | U9: =P24 -> 681.46184 | V9: =T9*0.8 -> 554.03402 | W9: =U9-V9 -> 127.42782 | Y9: Budynki, urządzenia i wyposażenie obiektów gminnych | Z9: =L9 -> 0 | AA9: =L9/M9 -> 0 | AB9: 0 | AC9: =AB9/P9 -> 0 | AD9: 450 | AE9: =AD9-AB9 -> 450 | AF9: =AD9/AK9 -> 0.24752929 | AH9: Budynki, urządzenia i wyposażenie obiektów gminnych | AI9: =M9 -> 2272.4584 | AJ9: =P9 -> 2236.099 | AK9: =AI9*0.8 -> 1817.9667 | AL9: =AJ9-AK9 -> 418.13234
A10: Budynki, urządzenia i wyposażenie obiektów pozostałych, niemieszkalnych | B10: =RAPORT!C6 -> 1975 | C10: =RAPORT!D6 -> 0 | D10: =RAPORT!E6 -> 27290.861 | E10: =RAPORT!F6 -> 0 | F10: =RAPORT!G6 -> 58.002614 | G10: =RAPORT!H6 -> 0 | H10: =RAPORT!I6 -> 347.99653 | I10: =RAPORT!J6 -> 0 | ... L10: =RAPORT!M6 -> 1683.3333 | M10: =SUM(B10:L10) -> 34990.394 | O10: =M10+(M10*B$4) -> 41988.472 | P10: =O10*0.82 -> 34430.547 | S10: Budynki, urządzenia i wyposażenie obiektów pozostałych, niemieszkalnych | T10: =M25 -> 8341.8976 | U10: =P25 -> 8208.4273 | V10: =T10*0.8 -> 6673.5181 | W10: =U10-V10 -> 1534.9092 | Y10: Budynki, urządzenia i wyposażenie obiektów pozostałych, niemieszkalnych | Z10: =L10 -> 1683.3333 | AA10: =L10/M10 -> 0.048108442 | AB10: =L10+(L10*B4) -> 2020 | AC10: =AB10/P10 -> 0.058668832 | AD10: =Z10*1.4 -> 2356.6667 | AE10: =AD10-AB10 -> 336.66667 | AF10: =AD10/AK10 -> 0.084189774 | AH10: Budynki, urządzenia i wyposażenie obiektów pozostałych, niemieszkalnych | AI10: =M10 -> 34990.394 | AJ10: =P10 -> 34430.547 | AK10: =AI10*0.8 -> 27992.315 | AL10: =AJ10-AK10 -> 6438.2324
A11: Budynki mieszkalne | B11: =RAPORT!C7 -> 7215 | C11: =RAPORT!D7 -> 0 | D11: =RAPORT!E7 -> 9513.1737 | E11: =RAPORT!F7 -> 0 | F11: =RAPORT!G7 -> 583.78179 | G11: =RAPORT!H7 -> 0 | H11: =RAPORT!I7 -> 0 | I11: =RAPORT!J7 -> 0 | ... L11: =RAPORT!M7 -> 16527.303 | M11: =SUM(B11:L11) -> 58426.463 | O11: =M11+(M11*B$5) -> 59594.992 | P11: =O11*0.82 -> 48867.893 | S11: Budynki mieszkalne | T11: =M26 -> 16287.549 | U11: =P26 -> 13622.906 | V11: =T11*0.8 -> 13030.039 | W11: =U11-V11 -> 592.86677 | Y11: Budynki mieszkalne | Z11: =L11 -> 16527.303 | AA11: =L11/M11 -> 0.28287359 | AB11: =L11+(L11*B5) -> 16857.849 | AC11: =AB11/P11 -> 0.34496779 | AD11: =Z11*1.37 -> 22642.405 | AE11: =AD11-AB11 -> 5784.5561 | AF11: =AD11/AK11 -> 0.48442102 | AH11: Budynki mieszkalne | AI11: =M11 -> 58426.463 | AJ11: =P11 -> 48867.893 | AK11: =AI11*0.8 -> 46741.17 | AL11: =AJ11-AK11 -> 2126.7232
A12: Przemysł | B12: =RAPORT!C8 -> 5922 | C12: =RAPORT!D8 -> 34272.468 | D12: =RAPORT!E8 -> 67.532397 | E12: =RAPORT!F8 -> 0 | F12: =RAPORT!G8 -> 0 | G12: =RAPORT!H8 -> 0 | H12: =RAPORT!I8 -> 0 | I12: =RAPORT!J8 -> 0 | ... L12: =RAPORT!M8 -> 0 | M12: =SUM(B12:L12) -> 40262 | O12: =M12+(M12*B$2) -> 44288.2 | P12: =O12*0.82 -> 36316.324 | S12: Przemysł | T12: =M27 -> 11710.801 | U12: =P27 -> 10563.143 | V12: =T12*0.8 -> 9368.6411 | W12: =U12-V12 -> 1194.5017 | Y12: Przemysł | Z12: =L12 -> 0 | AA12: =L12/M12 -> 0 | AB12: 0 | AC12: =AB12/P12 -> 0 | AD12: 680 | AE12: =AD12-AB12 -> 680 | AF12: =AD12/AK12 -> 0.021111718 | AH12: Przemysł | AI12: =M12 -> 40262 | AJ12: =P12 -> 36316.324 | AK12: =AI12*0.8 -> 32209.6 | AL12: =AJ12-AK12 -> 4106.724
A13: Oświetlenie publiczne | B13: =RAPORT!C9 -> 571 | C13: =RAPORT!D9 -> 0 | D13: =RAPORT!E9 -> 0 | E13: =RAPORT!F9 -> 0 | F13: =RAPORT!G9 -> 0 | G13: =RAPORT!H9 -> 0 | H13: =RAPORT!I9 -> 0 | I13: =RAPORT!J9 -> 0 | ... L13: =RAPORT!M9 -> 0 | M13: =SUM(B13:L13) -> 571 | O13: =M13+(M13*B$4) -> 685.2 | P13: =O13*0.82 -> 561.864 | S13: Oświetlenie publiczne | T13: =M28 -> 463.652 | U13: =P28 -> 456.23357 | V13: =T13*0.8 -> 370.9216 | W13: =U13-V13 -> 85.311968 | Y13: Oświetlenie publiczne | Z13: =L13 -> 0 | AA13: =L13/M13 -> 0 | AB13: 0 | AC13: =AB13/P13 -> 0 | AD13: 520 | AE13: =AD13-AB13 -> 520 | AF13: =AD13/AK13 -> 1.1383538 | AH13: Oświetlenie publiczne | AI13: =M13 -> 571 | AJ13: =P13 -> 561.864 | AK13: =AI13*0.8 -> 456.8 | AL13: =AJ13-AK13 -> 105.064
A14: Pojazdy gminne | B14: =RAPORT!C10 -> 0 | C14: =RAPORT!D10 -> 0 | D14: =RAPORT!E10 -> 0 | E14: =RAPORT!F10 -> 0 | F14: =RAPORT!G10 -> 0 | G14: =RAPORT!H10 -> 139.83446 | H14: =RAPORT!I10 -> 0 | I14: =RAPORT!J10 -> 0 | ... L14: =RAPORT!M10 -> 0 | M14: =SUM(B14:L14) -> 139.83446 | O14: =M14+(M14*B$3) -> 156.61459 | P14: =O14*0.82 -> 128.42396 | S14: Pojazdy gminne | T14: =M29 -> 37.3358 | U14: =P29 -> 34.289198 | V14: =T14*0.8 -> 29.86864 | W14: =U14-V14 -> 4.4205587 | Y14: Pojazdy gminne | Z14: =L14 -> 0 | AA14: =L14/M14 -> 0 | AB14: 0 | AC14: =AB14/P14 -> 0 | AE14: =AD14-AB14 -> 0 | AF14: =AD14/AK14 -> 0 | AH14: Pojazdy gminne | AI14: =M14 -> 139.83446 | AJ14: =P14 -> 128.42396 | AK14: =AI14*0.8 -> 111.86756 | AL14: =AJ14-AK14 -> 16.5564
A15: Transport publiczny gminny | B15: =RAPORT!C11 -> 0 | C15: =RAPORT!D11 -> 0 | D15: =RAPORT!E11 -> 0 | E15: =RAPORT!F11 -> 0 | F15: =RAPORT!G11 -> 0 | G15: =RAPORT!H11 -> 306.15445 | H15: =RAPORT!I11 -> 0 | I15: =RAPORT!J11 -> 0 | ... L15: =RAPORT!M11 -> 0 | M15: =SUM(B15:L15) -> 306.15445 | O15: =M15+(M15*B$3) -> 342.89298 | P15: =O15*0.82 -> 281.17225 | S15: Transport publiczny gminny | T15: =M30 -> 81.743238 | U15: =P30 -> 75.07299 | V15: =T15*0.8 -> 65.394591 | W15: =U15-V15 -> 9.6783994 | Y15: Transport publiczny gminny | Z15: =L15 -> 0 | AA15: =L15/M15 -> 0 | AB15: 0 | AC15: =AB15/P15 -> 0 | AE15: =AD15-AB15 -> 0 | AF15: =AD15/AK15 -> 0 | AH15: Transport publiczny gminny | AI15: =M15 -> 306.15445 | AJ15: =P15 -> 281.17225 | AK15: =AI15*0.8 -> 244.92356 | AL15: =AJ15-AK15 -> 36.248687
A16: Transport prywatny i komercyjny | B16: =RAPORT!C12 -> 0 | C16: =RAPORT!D12 -> 0 | D16: =RAPORT!E12 -> 0 | E16: =RAPORT!F12 -> 0 | F16: =RAPORT!G12 -> 0 | G16: =RAPORT!H12 -> 19034.831 | H16: =RAPORT!I12 -> 1458.5903 | I16: =RAPORT!J12 -> 6865.8635 | ... L16: =RAPORT!M12 -> 0 | M16: =SUM(B16:L16) -> 27359.285 | O16: =M16+(M16*B$3) -> 30642.399 | P16: =O16*0.82 -> 25126.768 | S16: Transport prywatny i komercyjny | T16: =M31 -> 7123 | U16: =P31 -> 6541.7632 | V16: =T16*0.8 -> 5698.4 | W16: =U16-V16 -> 843.3632 | Y16: Transport prywatny i komercyjny | Z16: =L16 -> 0 | AA16: =L16/M16 -> 0 | AB16: 0 | AC16: =AB16/P16 -> 0 | AE16: =AD16-AB16 -> 0 | AF16: =AD16/AK16 -> 0 | AH16: Transport prywatny i komercyjny | AI16: =M16 -> 27359.285 | AJ16: =P16 -> 25126.768 | AK16: =AI16*0.8 -> 21887.428 | AL16: =AJ16-AK16 -> 3239.3394
A17: Gospodarka odpadami | B17: =RAPORT!C13 -> 0 | C17: =RAPORT!D13 -> 0 | D17: =RAPORT!E13 -> 0 | E17: =RAPORT!F13 -> 0 | F17: =RAPORT!G13 -> 0 | G17: =RAPORT!H13 -> 0 | H17: =RAPORT!I13 -> 0 | I17: =RAPORT!J13 -> 0 | ... L17: =RAPORT!M13 -> 0 | M17: =SUM(B17:L17) -> 0 | P17: =O17*0.82 -> 0 | S17: Razem | T17: =SUM(T9:T16) -> 44738.521 | U17: =SUM(U9:U16) -> 40183.297 | V17: =SUM(V9:V16) -> 35790.817 | W17: =SUM(W9:W16) -> 4392.4796 | Y17: Razem | Z17: =SUM(Z9:Z16) -> 18210.636 | AA17: =Z17/M19 -> 0.11081911 | AB17: =SUM(AB9:AB16) -> 18877.849 | AC17: =AB17/P19 -> 0.12759693 | AD17: =SUM(AD9:AD16) -> 26649.072 | AE17: =SUM(AE9:AE16) -> 7771.2228 | AF17: =AD17/AK17 -> 0.20271301 | AH17: Razem | AI17: =SUM(AI9:AI16) -> 164327.59 | AJ17: =SUM(AJ9:AJ16) -> 147949.09 | AK17: =SUM(AK9:AK16) -> 131462.07 | AL17: =SUM(AL9:AL16) -> 16487.02
A18: Gospodarka wodno-ściekowa | B18: =RAPORT!C14 -> 0 | C18: =RAPORT!D14 -> 0 | D18: =RAPORT!E14 -> 0 | E18: =RAPORT!F14 -> 0 | F18: =RAPORT!G14 -> 0 | G18: =RAPORT!H14 -> 0 | H18: =RAPORT!I14 -> 0 | I18: =RAPORT!J14 -> 0 | ... L18: =RAPORT!M14 -> 0 | M18: =SUM(B18:L18) -> 0 | P18: =O18*0.82 -> 0 | S18: Dynamika emisji | U18: =(U17-T17)/T17 -> -0.10181885 | V18: =(V17-T17)/T17 -> -0.2 | Y18: Dynamika produkcji | AB18: =(AB17-Z17)/Z17 -> 0.036638628 | AD18: =AD17/AK17 -> 0.20271301 | AH18: Dynamika emisji | AJ18: =(AJ17-AI17)/AI17 -> -0.099669796 | AK18: =(AK17-AI17)/AI17 -> -0.2
A19: SUMA | B19: =SUM(B9:B18) -> 15924.057 | C19: =SUM(C9:C18) -> 34272.468 | D19: =SUM(D9:D18) -> 37942.394 | E19: =SUM(E9:E18) -> 0 | F19: =SUM(F9:F18) -> 1299.8674 | G19: =SUM(G9:G18) -> 19480.82 | H19: =SUM(H9:H18) -> 1806.5868 | I19: =SUM(I9:I18) -> 6865.8635 | ... M19: =SUM(M9:M18) -> 164327.59 | O19: =SUM(O9:O18) -> 180425.72 | P19: =SUM(P9:P18) -> 147949.09
A21: Zastosowane wskaźniki emisji | B21: 0.812 | C21: 0.201 | D21: 0.198 | E21: 0 | F21: 0.276 | G21: 0.267 | H21: 0.227 | I21: 0.249 | J21: 0.341 | K21: 0.388 | L21: 0
A23: Emisja [Mg CO2] | B23: Energia elektryczna | C23: Gaz ziemny wysokometanowy | D23: Gaz ziemny zaazotowany | E23: Ciepło sieciowe | F23: Olej opałowy | G23: Olej napędowy | H23: LPG | I23: Benzyna | J23: Węgiel kamienny | K23: Węgiel brunanty | L23: Drewno | M23: SUMA | O23: Prognoza scenariusz bazowy | P23: Prognoza scenariusz 1
A24: Budynki, urządzenia i wyposażenie obiektów gminnych | B24: =RAPORT!C20 -> 195.73828 | C24: =RAPORT!D20 -> 0 | D24: =RAPORT!E20 -> 212.02371 | E24: =RAPORT!F20 -> 0 | F24: =RAPORT!G20 -> 181.63091 | G24: =RAPORT!H20 -> 0 | H24: =RAPORT!I20 -> 0 | I24: =RAPORT!J20 -> 0 | ... L24: =RAPORT!M20 -> 0 | M24: =SUM(B24:L24) -> 692.54252 | O24: =M24+(M24*B$4) -> 831.05103 | P24: =O24*0.82 -> 681.46184
A25: Budynki, urządzenia i wyposażenie obiektów pozostałych, niemieszkalnych | B25: =RAPORT!C21 -> 1603.7 | C25: =RAPORT!D21 -> 0 | D25: =RAPORT!E21 -> 5403.5905 | E25: =RAPORT!F21 -> 0 | F25: =RAPORT!G21 -> 16.008721 | G25: =RAPORT!H21 -> 0 | H25: =RAPORT!I21 -> 78.995212 | I25: =RAPORT!J21 -> 0 | ... L25: =RAPORT!M21 -> 0 | M25: =SUM(B25:L25) -> 8341.8976 | O25: =M25+(M25*B$4) -> 10010.277 | P25: =O25*0.82 -> 8208.4273
A26: Budynki mieszkalne | B26: =RAPORT!C22 -> 5858.58 | C26: =RAPORT!D22 -> 0 | D26: =RAPORT!E22 -> 1883.6084 | E26: =RAPORT!F22 -> 0 | F26: =RAPORT!G22 -> 161.12377 | G26: =RAPORT!H22 -> 0 | H26: =RAPORT!I22 -> 0 | I26: =RAPORT!J22 -> 0 | ... L26: =RAPORT!M22 -> 0 | M26: =SUM(B26:L26) -> 16287.549 | O26: =M26+(M26*B$5) -> 16613.3 | P26: =O26*0.82 -> 13622.906
A27: Przemysł | B27: =RAPORT!C23 -> 4808.664 | C27: =RAPORT!D23 -> 6888.766 | D27: =RAPORT!E23 -> 13.371415 | E27: =RAPORT!F23 -> 0 | F27: =RAPORT!G23 -> 0 | G27: =RAPORT!H23 -> 0 | H27: =RAPORT!I23 -> 0 | I27: =RAPORT!J23 -> 0 | ... L27: =RAPORT!M23 -> 0 | M27: =SUM(B27:L27) -> 11710.801 | O27: =M27+(M27*B$2) -> 12881.882 | P27: =O27*0.82 -> 10563.143
A28: Oświetlenie publiczne | B28: =RAPORT!C24 -> 463.652 | C28: =RAPORT!D24 -> 0 | D28: =RAPORT!E24 -> 0 | E28: =RAPORT!F24 -> 0 | F28: =RAPORT!G24 -> 0 | G28: =RAPORT!H24 -> 0 | H28: =RAPORT!I24 -> 0 | I28: =RAPORT!J24 -> 0 | ... L28: =RAPORT!M24 -> 0 | M28: =SUM(B28:L28) -> 463.652 | O28: =M28+(M28*B$4) -> 556.3824 | P28: =O28*0.82 -> 456.23357
A29: Pojazdy gminne | B29: =RAPORT!C25 -> 0 | C29: =RAPORT!D25 -> 0 | D29: =RAPORT!E25 -> 0 | E29: =RAPORT!F25 -> 0 | F29: =RAPORT!G25 -> 0 | G29: =RAPORT!H25 -> 37.3358 | H29: =RAPORT!I25 -> 0 | I29: =RAPORT!J25 -> 0 | ... L29: =RAPORT!M25 -> 0 | M29: =SUM(B29:L29) -> 37.3358 | O29: =M29+(M29*B$3) -> 41.816096 | P29: =O29*0.82 -> 34.289198
A30: Transport publiczny gminny | B30: =RAPORT!C26 -> 0 | C30: =RAPORT!D26 -> 0 | D30: =RAPORT!E26 -> 0 | E30: =RAPORT!F26 -> 0 | F30: =RAPORT!G26 -> 0 | G30: =RAPORT!H26 -> 81.743238 | H30: =RAPORT!I26 -> 0 | I30: =RAPORT!J26 -> 0 | ... L30: =RAPORT!M26 -> 0 | M30: =SUM(B30:L30) -> 81.743238 | O30: =M30+(M30*B$3) -> 91.552427 | P30: =O30*0.82 -> 75.07299
A31: Transport prywatny i komercyjny | B31: =RAPORT!C27 -> 0 | C31: =RAPORT!D27 -> 0 | D31: =RAPORT!E27 -> 0 | E31: =RAPORT!F27 -> 0 | F31: =RAPORT!G27 -> 0 | G31: =RAPORT!H27 -> 5082.3 | H31: =RAPORT!I27 -> 331.1 | I31: =RAPORT!J27 -> 1709.6 | ... L31: =RAPORT!M27 -> 0 | M31: =SUM(B31:L31) -> 7123 | O31: =M31+(M31*B$3) -> 7977.76 | P31: =O31*0.82 -> 6541.7632
A32: Gospodarka odpadami | B32: =RAPORT!C28 -> 0 | C32: =RAPORT!D28 -> 0 | D32: =RAPORT!E28 -> 0 | E32: =RAPORT!F28 -> 0 | F32: =RAPORT!G28 -> 0 | G32: =RAPORT!H28 -> 0 | H32: =RAPORT!I28 -> 0 | I32: =RAPORT!J28 -> 0 | ... L32: =RAPORT!M28 -> 0 | M32: =SUM(B32:L32) -> 0 | P32: =O32*0.82 -> 0
A33: Gospodarka wodno-ściekowa | B33: =RAPORT!C29 -> 0 | C33: =RAPORT!D29 -> 0 | D33: =RAPORT!E29 -> 0 | E33: =RAPORT!F29 -> 0 | F33: =RAPORT!G29 -> 0 | G33: =RAPORT!H29 -> 0 | H33: =RAPORT!I29 -> 0 | I33: =RAPORT!J29 -> 0 | ... L33: =RAPORT!M29 -> 0 | M33: =SUM(B33:L33) -> 0 | P33: =O33*0.82 -> 0
A34: SUMA | B34: =SUM(B24:B33) -> 12930.334 | C34: =SUM(C24:C33) -> 6888.766 | D34: =SUM(D24:D33) -> 7512.594 | E34: =SUM(E24:E33) -> 0 | F34: =SUM(F24:F33) -> 358.76341 | G34: =SUM(G24:G33) -> 5201.379 | H34: =SUM(H24:H33) -> 410.09521 | I34: =SUM(I24:I33) -> 1709.6 | ... M34: =SUM(M24:M33) -> 44738.521 | O34: =SUM(O24:O33) -> 49004.02 | P34: =SUM(P24:P33) -> 40183.297

Sheet OGOLNE
A1: OGÓLNA CHARAKTERYSTYKA GMINY
B2: Źródło: Bank Danych Lokalnych GUS (2020)
B3: 1.Gmina | D3: Święciechowa
B4: 2. Liczba sołectw | D4: 12
B5: 3. Charakter | D5: Gmina Wiejska
B6: 4. Sołectwa w gminie | D6: Długie Nowe
D7: Długie Stare
D8: Gołanice
D9: Henrykowo
D10: Krzycko Małe
D11: Lasocice
D12: Niechłód
D13: Piotrowice
D14: Przybyszewo
D15: Strzyżewice
D16: Święciechowa
D17: Trzebiny
B18: 5. Liczba mieszkańców | C18: gmina | D18: 8166
C19: miasto | D19: -
C20: obszar wiejski | D20: -
B21: 6. Liczba mieszkańców | C21: 2009 | D21: 7326
C22: 2010 | D22: 7455
C23: 2011 | D23: 7505
C24: 2012 | D24: 7549
C25: 2013 | D25: 7661
B26: 7. Liczba podmiotów gospodarczych | C26: 2009 | D26: 697
C27: 2010 | D27: 739
C28: 2011 | D28: 745
C29: 2012 | D29: 758
C30: 2013 | D30: 789
B31: 8. Gęstość zaludnienia (ludność na 1 km2) | C31: gmina | D31: 61
C32: miasto | D32: -
C33: obszar wiejski | D33: -
B34: 9. Powierzchnia gminy (ha) | D34: 13494
B35: 10. Kierunki wykorzystania powierzchni | C35: ogółem (ha), w tym: | D35: 13494
C36: użytki rolne (ha) | D36: 8131
C37: grunty leśne (ha) | D37: 4604
C38: grunty pod wodami (ha) | D38: 73
C39: grunty zabudowane (ha) | D39: 630
C40: użytki ekologiczne(ha) | D40: 0
C41: nieużytki (ha) | D41: 40
C42: tereny różne (ha) | D42: 16
B43: 11. Liczba budynków mieszkalnych | C43: gmina | D43: 2053
C44: miasto | D44: -
C45: obszar wiejski | D45: -
B46: 12. Liczba mieszkań | C46: gmina | D46: 2638
C47: miasto | D47: -
C48: obszar wiejski | D48: -
B49: 13. Łączna powierzcnia użytkowa mieszkań | C49: gmina | D49: 290519
C50: miasto | D50: -
C51: obszar wiejski | D51: -
B52: 14. Przeciętna powierzchnia użytkowa 1 mieszkania | C52: m2 | D52: 110.1
B53: 15. Liczba przedsiębiorstw | C53: mikro (0-9) | D53: 741
C54: małe(10-49) | D54: 40
C55: średnie (50-249) | D55: 8
C56: duże (250-999) | D56: -
C57: wielkie (1000 i więcej) | D57: -
C58: ogółem | D58: =SUM(D53:D57) -> 789
B59: 16. Podmioty gospodarcze | C59: sektor publiczny | D59: 18
C60: sektor prywatny, w tym: | D60: 771
C61: os. fizyczne | D61: 618
B62: 17. Gospodarstwa rolne ogółem (2010), w tym: | C62: do 1 ha | D62: 94
C63: 1 - 5 ha | D63: 113
C64: 5 - 10 ha | D64: 48
C65: 10 ha i więcej | D65: 114
C66: łącznie | D66: =SUM(D62:D65) -> 369
B67: 17a. Gospodarstwa rolne prowadzące działaność (2010) | C67: do 1 ha | D67: 51
C68: 1 - 5 ha | D68: 112
C69: 5 - 10 ha | D69: 48
C70: 10 ha i więcej | D70: 114
B71: 18. Mieszkania wyposażone w gaz sieciowy | D71: 643
B72: 19. Zużycie gazu (tys. m3) | C72: ogółem | D72: 749.45
C73: na cele ogrzewania | D73: 732.34
B74: 20. Odbiorcy energii elektrycznej na niskim napięciu | D74: -
B75: 21. Zużycie energii elektrycznej na niskim napięciu [MWh] | D75: -
B76: 22. Powierzchnia obszarów prawnie chronionych (ha) | D76: 2561.4
B77: 23. Korzystający z instalacji w % ogółu ludności | C77: wodociąg | D77: 97.7
C78: kanalizacja | D78: 65
C79: gaz | D79: 24.3
B80: 24. Dystrybucja gazu ziemnego www.msd.wsgaz.pl | D80: tak (gazyfikacja 17,44%)
B81: 25. Podmioty wg rodzaju prowadzonej działalności | C81: rolnictwo | D81: 62
C82: przemysł (produkcja) | D82: 228
C83: usługi | D83: 499
B84: 26. Mieszkania posiadające zbiorowe centralne ogrzewanie (2002) | C84: ogółem | D84: 1709
C85: zbiorowe CO | D85: 145
C86: udział % zbiorowego CO | D86: =D85/D84*100 -> 8.4844939
B87: 27. Liczba budynków mieszkalnych (2002) | D87: 1230
B88: 28. Wiek budynków | C88: przed 1918 | D88: 464
C89: 1918 - 1944 | D89: 225
C90: 1945 - 1970 | D90: 285
C91: 1971 - 1978 | D91: 208
C92: 1979 - 1988 | D92: 331
C93: 1989 - 2002 | D93: =194+46 -> 240
C94: 2002-2013 | D94: 318

Sheet BUD_GMIN
A1: BUDYNKI GMINNE
A2: Charakterystyka, zużycie paliw oraz emisja CO2
B4: Rodzaj paliwa | C4: Zużycie paliwa | D4: Jednostka | E4: Wartość opałowa | F4: Jednostka | G4: Całkowita energia (MWh) | H4: Wskaźnik emisji (Mg CO2/MWh) | I4: Całkowita emisja (Mg CO2) | J4: Udział w emisji | K4: UWAGI
B5: Energia elektryczna | C5: =SUM(R19:R45)/1000 -> 241.057 | D5: MWh | E5: 1 | F5: MWh | G5: =C5*E5 -> 241.057 | H5: 0.812 | I5: =H5*G5 -> 195.73828 | J5: =I5/$I$15 -> 0.28263721
B6: Gaz ziemny wysokometanowy | C6: 0 | D6: m³ | E6: 36.09 | F6: MJ/m³ | G6: =C6*E6/3600 -> 0 | H6: 0.201 | I6: =H6*G6 -> 0 | J6: =I6/$I$15 -> 0
B7: Gaz ziemny zaazotowany | C7: =SUM(T19:T45) -> 122225 | D7: m³ | E7: 31.54 | F7: MJ/m³ | G7: =C7*E7/3600 -> 1070.8268 | H7: 0.198 | I7: =H7*G7 -> 212.02371 | J7: =I7/$I$15 -> 0.30615262
B8: Ciepło sieciowe | C8: =SUM(S19:S44)/3.6 -> 0 | D8: MWh | E8: 1 | F8: MWh | G8: =C8*E8 -> 0 | H8: 0 | I8: =H8*G8 -> 0 | J8: =I8/$I$15 -> 0
B9: Olej opałowy | C9: =SUM(V19:V45) -> 65499 | D9: l | E9: 36.17 | F9: MJ/l | G9: =C9*E9/3600 -> 658.08301 | H9: 0.276 | I9: =H9*G9 -> 181.63091 | J9: =I9/$I$15 -> 0.2622668
B10: Olej napędowy | C10: 0 | D10: l | E10: 35.96 | F10: MJ/l | G10: =C10*E10/3600 -> 0 | H10: 0.267 | I10: =H10*G10 -> 0 | J10: =I10/$I$15 -> 0
B11: Węgiel kamienny | C11: =SUM(W19:W45) -> 47.93 | D11: Mg | E11: 22.72 | F11: GJ/Mg | G11: =C11*E11/3.6 -> 302.49156 | H11: 0.341 | I11: =H11*G11 -> 103.14962 | J11: =I11/$I$15 -> 0.14894337
B12: Węgiel brunanty | C12: 0 | D12: Mg | E12: 8.76 | F12: GJ/Mg | G12: =C12*E12/3.6 -> 0 | H12: 0.388 | I12: =H12*G12 -> 0 | J12: =I12/$I$15 -> 0
B13: LPG | C13: 0 | D13: l | E13: 26.5 | F13: MJ/l | G13: =C13*E13/3600 -> 0 | H13: 0.227 | I13: =H13*G13 -> 0 | J13: =I13/$I$15 -> 0
B14: Drewno | C14: =SUM(Z19:Z44) -> 0 | D14: Mg | E14: 20 | F14: GJ/Mg | G14: =C14*E14/3.6 -> 0 | H14: 0 | I14: =H14*G14 -> 0 | J14: =I14/$I$15 -> 0
B15: SUMA | G15: =SUM(G5:G14) -> 2272.4584 | I15: =SUM(I5:I14) -> 692.54252
B17: Adres | D17: Podmiot odpowiedzialny | E17: Klasyfikacja obiektu | F17: Średnia liczba osób przebywających w budynku | G17: Wykorzystanie budynku w ciągu roku | H17: Powierzchnia użytkowa obiektu | I17: Kubatura obiektu | J17: Rok budowy | K17: Zapotrzebowanie ciepła [kW lub inna właściwa jednostka] | N17: Stopień zaawansowania termomodernizacji (ocena szacunkowa) | R17: Zużycie energii w obiekcie (całkowite roczne zużycie na wszystkie potrzby budynku: urządzenia, ogrzewanie, technologia) | AA17: Czy w budynku wykorzystywane są odnawialne źródła energii (OZE)?
B18: [ulica] | C18: [nr bud.] | D18: [nazwa jednostki] | E18: [wg PKOB] | F18: [ilość osób] | G18: [ilość miesięcy] | H18: [m2] | I18: [m3] | J18: [rok lub okres] | K18: CO | L18: C.W.U. | M18: went-klima | N18: ściany [%] | O18: stropy [%] | P18: stolarka [%] | Q18: instalacja c.o. | R18: Energia elektryczna [kWh/rok] | S18: Ciepło z sieci [GJ/rok] | T18: Gaz ziemny zaazotowany [m3/rok] | U18: Gaz płynny [L/rok] | V18: Olej opałowy [L/rok] | W18: Węgiel kamienny [t/rok] | X18: Węgiel brunatny [t/rok] | Y18: Inne paliwa kopalne [t/rok] | Z18: Drewno/inna biomasa [t/rok]
B19: Urząd Gminy ul.Ułańska | C19: 4 | D19: Gmina Święciechowa | E19: Budynki biurowe | F19: 20 | G19: 12 | H19: 450 | J19: 1974 | M19: =-M20 -> 0 | R19: 29016 | S19: 0 | T19: 0 | U19: 0 | V19: 9868 | W19: 0 | X19: =-T19-W20 -> 0 | Y19: 0 | Z19: 0 | AA19: NIE
B20: Urząd Gminy ul. Rynek | C20: 14a | D20: Gmina Święciechowa | E20: Budynki biurowe | F20: 3 | G20: 12 | H20: 350 | J20: 1974 | M20: 0 | R20: 11542 | S20: 0 | T20: 0 | U20: 0 | V20: 14267 | W20: 0 | X20: 0 | Y20: 0 | Z20: 0 | AA20: NIE
B21: Pawilon ul. Ułańska | C21: 34 | D21: Gmina Święciechowa | E21: Budynki handlowo -usługowe | F21: 10 | G21: 12 | H21: 480 | M21: 0 | P21: 1 | R21: 2393 | S21: 0 | T21: 0 | U21: 0 | V21: 10612 | W21: 0 | X21: 0 | Y21: 0 | Z21: 0 | AA21: NIE
B22: GOPS ul. Strzelecka | C22: 7 | D22: Gmina Święciechowa | E22: Budynki biurowe | F22: 8 | G22: 12 | H22: 139 | M22: 0 | P22: 1 | R22: 5271 | S22: 0 | T22: 4918 | U22: 0 | V22: 0 | W22: 0 | X22: 0 | Y22: 0 | Z22: 0 | AA22: NIE
B23: Bar przy plaży Gołanice | D23: Gmina Święciechowa | E23: Budynki handlowo -usługowe | F23: 2 | G23: 4 | H23: 2700 | S23: 0 | T23: 0 | U23: 0 | V23: 0 | W23: 0 | X23: 0 | Y23: 0 | Z23: 0 | AA23: NIE
B24: Sala Święciechowa ul. Strzelecka | C24: 6 | D24: Gmina Święciechowa | E24: Ogólnodostępne obiekty kulturalne | G24: 12 | H24: 1420 | J24: 1987 | P24: 1 | R24: 23077 | S24: 0 | T24: 26345 | U24: 0 | V24: 0 | W24: 0 | X24: 0 | Y24: 0 | Z24: 0 | AA24: NIE
B25: Sala Długie Nowe | D25: Gmina Święciechowa | E25: Ogólnodostępne obiekty kulturalne | G25: 12 | H25: 230 | J25: 1965 | P25: 1 | R25: 2269 | S25: 0 | T25: 0 | U25: 0 | V25: 0 | W25: 0 | X25: 0 | Y25: 0 | Z25: 0 | AA25: NIE
B26: Sala Długie Stare ul. Wiosenna | D26: Gmina Święciechowa | E26: Ogólnodostępne obiekty kulturalne | G26: 12 | H26: 430 | J26: 1900 | R26: 5212 | S26: 0 | T26: 0 | U26: 0 | V26: 0 | W26: 0 | X26: 0 | Y26: 0 | Z26: 0 | AA26: NIE
B27: Sala Lasocice ul. Święciechowska | C27: 1 | D27: Gmina Święciechowa | E27: Ogólnodostępne obiekty kulturalne | G27: 12 | H27: 320 | J27: 1977 | R27: 2457 | S27: 0 | T27: 0 | U27: 0 | V27: 0 | W27: 9.9 | X27: 0 | Y27: 0 | Z27: 0 | AA27: NIE
B28: Sala Przybyszewo ul. Wiejska | D28: Gmina Święciechowa | E28: Ogólnodostępne obiekty kulturalne | G28: 12 | H28: 190 | J28: 1987 | P28: 1 | R28: 3489 | S28: 0 | T28: 0 | U28: 0 | V28: 0 | W28: 0 | X28: 0 | Y28: 0 | Z28: 0 | AA28: NIE
B29: Sala Niechłód | C29: 24 | D29: Gmina Święciechowa | E29: Ogólnodostępne obiekty kulturalne | G29: 12 | H29: 380 | R29: 5629 | S29: 0 | T29: 0 | U29: 0 | V29: 18443 | W29: 0 | X29: 0 | Y29: 0 | Z29: 0 | AA29: NIE
B30: Sala Piotrowice | D30: Gmina Święciechowa | E30: Ogólnodostępne obiekty kulturalne | G30: 12 | H30: 120 | J30: 1965 | R30: 5629 | S30: 0 | T30: 0 | U30: 0 | V30: 0 | W30: 0 | X30: 0 | Y30: 0 | Z30: 0 | AA30: NIE
B31: Sala Trzebiny | D31: Gmina Święciechowa | E31: Ogólnodostępne obiekty kulturalne | G31: 12 | H31: 62 | J31: 2001 | R31: 3404 | S31: 0 | T31: 0 | U31: 0 | V31: 0 | W31: 0 | X31: 0 | Y31: 0 | Z31: 0 | AA31: NIE
B32: Sala Krzycko Male ul. Główna | D32: Gmina Święciechowa | E32: Ogólnodostępne obiekty kulturalne | G32: 12 | H32: 310 | J32: 1990 | R32: 1537 | S32: 0 | T32: 0 | U32: 0 | V32: 0 | W32: 4.3 | X32: 0 | Y32: 0 | Z32: 0 | AA32: NIE
B33: Sala Gołanice ul. Stawowa | D33: Gmina Święciechowa | E33: Ogólnodostępne obiekty kulturalne | G33: 12 | H33: 320 | J33: 1978 | R33: 630 | S33: 0 | T33: 0 | U33: 0 | V33: 0 | W33: 7.13 | X33: 0 | Y33: 0 | Z33: 0 | AA33: NIE
B34: Sala Henrykowo | D34: Gmina Święciechowa | E34: Ogólnodostępne obiekty kulturalne | G34: 12 | H34: 200 | J34: 1850 | R34: 166 | S34: 0 | T34: 0 | U34: 0 | V34: 0 | W34: 4.7 | X34: 0 | Y34: 0 | Z34: 0 | AA34: NIE
B35: Sala Strzyżewice ul. Lotnicza | D35: Gmina Święciechowa | E35: Ogólnodostępne obiekty kulturalne | G35: 12 | H35: 130 | J35: 1994 | R35: 1143 | S35: 0 | T35: 0 | U35: 0 | V35: 0 | W35: 0 | X35: 0 | Y35: 0 | Z35: 0 | AA35: NIE
B36: SOK ul. Śmigielska | D36: Gmina Święciechowa | E36: Ogólnodostępne obiekty kulturalne | F36: 20 | G36: 12 | H36: 348 | J36: 1981 | M36: 0 | O36: 1 | P36: 1 | Q36: 0 | R36: 6799 | S36: 0 | T36: 8561 | U36: 0 | V36: 0 | W36: 0 | X36: 0 | Y36: 0 | Z36: 0 | AA36: NIE
B37: Szkoła Podstawowa w Święciechowie ul Szkolna | C37: 15 | D37: Gmina Święciechowa | E37: Budynki szkół i instytucji badawczych | F37: 390 | G37: 10 | N37: 1 | O37: 1 | P37: 1 | R37: 24861 | S37: 0 | T37: 39946 | U37: 0 | V37: 0 | W37: 0 | X37: 0 | Y37: 0 | Z37: 0 | AA37: TAK - wypełnić arkusz OZE
B38: Szkoła Podstawowa w Długiem Starem ul Leszczyńska | C38: 1 | D38: Gmina Święciechowa | E38: Budynki szkół i instytucji badawczych | F38: 143 | G38: 10 | H38: 881 | J38: 1993 | R38: 7605 | S38: 0 | T38: 0 | U38: 0 | V38: 0 | W38: 17 | X38: 0 | Y38: 0 | Z38: 0 | AA38: NIE
B39: Szkoła Podstawowa w Lasocicach ul Szkolna | C39: 13 | D39: Gmina Święciechowa | E39: Budynki szkół i instytucji badawczych | F39: 158 | G39: 10 | R39: 14801 | S39: 0 | T39: 0 | U39: 0 | V39: 0 | W39: 4.9 | X39: 0 | Y39: 0 | Z39: 0 | AA39: NIE
B40: Klub dziecięcy i Klub Seniora w Święciechowie ul. Kościelna | C40: 4 | D40: Gmina Święciechowa | E40: Budynki szkół i instytucji badawczych | F40: 110 | G40: 11 | J40: 1900 | P40: 1 | R40: 6234 | S40: 0 | T40: 0 | U40: 0 | V40: 12309 | W40: 0 | X40: 0 | Y40: 0 | Z40: 0 | AA40: NIE
B41: Przedszkole w Długiem Starem ul. Wschowska | D41: Gmina Święciechowa | E41: Budynki szkół i instytucji badawczych | F41: 46 | G41: 10 | J41: 1900 | P41: 1 | S41: 0 | T41: 0 | U41: 0 | V41: 0 | W41: 0 | X41: 0 | Y41: 0 | Z41: 0 | AA41: NIE
B42: Przedszkole w Niechłodzie | D42: Gmina Święciechowa | E42: Budynki szkół i instytucji badawczych | F42: 25 | G42: 10 | H42: 70
B43: Przedszkole w Gołanicach ul. Parkowa29 | D43: Gmina Święciechowa | E43: Budynki szkół i instytucji badawczych | F43: 16 | G43: 10 | H43: 93
B44: Przedszkole w Lasocicach ul. Święciechowska 1 | D44: Gmina Święciechowa | E44: Budynki szkół i instytucji badawczych | F44: 39 | G44: 10
B45: Przedszkole Samorządowe ul Strzelecka | D45: Gmina Święciechowa | E45: Budynki szkół i instytucji badawczych | H45: 3030.89 | I45: 14940.78 | J45: 2017 | N45: 1 | O45: 1 | P45: 1 | Q45: 0 | R45: 77893 | S45: 0 | T45: 42455 | U45: 0 | V45: 0 | W45: 0 | X45: 0 | Y45: 0 | Z45: 0 | AA45: Tak

Sheet BUD_USLUG
A1: BUDYNKI USŁUGOWE
A2: Struktura zużycia paliw oraz emisja CO2
B4: Rodzaj paliwa | C4: Zużycie paliwa | D4: Jednostka | E4: Wartość opałowa | F4: Jednostka | G4: Całkowita energia (MWh) | H4: Wskaźnik emisji (Mg CO2/MWh) | I4: Całkowita emisja (Mg CO2) | J4: Udział w emisji | K4: UWAGI
B5: Energia elektryczna | C5: 1975 | D5: MWh | E5: 1 | F5: MWh | G5: =C5*E5 -> 1975 | H5: 0.812 | I5: =H5*G5 -> 1603.7 | J5: =I5/$I$15 -> 0.19224643 | K5: ENEA Operator sp. z o.o. taryfa G
B6: Gaz ziemny wysokometanowy | C6: 0 | D6: m³ | E6: 36.09 | F6: MJ/m³ | G6: =C6*E6/3600 -> 0 | H6: 0.201 | I6: =H6*G6 -> 0 | J6: =I6/$I$15 -> 0 | K6: PGNiG
B7: Gaz ziemny zaazotowany | C7: =SUM(DANE_GAZ!G75:G77)*1000 -> 3115000 | D7: m³ | E7: 31.54 | F7: MJ/m³ | G7: =C7*E7/3600 -> 27290.861 | H7: 0.198 | I7: =H7*G7 -> 5403.5905 | J7: =I7/$I$15 -> 0.64776514
B8: Ciepło sieciowe | C8: 0 | D8: MWh | E8: 1 | F8: MWh | G8: =C8*E8 -> 0 | H8: 0 | I8: =H8*G8 -> 0 | J8: =I8/$I$15 -> 0
B9: Olej opałowy | C9: =G29 -> 5773 | D9: l | E9: 36.17 | F9: MJ/l | G9: =C9*E9/3600 -> 58.002614 | H9: 0.276 | I9: =H9*G9 -> 16.008721 | J9: =I9/$I$15 -> 0.0019190743 | K9: dane szacunkowe
B10: Olej napędowy | C10: 0 | D10: l | E10: 35.96 | F10: MJ/l | G10: =C10*E10/3600 -> 0 | H10: 0.267 | I10: =H10*G10 -> 0 | J10: =I10/$I$15 -> 0
B11: Węgiel kamienny | C11: =E29 -> 576 | D11: Mg | E11: 22.72 | F11: GJ/Mg | G11: =C11*E11/3.6 -> 3635.2 | H11: 0.341 | I11: =H11*G11 -> 1239.6032 | J11: =I11/$I$15 -> 0.14859967 | K11: dane szacunkowe
B12: Węgiel brunanty | C12: 0 | D12: Mg | E12: 8.76 | F12: GJ/Mg | G12: =C12*E12/3.6 -> 0 | H12: 0.388 | I12: =H12*G12 -> 0 | J12: =I12/$I$15 -> 0
B13: LPG | C13: =H29 -> 47275 | D13: l | E13: 26.5 | F13: MJ/l | G13: =C13*E13/3600 -> 347.99653 | H13: 0.227 | I13: =H13*G13 -> 78.995212 | J13: =I13/$I$15 -> 0.0094696933 | K13: dane szacunkowe
B14: Drewno | C14: =F29 -> 303 | D14: Mg | E14: 20 | F14: GJ/Mg | G14: =C14*E14/3.6 -> 1683.3333 | H14: 0 | I14: =H14*G14 -> 0 | J14: =I14/$I$15 -> 0 | K14: dane szacunkowe
B15: SUMA | G15: =SUM(G5:G14) -> 34990.394 | I15: =SUM(I5:I14) -> 8341.8976 | J15: =SUM(J5:J14) -> 1
B17: Szacunek zużycia paliw | E17: i pomiejszone o ilość odbiorców gazu
B18: Liczba przedsiębiorstw (bez os. fiz.) | C18: =301-COUNTA(BUD_GMIN!B19:B234)-E18 -> 232 | D18: szt | E18: =DANE_GAZ!E75+DANE_GAZ!E76+DANE_GAZ!E77 -> 42
B19: Szac. powierzchnia budynków usługowych | C19: =C18*100 -> 23200 | D19: m2
B20: Szac. wsk. zap. energ. - usługi | C20: 0.25 | D20: MWh/m2
B21: Całkowite zapotrzebowanie energetyczne | C21: =C19*C20 -> 5800 | D21: MWh
B25: Struktura zużycia paliw wg GUS (2012): | E25: 0.6267 | F25: 0.29 | G25: 0.01 | H25: 0.06
B26: Całkowite zapotrzebowanie energ. budynków [MWh] | C26: Ciepło gaz [MWh] | D26: Sieć ciepłownicza [MWh] | E26: Węgiel [MWh] | F26: Drewno [MWh] | G26: Olej opałowy [MWh] | H26: LPG [MWh]
B27: =C21 -> 5800 | C27: =C6*E6/3600 -> 0 | D27: 0 | E27: =($B27-$C27-$D27)*E25 -> 3634.86 | F27: =($B27-$C27-$D27)*F25 -> 1682 | G27: =($B27-$C27-$D27)*G25 -> 58 | H27: =($B27-$C27-$D27)*H25 -> 348
E28: Węgiel [Mg] | F28: Drewno [Mg] | G28: Olej opałowy [l] | H28: LPG [l]
E29: =ROUND(E27*3.6/E11,0) -> 576 | F29: =ROUND(F27*3.6/E14,0) -> 303 | G29: =ROUND(G27*3600/E9,0) -> 5773 | H29: =ROUND(H27*3600/E13,0) -> 47275

Sheet BUD_MIESZK
A1: BUDYNKI MIESZKALNE
A2: Struktura zużycia paliw oraz emisja CO2
B4: Rodzaj paliwa | C4: Zużycie paliwa | D4: Jednostka | E4: Wartość opałowa | F4: Jednostka | G4: Całkowita energia (MWh) | H4: Wskaźnik emisji (Mg CO2/MWh) | I4: Całkowita emisja (Mg CO2) | J4: Udział w emisji | K4: UWAGI
B5: Energia elektryczna | C5: 7215 | D5: MWh | E5: 1 | F5: MWh | G5: =C5*E5 -> 7215 | H5: 0.812 | I5: =H5*G5 -> 5858.58 | J5: =I5/$I$15 -> 0.35969685 | K5: ENEA Operator sp. z o.o. taryfa G
B6: Gaz ziemny wysokometanowy | C6: 0 | D6: m³ | E6: 36.09 | F6: MJ/m³ | G6: =C6*E6/3600 -> 0 | H6: 0.201 | I6: =H6*G6 -> 0 | J6: =I6/$I$15 -> 0 | K6: PGNiG
B7: Gaz ziemny zaazotowany | C7: =H19 -> 1085841 | D7: m³ | E7: 31.54 | F7: MJ/m³ | G7: =C7*E7/3600 -> 9513.1737 | H7: 0.198 | I7: =H7*G7 -> 1883.6084 | J7: =I7/$I$15 -> 0.11564714 | K7: dane PGNiG
B8: Ciepło sieciowe | C8: 0 | D8: MWh | E8: 1 | F8: MWh | G8: =C8*E8 -> 0 | H8: 0 | I8: =H8*G8 -> 0 | J8: =I8/$I$15 -> 0
B9: Olej opałowy | C9: =C25+E30 -> 58103.8 | D9: l | E9: 36.17 | F9: MJ/l | G9: =C9*E9/3600 -> 583.78179 | H9: 0.276 | I9: =H9*G9 -> 161.12377 | J9: =I9/$I$15 -> 0.0098924508 | K9: szacunki na podst. Deklaracji CEEB
B10: Olej napędowy | C10: 0 | D10: l | E10: 35.96 | F10: MJ/l | G10: =C10*E10/3600 -> 0 | H10: 0.267 | I10: =H10*G10 -> 0 | J10: =I10/$I$15 -> 0
B11: Węgiel kamienny | C11: =C21+C30 -> 3895.8598 | D11: Mg | E11: 22.72 | F11: GJ/Mg | G11: =C11*E11/3.6 -> 24587.204 | H11: 0.341 | I11: =H11*G11 -> 8384.2366 | J11: =I11/$I$15 -> 0.51476356 | K11: szacunki na podst. Deklaracji CEEB
B12: Węgiel brunanty | C12: 0 | D12: Mg | E12: 8.76 | F12: GJ/Mg | G12: =C12*E12/3.6 -> 0 | H12: 0.388 | I12: =H12*G12 -> 0 | J12: =I12/$I$15 -> 0
B13: LPG | C13: 0 | D13: l | E13: 26.5 | F13: MJ/l | G13: =C13*E13/3600 -> 0 | H13: 0.227 | I13: =H13*G13 -> 0 | J13: =I13/$I$15 -> 0
B14: Drewno | C14: =C23+D30 -> 2974.9146 | D14: Mg | E14: 20 | F14: GJ/Mg | G14: =C14*E14/3.6 -> 16527.303 | H14: 0 | I14: =H14*G14 -> 0 | J14: =I14/$I$15 -> 0 | K14: szacunki na podst. Deklaracji CEEB
B15: SUMA | G15: =SUM(G5:G14) -> 58426.463 | I15: =SUM(I5:I14) -> 16287.549 | J15: =SUM(J5:J14) -> 1
B17: Szacunek zużycia paliw - na podstawie deklaracji CEEB
B18: Liczba mieszkań | C18: =OGOLNE!D46 -> 2638 | D18: szt | F18: zużycie gazu dane PGNiG | H18: 9893.1 | I18: MWh
B19: Powierzchnia mieszkań | C19: =OGOLNE!D49 -> 290519 | D19: m2 | H19: 1085841 | I19: m3
H21: Dane Baza CEEB
B22: Zużycie węgla na jednostkę powierzchni | C22: 30 | D22: kg/m2 | H22: ogrzewanie | I22: szt | J22: % | K22: 140 | L22: kWh/m2
H23: węgiel | I23: 1310 | J23: =I23*100/$I$29 -> 44.6794 | K23: =C19*K22 -> 40672660 | L23: kWh
B24: Zużycie drewna na jednostkę powierzchni | C24: 40 | D24: kg/m2 | E24: 0,1m3/m2 | H24: pellet | I24: 131 | J24: =I24*100/$I$29 -> 4.46794 | K24: =K23/1000 -> 40672.66 | L24: MWh
H25: gaz ziemny | I25: 707 | J25: =I25*100/$I$29 -> 24.113233
B26: Zużycie oleju na jednostkę powierzchni | C26: 25 | D26: l/m2 | H26: olej opałowy | I26: 24 | J26: =I26*100/$I$29 -> 0.81855389
H27: drewno | I27: 627 | J27: =I27*100/$I$29 -> 21.38472
B28: Struktura zużycia paliw na ogrzewanie w gospodarstwach domowych wg CEEB: | C28: 0.447 | D28: 0.256 | E28: 0.008 | H28: pompa ciepła | I28: 133 | J28: =I28*100/$I$29 -> 4.5361528
B29: Powierzchnia mieszkań | C29: Węgiel [Mg] | D29: Drewno [Mg] | E29: Olej opałowy [l] | I29: =SUM(I23:I28) -> 2932
B30: =C19 -> 290519 | C30: =B30*C28*C22/1000 -> 3895.8598 | D30: =B30*C24*D28/1000 -> 2974.9146 | E30: =B30*C26*E28 -> 58103.8
B33: Szacunek zużycia paliw - bilans energetyczny (porównawczo)
B34: Ilość budynków mieszkalnych | C34: =OGOLNE!D43 -> 2053 | D34: szt
B35: Powierzchnia budynków mieszkalnych | C35: =OGOLNE!D49 -> 290519 | D35: m2
B36: Szac. wsk. zap. energ. na ogrzewanie | C36: 0.16 | D36: MWh/m2
B37: Całkowite zapotrzebowanie energetyczne | C37: =C35*C36 -> 46483.04 | D37: MWh
B38: Ilość budynków przeankietyzowanych
B39: Zużycie węgla z ankiet | D39: MWh
B41: Struktura zużycia paliw na ogrzewanie w gospodarstwach domowych wg GUS (2012): | E41: 0.447 | F41: 0.26 | G41: 0.01
B42: Całkowite zapotrzebowanie energ. Pozostałych budynków [MWh] | C42: Ciepło gaz [MWh] | D42: Sieć ciepłownicza [MWh] | E42: Węgiel [MWh] | F42: Drewno [MWh] | G42: Olej opałowy [MWh]
B43: =C37-C39 -> 46483.04 | C43: =DANE_GAZ!H73*E6/3.6 -> 8020 | D43: 0 | E43: =($B43-$C43-$D43)*E41 -> 17192.979 | F43: =($B43-$C43-$D43)*F41 -> 10000.39 | G43: =($B43-$C43-$D43)*G41 -> 384.6304
E44: Węgiel [Mg] | F44: Drewno [Mg] | G44: Olej opałowy [l]
E45: =ROUND(E43*3.6/E11,0) -> 2724 | F45: =ROUND(F43*3.6/E14,0) -> 1800 | G45: =ROUND(G43*3600/E9,0) -> 38282

Sheet BUD_MIESZK_A
A1: BUDYNKI MIESZKALNE
A2: Wyniki ankietyzacji mieszkańców | AA2: Udziały paliw | AB2: =AB3/SUM($AB$3:$AF$3) -> 0.44551282 | AC2: =AC3/SUM($AB$3:$AF$3) -> 0.43910256 | AD2: =AD3/SUM($AB$3:$AF$3) -> 0.057692308 | AE2: =AE3/SUM($AB$3:$AF$3) -> 0.038461538 | AF2: =AF3/SUM($AB$3:$AF$3) -> 0.019230769
AA3: Sumy kolumn | AB3: =SUM(Wyniki_ankiet[węgiel (w tym miał) i drewno]) -> 139 | AC3: =SUM(Wyniki_ankiet[tylko węgiel (w tym miał) bez drewna]) -> 137 | AD3: =SUM(Wyniki_ankiet[tylko drewno bez węgla]) -> 18 | AE3: =SUM(Wyniki_ankiet[gaz]) -> 12 | AF3: =SUM(Wyniki_ankiet[olej opałowy]) -> 6
A4: l.p | B4: Lokalizacja | C4: Miejscowość | D4: Gospodarstwo rolne wraz z budynkami mieszkalnymi | E4: Budynek | F4: Powierzchnia użytkowa w m2 | G4: Powierzchnia ogrzewana w m2 | H4: Rok budowy | I4: Czy ściany w budynku były ocieplane? | J4: Czy dach lub stropodach w budynku był ocieplany? | K4: Rodzaj drzwi i okien zewnętrznych w budynku | L4: Stan okien w budynku | M4: Sposób ogrzewania budynku | N4: Źródło/a ciepła wykorzystywane w budynku | O4: Wielkość zużycia węgla w tonach (jeśli występuje) | P4: zużycie węgla do ogrzewania kg/m2 | Q4: Wielkość zużycia gazu w m3 (jeśli występuje) | R4: Wielkość zużycia drewna w kg (jeśli występuje) | S4: zużycie drewna do ogrzewania kg/m22 | T4: Inne źródła wykorzystywane w celach ogrzewania | U4: Olej opałowy zużycie w litrach | V4: zużycie oleju do ogrzewania l/m2 | W4: Całkowite roczne zużycie energii elektrycznej w gospodarstwie domowym w kWh | X4: Czy w budynku wykorzystywane są odnawialne źródła energii? | Y4: Jeśli tak proszę wskazać jakie | Z4: Jeśli występują odnawialne źródła energii | AA4: Czy jest Pan/Pani zainteresowany/a wymianą źródła ciepła na nowe, ekologiczne? | AB4: węgiel (w tym miał) i drewno | AC4: tylko węgiel (w tym miał) bez drewna | AD4: tylko drewno bez węgla | AE4: gaz | AF4: olej opałowy
A5: 1 | B5: obszar wiejski | C5: =SUM(BUD_MIESZK_A!U9:U171) -> 7000 | D5: nie | E5: Wolnostojący | F5: 270 | G5: 270 | H5: 2011 | I5: nie | J5: tak | K5: PCV | L5: Dobry | M5: ogrzewanie centralne: kocioł węglowy z podajnikiem | N5: drewno, inne | O5: 5 | P5: =IFERROR(Wyniki_ankiet[[#This Row],[Wielkość zużycia węgla w tonach (jeśli występuje)]]*1000/Wyniki_ankiet[[#This Row],[Powierzchnia ogrzewana w m2]],) -> 18.518519 | Q5: 0 | R5: 600 | S5: =IFERROR(Wyniki_ankiet[[#This Row],[Wielkość zużycia drewna w kg (jeśli występuje)]]/Wyniki_ankiet[[#This Row],[Powierzchnia ogrzewana w m2]],) -> 2.2222222 | T5: miał 0 5 ton | V5: =IFERROR(Wyniki_ankiet[[#This Row],[Olej opałowy zużycie w litrach]]/Wyniki_ankiet[[#This Row],[Powierzchnia ogrzewana w m2]],) -> 0 | W5: 2600 | X5: nie | Y5: - | AA5: tak | AB5: =IF(AND(Wyniki_ankiet[[#This Row],[Wielkość zużycia węgla w tonach (jeśli występuje)]]>0,Wyniki_ankiet[[#This Row],[Wielkość zużycia drewna w kg (jeśli występuje)]]>0),1,) -> 1 | AC5: =IF(AND(Wyniki_ankiet[[#This Row],[Wielkość zużycia węgla w tonach (jeśli występuje)]]>0,Wyniki_ankiet[[#This Row],[Wielkość zużycia drewna w kg (jeśli występuje)]]=0),1,) -> 0 | AD5: =IF(AND(Wyniki_ankiet[[#This Row],[Wielkość zużycia drewna w kg (jeśli występuje)]]>0,Wyniki_ankiet[[#This Row],[Wielkość zużycia węgla w tonach (jeśli występuje)]]=0),1,) -> 0 | AE5: =IF(Wyniki_ankiet[[#This Row],[Wielkość zużycia gazu w m3 (jeśli występuje)]]>0,1,) -> 0
A6: 2 | B6: obszar wiejski | C6: =SUM(BUD_MIESZK_A!U10:U172) -> 7000 | D6: nie | E6: Bliźniak | F6: 170 | G6: 150 | H6: 2000 | I6: tak | J6: tak | K6: PCV | L6: Dobry | M6: ogrzewanie centralne: kocioł węglowy rusztowy | N6: węgiel | O6: 2 | P6: =IFERROR(Wyniki_ankiet[[#This Row],[Wielkość zużycia węgla w tonach (jeśli występuje)]]*1000/Wyniki_ankiet[[#This Row],[Powierzchnia ogrzewana w m2]],) -> 13.333333 | Q6: 0 | S6: =IFERROR(Wyniki_ankiet[[#This Row],[Wielkość zużycia drewna w kg (jeśli występuje)]]/Wyniki_ankiet[[#This Row],[Powierzchnia ogrzewana w m2]],) -> 0 | T6: 0 | V6: =IFERROR(Wyniki_ankiet[[#This Row],[Olej opałowy zużycie w litrach]]/Wyniki_ankiet[[#This Row],[Powierzchnia ogrzewana w m2]],) -> 0 | W6: 2100 | X6: tak | Y6: Kolektory słoneczne | AA6: tak | AB6: =IF(AND(Wyniki_ankiet[[#This Row],[Wielkość zużycia węgla w tonach (jeśli występuje)]]>0,Wyniki_ankiet[[#This Row],[Wielkość zużycia drewna w kg (jeśli występuje)]]>0),1,) -> 0 | AC6: =IF(AND(Wyniki_ankiet[[#This Row],[Wielkość zużycia węgla w tonach (jeśli występuje)]]>0,Wyniki_ankiet[[#This Row],[Wielkość zużycia drewna w kg (jeśli występuje)]]=0),1,) -> 1 | AD6: =IF(AND(Wyniki_ankiet[[#This Row],[Wielkość zużycia drewna w kg (jeśli występuje)]]>0,Wyniki_ankiet[[#This Row],[Wielkość zużycia węgla w tonach (jeśli występuje)]]=0),1,) -> 0 | AE6: =IF(Wyniki_ankiet[[#This Row],[Wielkość zużycia gazu w m3 (jeśli występuje)]]>0,1,) -> 0
A7: 3 | B7: obszar wiejski | C7: =SUM(BUD_MIESZK_A!U11:U173) -> 7000 | D7: tak | E7: Wolnostojący | F7: 193 | G7: 193 | H7: 1923 | I7: nie | J7: tak | K7: Drewniane | L7: Dobry | M7: ogrzewanie centralne: kocioł węglowy rusztowy | N7: węgiel, drewno | O7: 3 | P7: =IFERROR(Wyniki_ankiet[[#This Row],[Wielkość zużycia węgla w tonach (jeśli występuje)]]*1000/Wyniki_ankiet[[#This Row],[Powierzchnia ogrzewana w m2]],) -> 15.544041 | Q7: 0 | R7: 2400 | S7: =IFERROR(Wyniki_ankiet[[#This Row],[Wielkość zużycia drewna w kg (jeśli występuje)]]/Wyniki_ankiet[[#This Row],[Powierzchnia ogrzewana w m2]],) -> 12.435233 | T7: 0 | V7: =IFERROR(Wyniki_ankiet[[#This Row],[Olej opałowy zużycie w litrach]]/Wyniki_ankiet[[#This Row],[Powierzchnia ogrzewana w m2]],) -> 0 | X7: nie | Y7: - | AA7: tak | AB7: =IF(AND(Wyniki_ankiet[[#This Row],[Wielkość zużycia węgla w tonach (jeśli występuje)]]>0,Wyniki_ankiet[[#This Row],[Wielkość zużycia drewna w kg (jeśli występuje)]]>0),1,) -> 1 | AC7: =IF(AND(Wyniki_ankiet[[#This Row],[Wielkość zużycia węgla w tonach (jeśli występuje)]]>0,Wyniki_ankiet[[#This Row],[Wielkość zużycia drewna w kg (jeśli występuje)]]=0),1,) -> 0 | AD7: =IF(AND(Wyniki_ankiet[[#This Row],[Wielkość zużycia drewna w kg (jeśli występuje)]]>0,Wyniki_ankiet[[#This Row],[Wielkość zużycia węgla w tonach (jeśli występuje)]]=0),1,) -> 0 | AE7: =IF(Wyniki_ankiet[[#This Row],[Wielkość zużycia gazu w m3 (jeśli występuje)]]>0,1,) -> 0
A8: 4 | B8: obszar wiejski | C8: =SUM(BUD_MIESZK_A!U12:U174) -> 7000 | D8: nie | E8: Wolnostojący | F8: 138 | G8: 138 | H8: 1991 | I8: tak | J8: tak | K8: PCV | L8: Dobry | M8: ogrzewanie centralne: kocioł węglowy rusztowy | N8: węgiel, drewno | O8: 4 | P8: =IFERROR(Wyniki_ankiet[[#This Row],[Wielkość zużycia węgla w tonach (jeśli występuje)]]*1000/Wyniki_ankiet[[#This Row],[Powierzchnia ogrzewana w m2]],) -> 28.985507 | Q8: 0 | R8: 2400 | S8: =IFERROR(Wyniki_ankiet[[#This Row],[Wielkość zużycia drewna w kg (jeśli występuje)]]/Wyniki_ankiet[[#This Row],[Powierzchnia ogrzewana w m2]],) -> 17.391304 | T8: 0 | V8: =IFERROR(Wyniki_ankiet[[#This Row],[Olej opałowy zużycie w litrach]]/Wyniki_ankiet[[#This Row],[Powierzchnia ogrzewana w m2]],) -> 0 | X8: nie | Y8: - | AA8: tak | AB8: =IF(AND(Wyniki_ankiet[[#This Row],[Wielkość zużycia węgla w tonach (jeśli występuje)]]>0,Wyniki_ankiet[[#This Row],[Wielkość zużycia drewna w kg (jeśli występuje)]]>0),1,) -> 1 | AC8: =IF(AND(Wyniki_ankiet[[#This Row],[Wielkość zużycia węgla w tonach (jeśli występuje)]]>0,Wyniki_ankiet[[#This Row],[Wielkość zużycia drewna w kg (jeśli występuje)]]=0),1,) -> 0 | AD8: =IF(AND(Wyniki_ankiet[[#This Row],[Wielkość zużycia drewna w kg (jeśli występuje)]]>0,Wyniki_ankiet[[#This Row],[Wielkość zużycia węgla w tonach (jeśli występuje)]]=0),1,) -> 0 | AE8: =IF(Wyniki_ankiet[[#This Row],[Wielkość zużycia gazu w m3 (jeśli występuje)]]>0,1,) -> 0
A9: 5 | B9: obszar wiejski | C9: =SUM(BUD_MIESZK_A!U13:U175) -> 7000 | D9: tak | E9: Wolnostojący | F9: 110 | G9: 110 | H9: 1912 | I9: nie | J9: tak | K9: PCV | L9: Dobry | M9: ogrzewanie centralne: kocioł węglowy rusztowy | N9: węgiel, drewno | O9: 3 | P9: =IFERROR(Wyniki_ankiet[[#This Row],[Wielkość zużycia węgla w tonach (jeśli występuje)]]*1000/Wyniki_ankiet[[#This Row],[Powierzchnia ogrzewana w m2]],) -> 27.272727 | Q9: 0 | R9: 3000 | S9: =IFERROR(Wyniki_ankiet[[#This Row],[Wielkość zużycia drewna w kg (jeśli występuje)]]/Wyniki_ankiet[[#This Row],[Powierzchnia ogrzewana w m2]],) -> 27.272727 | T9: 0 | V9: =IFERROR(Wyniki_ankiet[[#This Row],[Olej opałowy zużycie w litrach]]/Wyniki_ankiet[[#This Row],[Powierzchnia ogrzewana w m2]],) -> 0 | X9: nie | Y9: - | AA9: tak | AB9: =IF(AND(Wyniki_ankiet[[#This Row],[Wielkość zużycia węgla w tonach (jeśli występuje)]]>0,Wyniki_ankiet[[#This Row],[Wielkość zużycia drewna w kg (jeśli występuje)]]>0),1,) -> 1 | AC9: =IF(AND(Wyniki_ankiet[[#This Row],[Wielkość zużycia węgla w tonach (jeśli występuje)]]>0,Wyniki_ankiet[[#This Row],[Wielkość zużycia drewna w kg (jeśli występuje)]]=0),1,) -> 0 | AD9: =IF(AND(Wyniki_ankiet[[#This Row],[Wielkość zużycia drewna w kg (jeśli występuje)]]>0,Wyniki_ankiet[[#This Row],[Wielkość zużycia węgla w tonach (jeśli występuje)]]=0),1,) -> 0 | AE9: =IF(Wyniki_ankiet[[#This Row],[Wielkość zużycia gazu w m3 (jeśli występuje)]]>0,1,) -> 0
A10: 6 | B10: obszar wiejski | C10: =SUM(BUD_MIESZK_A!U14:U176) -> 7000 | D10: nie | E10: Wolnostojący | F10: 220 | G10: 220 | H10: 1974 | I10: tak | J10: nie | K10: PCV | L10: Dobry | M10: ogrzewanie centralne: kocioł węglowy rusztowy | N10: węgiel, drewno | O10: 3 | P10: =IFERROR(Wyniki_ankiet[[#This Row],[Wielkość zużycia węgla w tonach (jeśli występuje)]]*1000/Wyniki_ankiet[[#This Row],[Powierzchnia ogrzewana w m2]],) -> 13.636364 | Q10: 0 | R10: 1800 | S10: =IFERROR(Wyniki_ankiet[[#This Row],[Wielkość zużycia drewna w kg (jeśli występuje)]]/Wyniki_ankiet[[#This Row],[Powierzchnia ogrzewana w m2]],) -> 8.1818182 | T10: 0 | V10: =IFERROR(Wyniki_ankiet[[#This Row],[Olej opałowy zużycie w litrach]]/Wyniki_ankiet[[#This Row],[Powierzchnia ogrzewana w m2]],) -> 0 | X10: nie | Y10: - | AA10: tak | AB10: =IF(AND(Wyniki_ankiet[[#This Row],[Wielkość zużycia węgla w tonach (jeśli występuje)]]>0,Wyniki_ankiet[[#This Row],[Wielkość zużycia drewna w kg (jeśli występuje)]]>0),1,) -> 1 | AC10: =IF(AND(Wyniki_ankiet[[#This Row],[Wielkość zużycia węgla w tonach (jeśli występuje)]]>0,Wyniki_ankiet[[#This Row],[Wielkość zużycia drewna w kg (jeśli występuje)]]=0),1,) -> 0 | AD10: =IF(AND(Wyniki_ankiet[[#This Row],[Wielkość zużycia drewna w kg (jeśli występuje)]]>0,Wyniki_ankiet[[#This Row],[Wielkość zużycia węgla w tonach (jeśli występuje)]]=0),1,) -> 0 | AE10: =IF(Wyniki_ankiet[[#This Row],[Wielkość zużycia gazu w m3 (jeśli występuje)]]>0,1,) -> 0
A11: 7 | B11: obszar wiejski | C11: =SUM(BUD_MIESZK_A!U15:U177) -> 7000 | D11: nie | E11: Wolnostojący | F11: 210 | G11: 180 | H11: - | I11: tak | J11: nie | K11: PCV | L11: Dobry | M11: ogrzewanie cenralne | N11: węgiel, drewno | O11: 5 | P11: =IFERROR(Wyniki_ankiet[[#This Row],[Wielkość zużycia węgla w tonach (jeśli występuje)]]*1000/Wyniki_ankiet[[#This Row],[Powierzchnia ogrzewana w m2]],) -> 27.777778 | Q11: 0 | R11: 3000 | S11: =IFERROR(Wyniki_ankiet[[#This Row],[Wielkość zużycia drewna w kg (jeśli występuje)]]/Wyniki_ankiet[[#This Row],[Powierzchnia ogrzewana w m2]],) -> 16.666667 | T11: 0 | V11: =IFERROR(Wyniki_ankiet[[#This Row],[Olej opałowy zużycie w litrach]]/Wyniki_ankiet[[#This Row],[Powierzchnia ogrzewana w m2]],) -> 0 | X11: nie | Y11: - | AA11: tak | AB11: =IF(AND(Wyniki_ankiet[[#This Row],[Wielkość zużycia węgla w tonach (jeśli występuje)]]>0,Wyniki_ankiet[[#This Row],[Wielkość zużycia drewna w kg (jeśli występuje)]]>0),1,) -> 1 | AC11: =IF(AND(Wyniki_ankiet[[#This Row],[Wielkość zużycia węgla w tonach (jeśli występuje)]]>0,Wyniki_ankiet[[#This Row],[Wielkość zużycia drewna w kg (jeśli występuje)]]=0),1,) -> 0 | AD11: =IF(AND(Wyniki_ankiet[[#This Row],[Wielkość zużycia drewna w kg (jeśli występuje)]]>0,Wyniki_ankiet[[#This Row],[Wielkość zużycia węgla w tonach (jeśli występuje)]]=0),1,) -> 0 | AE11: =IF(Wyniki_ankiet[[#This Row],[Wielkość zużycia gazu w m3 (jeśli występuje)]]>0,1,) -> 0
A12: 8 | B12: obszar wiejski | C12: =SUM(BUD_MIESZK_A!U16:U178) -> 7000 | D12: nie | E12: Wolnostojący | F12: 90 | G12: 90 | H12: 1964 | I12: tak | J12: nie | K12: PCV | L12: Dobry | M12: ogrzewanie centralne: kocioł węglowy rusztowy | N12: węgiel, drewno | O12: 3.5 | P12: =IFERROR(Wyniki_ankiet[[#This Row],[Wielkość zużycia węgla w tonach (jeśli występuje)]]*1000/Wyniki_ankiet[[#This Row],[Powierzchnia ogrzewana w m2]],) -> 38.888889 | Q12: 0 | R12: 1800 | S12: =IFERROR(Wyniki_ankiet[[#This Row],[Wielkość zużycia drewna w kg (jeśli występuje)]]/Wyniki_ankiet[[#This Row],[Powierzchnia ogrzewana w m2]],) -> 20 | T12: 0 | V12: =IFERROR(Wyniki_ankiet[[#This Row],[Olej opałowy zużycie w litrach]]/Wyniki_ankiet[[#This Row],[Powierzchnia ogrzewana w m2]],) -> 0 | X12: nie | Y12: - | AA12: tak | AB12: =IF(AND(Wyniki_ankiet[[#This Row],[Wielkość zużycia węgla w tonach (jeśli występuje)]]>0,Wyniki_ankiet[[#This Row],[Wielkość zużycia drewna w kg (jeśli występuje)]]>0),1,) -> 1 | AC12: =IF(AND(Wyniki_ankiet[[#This Row],[Wielkość zużycia węgla w tonach (jeśli występuje)]]>0,Wyniki_ankiet[[#This Row],[Wielkość zużycia drewna w kg (jeśli występuje)]]=0),1,) -> 0 | AD12: =IF(AND(Wyniki_ankiet[[#This Row],[Wielkość zużycia drewna w kg (jeśli występuje)]]>0,Wyniki_ankiet[[#This Row],[Wielkość zużycia węgla w tonach (jeśli występuje)]]=0),1,) -> 0 | AE12: =IF(Wyniki_ankiet[[#This Row],[Wielkość zużycia gazu w m3 (jeśli występuje)]]>0,1,) -> 0
A13: 9 | B13: obszar wiejski | C13: =SUM(BUD_MIESZK_A!U17:U179) -> 7000 | D13: nie | E13: Wolnostojący | F13: - | G13: 100 | H13: - | I13: tak | J13: nie | K13: PCV | L13: Dobry | M13: ogrzewanie centralne: kocioł węglowy rusztowy | N13: węgiel, drewno | O13: 3.5 | P13: =IFERROR(Wyniki_ankiet[[#This Row],[Wielkość zużycia węgla w tonach (jeśli występuje)]]*1000/Wyniki_ankiet[[#This Row],[Powierzchnia ogrzewana w m2]],) -> 35 | Q13: 0 | R13: 1200 | S13: =IFERROR(Wyniki_ankiet[[#This Row],[Wielkość zużycia drewna w kg (jeśli występuje)]]/Wyniki_ankiet[[#This Row],[Powierzchnia ogrzewana w m2]],) -> 12 | T13: 0 | V13: =IFERROR(Wyniki_ankiet[[#This Row],[Olej opałowy zużycie w litrach]]/Wyniki_ankiet[[#This Row],[Powierzchnia ogrzewana w m2]],) -> 0 | X13: nie | Y13: - | AA13: tak | AB13: =IF(AND(Wyniki_ankiet[[#This Row],[Wielkość zużycia węgla w tonach (jeśli występuje)]]>0,Wyniki_ankiet[[#This Row],[Wielkość zużycia drewna w kg (jeśli występuje)]]>0),1,) -> 1 | AC13: =IF(AND(Wyniki_ankiet[[#This Row],[Wielkość zużycia węgla w tonach (jeśli występuje)]]>0,Wyniki_ankiet[[#This Row],[Wielkość zużycia drewna w kg (jeśli występuje)]]=0),1,) -> 0 | AD13: =IF(AND(Wyniki_ankiet[[#This Row],[Wielkość zużycia drewna w kg (jeśli występuje)]]>0,Wyniki_ankiet[[#This Row],[Wielkość zużycia węgla w tonach (jeśli występuje)]]=0),1,) -> 0 | AE13: =IF(Wyniki_ankiet[[#This Row],[Wielkość zużycia gazu w m3 (jeśli występuje)]]>0,1,) -> 0
A14: 10 | B14: obszar wiejski | C14: =SUM(BUD_MIESZK_A!U18:U180) -> 7000 | D14: nie | E14: Wolnostojący | F14: 200 | G14: 150 | H14: 1990 | I14: nie | J14: tak | K14: PCV | L14: Dobry | M14: ogrzewanie centralne: kocioł węglowy z podajnikiem | N14: węgiel, drewno | O14: 3 | P14: =IFERROR(Wyniki_ankiet[[#This Row],[Wielkość zużycia węgla w tonach (jeśli występuje)]]*1000/Wyniki_ankiet[[#This Row],[Powierzchnia ogrzewana w m2]],) -> 20 | Q14: 0 | R14: 1800 | S14: =IFERROR(Wyniki_ankiet[[#This Row],[Wielkość zużycia drewna w kg (jeśli występuje)]]/Wyniki_ankiet[[#This Row],[Powierzchnia ogrzewana w m2]],) -> 12 | T14: 0 | V14: =IFERROR(Wyniki_ankiet[[#This Row],[Olej opałowy zużycie w litrach]]/Wyniki_ankiet[[#This Row],[Powierzchnia ogrzewana w m2]],) -> 0 | X14: nie | Y14: - | AA14: tak | AB14: =IF(AND(Wyniki_ankiet[[#This Row],[Wielkość zużycia węgla w tonach (jeśli występuje)]]>0,Wyniki_ankiet[[#This Row],[Wielkość zużycia drewna w kg (jeśli występuje)]]>0),1,) -> 1 | AC14: =IF(AND(Wyniki_ankiet[[#This Row],[Wielkość zużycia węgla w tonach (jeśli występuje)]]>0,Wyniki_ankiet[[#This Row],[Wielkość zużycia drewna w kg (jeśli występuje)]]=0),1,) -> 0 | AD14: =IF(AND(Wyniki_ankiet[[#This Row],[Wielkość zużycia drewna w kg (jeśli występuje)]]>0,Wyniki_ankiet[[#This Row],[Wielkość zużycia węgla w tonach (jeśli występuje)]]=0),1,) -> 0 | AE14: =IF(Wyniki_ankiet[[#This Row],[Wielkość zużycia gazu w m3 (jeśli występuje)]]>0,1,) -> 0
A15: 11 | B15: obszar wiejski | C15: =SUM(BUD_MIESZK_A!U19:U181) -> 7000 | D15: nie | E15: Wolnostojący | F15: 100 | G15: 100 | H15: 1961 | I15: nie | J15: tak | K15: PCV | L15: Dobry | M15: ogrzewanie centralne: kocioł węglowy rusztowy | N15: węgiel, drewno | O15: 3 | P15: =IFERROR(Wyniki_ankiet[[#This Row],[Wielkość zużycia węgla w tonach (jeśli występuje)]]*1000/Wyniki_ankiet[[#This Row],[Powierzchnia ogrzewana w m2]],) -> 30 | Q15: 0 | R15: 1800 | S15: =IFERROR(Wyniki_ankiet[[#This Row],[Wielkość zużycia drewna w kg (jeśli występuje)]]/Wyniki_ankiet[[#This Row],[Powierzchnia ogrzewana w m2]],) -> 18 | T15: 0 | V15: =IFERROR(Wyniki_ankiet[[#This Row],[Olej opałowy zużycie w litrach]]/Wyniki_ankiet[[#This Row],[Powierzchnia ogrzewana w m2]],) -> 0 | X15: nie | Y15: - | AA15: tak | AB15: =IF(AND(Wyniki_ankiet[[#This Row],[Wielkość zużycia węgla w tonach (jeśli występuje)]]>0,Wyniki_ankiet[[#This Row],[Wielkość zużycia drewna w kg (jeśli występuje)]]>0),1,) -> 1 | AC15: =IF(AND(Wyniki_ankiet[[#This Row],[Wielkość zużycia węgla w tonach (jeśli występuje)]]>0,Wyniki_ankiet[[#This Row],[Wielkość zużycia drewna w kg (jeśli występuje)]]=0),1,) -> 0 | AD15: =IF(AND(Wyniki_ankiet[[#This Row],[Wielkość zużycia drewna w kg (jeśli występuje)]]>0,Wyniki_ankiet[[#This Row],[Wielkość zużycia węgla w tonach (jeśli występuje)]]=0),1,) -> 0 | AE15: =IF(Wyniki_ankiet[[#This Row],[Wielkość zużycia gazu w m3 (jeśli występuje)]]>0,1,) -> 0
A16: 12 | B16: obszar wiejski | C16: =SUM(BUD_MIESZK_A!U20:U182) -> 7000 | D16: nie | E16: Wolnostojący | F16: 200 | G16: 200 | H16: 1991 | I16: tak | J16: nie | K16: PCV | L16: Dobry | M16: ogrzewanie centralne: kocioł węglowy rusztowy | N16: węgiel, drewno | O16: 5 | P16: =IFERROR(Wyniki_ankiet[[#This Row],[Wielkość zużycia węgla w tonach (jeśli występuje)]]*1000/Wyniki_ankiet[[#This Row],[Powierzchnia ogrzewana w m2]],) -> 25 | Q16: 0 | R16: 1800 | S16: =IFERROR(Wyniki_ankiet[[#This Row],[Wielkość zużycia drewna w kg (jeśli występuje)]]/Wyniki_ankiet[[#This Row],[Powierzchnia ogrzewana w m2]],) -> 9 | T16: 0 | V16: =IFERROR(Wyniki_ankiet[[#This Row],[Olej opałowy zużycie w litrach]]/Wyniki_ankiet[[#This Row],[Powierzchnia ogrzewana w m2]],) -> 0 | X16: nie | Y16: - | AA16: tak | AB16: =IF(AND(Wyniki_ankiet[[#This Row],[Wielkość zużycia węgla w tonach (jeśli występuje)]]>0,Wyniki_ankiet[[#This Row],[Wielkość zużycia drewna w kg (jeśli występuje)]]>0),1,) -> 1 | AC16: =IF(AND(Wyniki_ankiet[[#This Row],[Wielkość zużycia węgla w tonach (jeśli występuje)]]>0,Wyniki_ankiet[[#This Row],[Wielkość zużycia drewna w kg (jeśli występuje)]]=0),1,) -> 0 | AD16: =IF(AND(Wyniki_ankiet[[#This Row],[Wielkość zużycia drewna w kg (jeśli występuje)]]>0,Wyniki_ankiet[[#This Row],[Wielkość zużycia węgla w tonach (jeśli występuje)]]=0),1,) -> 0 | AE16: =IF(Wyniki_ankiet[[#This Row],[Wielkość zużycia gazu w m3 (jeśli występuje)]]>0,1,) -> 0
A17: 13 | B17: obszar wiejski | C17: =SUM(BUD_MIESZK_A!U21:U183) -> 7000 | D17: nie | E17: Wolnostojący | F17: 96 | G17: 96 | H17: 1990 | I17: tak | J17: tak | K17: PCV | L17: Dobry | M17: ogrzewanie centralne: kocioł węglowy rusztowy | N17: węgiel, drewno | O17: 3 | P17: =IFERROR(Wyniki_ankiet[[#This Row],[Wielkość zużycia węgla w tonach (jeśli występuje)]]*1000/Wyniki_ankiet[[#This Row],[Powierzchnia ogrzewana w m2]],) -> 31.25 | Q17: 0 | R17: 1200 | S17: =IFERROR(Wyniki_ankiet[[#This Row],[Wielkość zużycia drewna w kg (jeśli występuje)]]/Wyniki_ankiet[[#This Row],[Powierzchnia ogrzewana w m2]],) -> 12.5 | T17: 0 | V17: =IFERROR(Wyniki_ankiet[[#This Row],[Olej opałowy zużycie w litrach]]/Wyniki_ankiet[[#This Row],[Powierzchnia ogrzewana w m2]],) -> 0 | X17: nie | Y17: - | AA17: tak | AB17: =IF(AND(Wyniki_ankiet[[#This Row],[Wielkość zużycia węgla w tonach (jeśli występuje)]]>0,Wyniki_ankiet[[#This Row],[Wielkość zużycia drewna w kg (jeśli występuje)]]>0),1,) -> 1 | AC17: =IF(AND(Wyniki_ankiet[[#This Row],[Wielkość zużycia węgla w tonach (jeśli występuje)]]>0,Wyniki_ankiet[[#This Row],[Wielkość zużycia drewna w kg (jeśli występuje)]]=0),1,) -> 0 | AD17: =IF(AND(Wyniki_ankiet[[#This Row],[Wielkość zużycia drewna w kg (jeśli występuje)]]>0,Wyniki_ankiet[[#This Row],[Wielkość zużycia węgla w tonach (jeśli występuje)]]=0),1,) -> 0 | AE17: =IF(Wyniki_ankiet[[#This Row],[Wielkość zużycia gazu w m3 (jeśli występuje)]]>0,1,) -> 0
A18: 14 | B18: obszar wiejski | C18: =SUM(BUD_MIESZK_A!U22:U184) -> 7000 | D18: nie | E18: Bliźniak | F18: 50 | G18: 50 | H18: - | I18: nie | J18: nie | K18: PCV | L18: Dobry | M18: ogrzewanie cenralne | N18: węgiel, drewno | O18: 3 | P18: =IFERROR(Wyniki_ankiet[[#This Row],[Wielkość zużycia węgla w tonach (jeśli występuje)]]*1000/Wyniki_ankiet[[#This Row],[Powierzchnia ogrzewana w m2]],) -> 60 | Q18: 0 | R18: 600 | S18: =IFERROR(Wyniki_ankiet[[#This Row],[Wielkość zużycia drewna w kg (jeśli występuje)]]/Wyniki_ankiet[[#This Row],[Powierzchnia ogrzewana w m2]],) -> 12 | T18: 0 | V18: =IFERROR(Wyniki_ankiet[[#This Row],[Olej opałowy zużycie w litrach]]/Wyniki_ankiet[[#This Row],[Powierzchnia ogrzewana w m2]],) -> 0 | X18: nie | Y18: - | AA18: tak | AB18: =IF(AND(Wyniki_ankiet[[#This Row],[Wielkość zużycia węgla w tonach (jeśli występuje)]]>0,Wyniki_ankiet[[#This Row],[Wielkość zużycia drewna w kg (jeśli występuje)]]>0),1,) -> 1 | AC18: =IF(AND(Wyniki_ankiet[[#This Row],[Wielkość zużycia węgla w tonach (jeśli występuje)]]>0,Wyniki_ankiet[[#This Row],[Wielkość zużycia drewna w kg (jeśli występuje)]]=0),1,) -> 0 | AD18: =IF(AND(Wyniki_ankiet[[#This Row],[Wielkość zużycia drewna w kg (jeśli występuje)]]>0,Wyniki_ankiet[[#This Row],[Wielkość zużycia węgla w tonach (jeśli występuje)]]=0),1,) -> 0 | AE18: =IF(Wyniki_ankiet[[#This Row],[Wielkość zużycia gazu w m3 (jeśli występuje)]]>0,1,) -> 0
A19: 15 | B19: obszar wiejski | C19: =SUM(BUD_MIESZK_A!U23:U185) -> 7000 | D19: nie | E19: Wolnostojący | F19: 120 | G19: 120 | H19: 2007 | I19: tak | J19: tak | K19: Drewniane | L19: Dobry | M19: ogrzewanie centralne: kocioł węglowy z podajnikiem | N19: węgiel, drewno, energia elektryczna | O19: 3 | P19: =IFERROR(Wyniki_ankiet[[#This Row],[Wielkość zużycia węgla w tonach (jeśli występuje)]]*1000/Wyniki_ankiet[[#This Row],[Powierzchnia ogrzewana w m2]],) -> 25 | Q19: 0 | R19: 1200 | S19: =IFERROR(Wyniki_ankiet[[#This Row],[Wielkość zużycia drewna w kg (jeśli występuje)]]/Wyniki_ankiet[[#This Row],[Powierzchnia ogrzewana w m2]],) -> 10 | T19: 0 | V19: =IFERROR(Wyniki_ankiet[[#This Row],[Olej opałowy zużycie w litrach]]/Wyniki_ankiet[[#This Row],[Powierzchnia ogrzewana w m2]],) -> 0 | W19: 600 | X19: nie | Y19: - | AA19: tak | AB19: =IF(AND(Wyniki_ankiet[[#This Row],[Wielkość zużycia węgla w tonach (jeśli występuje)]]>0,Wyniki_ankiet[[#This Row],[Wielkość zużycia drewna w kg (jeśli występuje)]]>0),1,) -> 1 | AC19: =IF(AND(Wyniki_ankiet[[#This Row],[Wielkość zużycia węgla w tonach (jeśli występuje)]]>0,Wyniki_ankiet[[#This Row],[Wielkość zużycia drewna w kg (jeśli występuje)]]=0),1,) -> 0 | AD19: =IF(AND(Wyniki_ankiet[[#This Row],[Wielkość zużycia drewna w kg (jeśli występuje)]]>0,Wyniki_ankiet[[#This Row],[Wielkość zużycia węgla w tonach (jeśli występuje)]]=0),1,) -> 0 | AE19: =IF(Wyniki_ankiet[[#This Row],[Wielkość zużycia gazu w m3 (jeśli występuje)]]>0,1,) -> 0
A20: 16 | B20: obszar wiejski | C20: =SUM(BUD_MIESZK_A!U24:U186) -> 7000 | D20: nie | E20: Wolnostojący | F20: 207.2 | G20: 136.7 | H20: 2008 | I20: tak | J20: tak | K20: PCV | L20: Dobry | M20: ogrzewanie centralne: kocioł węglowy rusztowy | N20: węgiel | O20: 1.5 | P20: =IFERROR(Wyniki_ankiet[[#This Row],[Wielkość zużycia węgla w tonach (jeśli występuje)]]*1000/Wyniki_ankiet[[#This Row],[Powierzchnia ogrzewana w m2]],) -> 10.972933 | Q20: 0 | S20: =IFERROR(Wyniki_ankiet[[#This Row],[Wielkość zużycia drewna w kg (jeśli występuje)]]/Wyniki_ankiet[[#This Row],[Powierzchnia ogrzewana w m2]],) -> 0 | T20: 0 | V20: =IFERROR(Wyniki_ankiet[[#This Row],[Olej opałowy zużycie w litrach]]/Wyniki_ankiet[[#This Row],[Powierzchnia ogrzewana w m2]],) -> 0 | X20: nie | Y20: - | AA20: nie | AB20: =IF(AND(Wyniki_ankiet[[#This Row],[Wielkość zużycia węgla w tonach (jeśli występuje)]]>0,Wyniki_ankiet[[#This Row],[Wielkość zużycia drewna w kg (jeśli występuje)]]>0),1,) -> 0 | AC20: =IF(AND(Wyniki_ankiet[[#This Row],[Wielkość zużycia węgla w tonach (jeśli występuje)]]>0,Wyniki_ankiet[[#This Row],[Wielkość zużycia drewna w kg (jeśli występuje)]]=0),1,) -> 1 | AD20: =IF(AND(Wyniki_ankiet[[#This Row],[Wielkość zużycia drewna w kg (jeśli występuje)]]>0,Wyniki_ankiet[[#This Row],[Wielkość zużycia węgla w tonach (jeśli występuje)]]=0),1,) -> 0 | AE20: =IF(Wyniki_ankiet[[#This Row],[Wielkość zużycia gazu w m3 (jeśli występuje)]]>0,1,) -> 0
A21: 17 | B21: obszar wiejski | C21: =SUM(BUD_MIESZK_A!U25:U187) -> 7000 | D21: - | E21: Wolnostojący | F21: 150 | G21: 100 | H21: - | I21: tak | J21: tak | K21: PCV | L21: Dobry | M21: ogrzewanie centralne: kocioł węglowy rusztowy | N21: węgiel, drewno | O21: 3 | P21: =IFERROR(Wyniki_ankiet[[#This Row],[Wielkość zużycia węgla w tonach (jeśli występuje)]]*1000/Wyniki_ankiet[[#This Row],[Powierzchnia ogrzewana w m2]],) -> 30 | Q21: 0 | R21: 3000 | S21: =IFERROR(Wyniki_ankiet[[#This Row],[Wielkość zużycia drewna w kg (jeśli występuje)]]/Wyniki_ankiet[[#This Row],[Powierzchnia ogrzewana w m2]],) -> 30 | T21: 0 | V21: =IFERROR(Wyniki_ankiet[[#This Row],[Olej opałowy zużycie w litrach]]/Wyniki_ankiet[[#This Row],[Powierzchnia ogrzewana w m2]],) -> 0 | X21: nie | Y21: - | AA21: tak | AB21: =IF(AND(Wyniki_ankiet[[#This Row],[Wielkość zużycia węgla w tonach (jeśli występuje)]]>0,Wyniki_ankiet[[#This Row],[Wielkość zużycia drewna w kg (jeśli występuje)]]>0),1,) -> 1 | AC21: =IF(AND(Wyniki_ankiet[[#This Row],[Wielkość zużycia węgla w tonach (jeśli występuje)]]>0,Wyniki_ankiet[[#This Row],[Wielkość zużycia drewna w kg (jeśli występuje)]]=0),1,) -> 0 | AD21: =IF(AND(Wyniki_ankiet[[#This Row],[Wielkość zużycia drewna w kg (jeśli występuje)]]>0,Wyniki_ankiet[[#This Row],[Wielkość zużycia węgla w tonach (jeśli występuje)]]=0),1,) -> 0 | AE21: =IF(Wyniki_ankiet[[#This Row],[Wielkość zużycia gazu w m3 (jeśli występuje)]]>0,1,) -> 0
A22: 18 | B22: obszar wiejski | C22: =SUM(BUD_MIESZK_A!U26:U188) -> 7000 | D22: nie | E22: Wolnostojący | F22: 145 | G22: 140 | H22: 2001 | I22: tak | J22: nie | K22: Drewniane | L22: Dobry | M22: inne: ogrzewanie gazowe | N22: gaz | P22: =IFERROR(Wyniki_ankiet[[#This Row],[Wielkość zużycia węgla w tonach (jeśli występuje)]]*1000/Wyniki_ankiet[[#This Row],[Powierzchnia ogrzewana w m2]],) -> 0 | Q22: 1500 | S22: =IFERROR(Wyniki_ankiet[[#This Row],[Wielkość zużycia drewna w kg (jeśli występuje)]]/Wyniki_ankiet[[#This Row],[Powierzchnia ogrzewana w m2]],) -> 0 | T22: 0 | V22: =IFERROR(Wyniki_ankiet[[#This Row],[Olej opałowy zużycie w litrach]]/Wyniki_ankiet[[#This Row],[Powierzchnia ogrzewana w m2]],) -> 0 | X22: nie | Y22: - | AA22: tak | AB22: =IF(AND(Wyniki_ankiet[[#This Row],[Wielkość zużycia węgla w tonach (jeśli występuje)]]>0,Wyniki_ankiet[[#This Row],[Wielkość zużycia drewna w kg (jeśli występuje)]]>0),1,) -> 0 | AC22: =IF(AND(Wyniki_ankiet[[#This Row],[Wielkość zużycia węgla w tonach (jeśli występuje)]]>0,Wyniki_ankiet[[#This Row],[Wielkość zużycia drewna w kg (jeśli występuje)]]=0),1,) -> 0 | AD22: =IF(AND(Wyniki_ankiet[[#This Row],[Wielkość zużycia drewna w kg (jeśli występuje)]]>0,Wyniki_ankiet[[#This Row],[Wielkość zużycia węgla w tonach (jeśli występuje)]]=0),1,) -> 0 | AE22: =IF(Wyniki_ankiet[[#This Row],[Wielkość zużycia gazu w m3 (jeśli występuje)]]>0,1,) -> 1
A23: 19 | B23: obszar wiejski | C23: =SUM(BUD_MIESZK_A!U27:U189) -> 7000 | D23: - | E23: Wolnostojący | F23: 88 | G23: 88 | H23: 1985 | I23: tak | J23: tak | K23: PCV | L23: Dobry | M23: ogrzewanie cenralne | N23: węgiel, drewno, energia elektryczna | O23: 2 | P23: =IFERROR(Wyniki_ankiet[[#This Row],[Wielkość zużycia węgla w tonach (jeśli występuje)]]*1000/Wyniki_ankiet[[#This Row],[Powierzchnia ogrzewana w m2]],) -> 22.727273 | Q23: 0 | R23: 3000 | S23: =IFERROR(Wyniki_ankiet[[#This Row],[Wielkość zużycia drewna w kg (jeśli występuje)]]/Wyniki_ankiet[[#This Row],[Powierzchnia ogrzewana w m2]],) -> 34.090909 | T23: 0 | V23: =IFERROR(Wyniki_ankiet[[#This Row],[Olej opałowy zużycie w litrach]]/Wyniki_ankiet[[#This Row],[Powierzchnia ogrzewana w m2]],) -> 0 | W23: 290 | X23: nie | Y23: - | AA23: nie | AB23: =IF(AND(Wyniki_ankiet[[#This Row],[Wielkość zużycia węgla w tonach (jeśli występuje)]]>0,Wyniki_ankiet[[#This Row],[Wielkość zużycia drewna w kg (jeśli występuje)]]>0),1,) -> 1 | AC23: =IF(AND(Wyniki_ankiet[[#This Row],[Wielkość zużycia węgla w tonach (jeśli występuje)]]>0,Wyniki_ankiet[[#This Row],[Wielkość zużycia drewna w kg (jeśli występuje)]]=0),1,) -> 0 | AD23: =IF(AND(Wyniki_ankiet[[#This Row],[Wielkość zużycia drewna w kg (jeśli występuje)]]>0,Wyniki_ankiet[[#This Row],[Wielkość zużycia węgla w tonach (jeśli występuje)]]=0),1,) -> 0 | AE23: =IF(Wyniki_ankiet[[#This Row],[Wielkość zużycia gazu w m3 (jeśli występuje)]]>0,1,) -> 0
A24: 20 | B24: obszar wiejski | C24: =SUM(BUD_MIESZK_A!U28:U190) -> 8000 | D24: nie | E24: Wolnostojący | F24: 100 | G24: 100 | H24: 1995 | I24: tak | J24: tak | K24: PCV | L24: Dobry | M24: ogrzewanie cenralne | N24: drewno, inne | O24: 2 | P24: =IFERROR(Wyniki_ankiet[[#This Row],[Wielkość zużycia węgla w tonach (jeśli występuje)]]*1000/Wyniki_ankiet[[#This Row],[Powierzchnia ogrzewana w m2]],) -> 20 | Q24: 0 | R24: 1000 | S24: =IFERROR(Wyniki_ankiet[[#This Row],[Wielkość zużycia drewna w kg (jeśli występuje)]]/Wyniki_ankiet[[#This Row],[Powierzchnia ogrzewana w m2]],) -> 10 | T24: miał 0 2t | V24: =IFERROR(Wyniki_ankiet[[#This Row],[Olej opałowy zużycie w litrach]]/Wyniki_ankiet[[#This Row],[Powierzchnia ogrzewana w m2]],) -> 0 | X24: nie | Y24: - | AA24: nie | AB24: =IF(AND(Wyniki_ankiet[[#This Row],[Wielkość zużycia węgla w tonach (jeśli występuje)]]>0,Wyniki_ankiet[[#This Row],[Wielkość zużycia drewna w kg (jeśli występuje)]]>0),1,) -> 1 | AC24: =IF(AND(Wyniki_ankiet[[#This Row],[Wielkość zużycia węgla w tonach (jeśli występuje)]]>0,Wyniki_ankiet[[#This Row],[Wielkość zużycia drewna w kg (jeśli występuje)]]=0),1,) -> 0 | AD24: =IF(AND(Wyniki_ankiet[[#This Row],[Wielkość zużycia drewna w kg (jeśli występuje)]]>0,Wyniki_ankiet[[#This Row],[Wielkość zużycia węgla w tonach (jeśli występuje)]]=0),1,) -> 0 | AE24: =IF(Wyniki_ankiet[[#This Row],[Wielkość zużycia gazu w m3 (jeśli występuje)]]>0,1,) -> 0
A25: 21 | B25: obszar wiejski | C25: =SUM(BUD_MIESZK_A!U29:U191) -> 6000 | D25: nie | E25: Wolnostojący | F25: 153 | G25: 153 | H25: 1912 | I25: tak | J25: tak | K25: Drewniane | L25: Dobry | M25: ogrzewanie cenralne | N25: inne | O25: 5 | P25: =IFERROR(Wyniki_ankiet[[#This Row],[Wielkość zużycia węgla w tonach (jeśli występuje)]]*1000/Wyniki_ankiet[[#This Row],[Powierzchnia ogrzewana w m2]],) -> 32.679739 | Q25: 0 | S25: =IFERROR(Wyniki_ankiet[[#This Row],[Wielkość zużycia drewna w kg (jeśli występuje)]]/Wyniki_ankiet[[#This Row],[Powierzchnia ogrzewana w m2]],) -> 0 | T25: miał 0 5t | V25: =IFERROR(Wyniki_ankiet[[#This Row],[Olej opałowy zużycie w litrach]]/Wyniki_ankiet[[#This Row],[Powierzchnia ogrzewana w m2]],) -> 0 | X25: nie | Y25: - | AA25: tak | AB25: =IF(AND(Wyniki_ankiet[[#This Row],[Wielkość zużycia węgla w tonach (jeśli występuje)]]>0,Wyniki_ankiet[[#This Row],[Wielkość zużycia drewna w kg (jeśli występuje)]]>0),1,) -> 0 | AC25: =IF(AND(Wyniki_ankiet[[#This Row],[Wielkość zużycia węgla w tonach (jeśli występuje)]]>0,Wyniki_ankiet[[#This Row],[Wielkość zużycia drewna w kg (jeśli występuje)]]=0),1,) -> 1 | AD25: =IF(AND(Wyniki_ankiet[[#This Row],[Wielkość zużycia drewna w kg (jeśli występuje)]]>0,Wyniki_ankiet[[#This Row],[Wielkość zużycia węgla w tonach (jeśli występuje)]]=0),1,) -> 0 | AE25: =IF(Wyniki_ankiet[[#This Row],[Wielkość zużycia gazu w m3 (jeśli występuje)]]>0,1,) -> 0
A26: 22 | B26: obszar wiejski | C26: =SUM(BUD_MIESZK_A!U30:U192) -> 6000 | D26: - | E26: Wolnostojący | F26: 120 | G26: 120 | H26: - | I26: nie | J26: nie | K26: Drewniane | L26: Zły | M26: ogrzewanie centralne: kocioł węglowy rusztowy | N26: węgiel, drewno | O26: 3 | P26: =IFERROR(Wyniki_ankiet[[#This Row],[Wielkość zużycia węgla w tonach (jeśli występuje)]]*1000/Wyniki_ankiet[[#This Row],[Powierzchnia ogrzewana w m2]],) -> 25 | Q26: 0 | R26: 1200 | S26: =IFERROR(Wyniki_ankiet[[#This Row],[Wielkość zużycia drewna w kg (jeśli występuje)]]/Wyniki_ankiet[[#This Row],[Powierzchnia ogrzewana w m2]],) -> 10 | T26: 0 | V26: =IFERROR(Wyniki_ankiet[[#This Row],[Olej opałowy zużycie w litrach]]/Wyniki_ankiet[[#This Row],[Powierzchnia ogrzewana w m2]],) -> 0 | X26: nie | Y26: - | AA26: tak | AB26: =IF(AND(Wyniki_ankiet[[#This Row],[Wielkość zużycia węgla w tonach (jeśli występuje)]]>0,Wyniki_ankiet[[#This Row],[Wielkość zużycia drewna w kg (jeśli występuje)]]>0),1,) -> 1 | AC26: =IF(AND(Wyniki_ankiet[[#This Row],[Wielkość zużycia węgla w tonach (jeśli występuje)]]>0,Wyniki_ankiet[[#This Row],[Wielkość zużycia drewna w kg (jeśli występuje)]]=0),1,) -> 0 | AD26: =IF(AND(Wyniki_ankiet[[#This Row],[Wielkość zużycia drewna w kg (jeśli występuje)]]>0,Wyniki_ankiet[[#This Row],[Wielkość zużycia węgla w tonach (jeśli występuje)]]=0),1,) -> 0 | AE26: =IF(Wyniki_ankiet[[#This Row],[Wielkość zużycia gazu w m3 (jeśli występuje)]]>0,1,) -> 0
A27: 23 | B27: obszar wiejski | C27: =SUM(BUD_MIESZK_A!U31:U193) -> 6000 | D27: tak | E27: Wolnostojący | F27: 150 | G27: 120 | H27: 1927 | I27: nie | J27: nie | K27: PCV | L27: Dobry | M27: ogrzewanie centralne: kocioł węglowy rusztowy | N27: węgiel, drewno | O27: 3 | P27: =IFERROR(Wyniki_ankiet[[#This Row],[Wielkość zużycia węgla w tonach (jeśli występuje)]]*1000/Wyniki_ankiet[[#This Row],[Powierzchnia ogrzewana w m2]],) -> 25 | Q27: 0 | R27: 1800 | S27: =IFERROR(Wyniki_ankiet[[#This Row],[Wielkość zużycia drewna w kg (jeśli występuje)]]/Wyniki_ankiet[[#This Row],[Powierzchnia ogrzewana w m2]],) -> 15 | T27: 0 | V27: =IFERROR(Wyniki_ankiet[[#This Row],[Olej opałowy zużycie w litrach]]/Wyniki_ankiet[[#This Row],[Powierzchnia ogrzewana w m2]],) -> 0 | X27: nie | Y27: - | AA27: nie | AB27: =IF(AND(Wyniki_ankiet[[#This Row],[Wielkość zużycia węgla w tonach (jeśli występuje)]]>0,Wyniki_ankiet[[#This Row],[Wielkość zużycia drewna w kg (jeśli występuje)]]>0),1,) -> 1 | AC27: =IF(AND(Wyniki_ankiet[[#This Row],[Wielkość zużycia węgla w tonach (jeśli występuje)]]>0,Wyniki_ankiet[[#This Row],[Wielkość zużycia drewna w kg (jeśli występuje)]]=0),1,) -> 0 | AD27: =IF(AND(Wyniki_ankiet[[#This Row],[Wielkość zużycia drewna w kg (jeśli występuje)]]>0,Wyniki_ankiet[[#This Row],[Wielkość zużycia węgla w tonach (jeśli występuje)]]=0),1,) -> 0 | AE27: =IF(Wyniki_ankiet[[#This Row],[Wielkość zużycia gazu w m3 (jeśli występuje)]]>0,1,) -> 0
A28: 24 | B28: obszar wiejski | C28: =SUM(BUD_MIESZK_A!U32:U194) -> 6000 | D28: nie | E28: Wolnostojący | F28: 120 | G28: 120 | H28: 1960 | I28: tak | J28: tak | K28: Drewniane | L28: Dobry | M28: inne: olej opałowy | N28: olej opałowy | P28: =IFERROR(Wyniki_ankiet[[#This Row],[Wielkość zużycia węgla w tonach (jeśli występuje)]]*1000/Wyniki_ankiet[[#This Row],[Powierzchnia ogrzewana w m2]],) -> 0 | Q28: 0 | S28: =IFERROR(Wyniki_ankiet[[#This Row],[Wielkość zużycia drewna w kg (jeśli występuje)]]/Wyniki_ankiet[[#This Row],[Powierzchnia ogrzewana w m2]],) -> 0 | T28: olej opałowy 0 2000 l | U28: 2000 | V28: =IFERROR(Wyniki_ankiet[[#This Row],[Olej opałowy zużycie w litrach]]/Wyniki_ankiet[[#This Row],[Powierzchnia ogrzewana w m2]],) -> 16.666667 | X28: nie | Y28: - | AA28: tak | AB28: =IF(AND(Wyniki_ankiet[[#This Row],[Wielkość zużycia węgla w tonach (jeśli występuje)]]>0,Wyniki_ankiet[[#This Row],[Wielkość zużycia drewna w kg (jeśli występuje)]]>0),1,) -> 0 | AC28: =IF(AND(Wyniki_ankiet[[#This Row],[Wielkość zużycia węgla w tonach (jeśli występuje)]]>0,Wyniki_ankiet[[#This Row],[Wielkość zużycia drewna w kg (jeśli występuje)]]=0),1,) -> 0 | AD28: =IF(AND(Wyniki_ankiet[[#This Row],[Wielkość zużycia drewna w kg (jeśli występuje)]]>0,Wyniki_ankiet[[#This Row],[Wielkość zużycia węgla w tonach (jeśli występuje)]]=0),1,) -> 0 | AE28: =IF(Wyniki_ankiet[[#This Row],[Wielkość zużycia gazu w m3 (jeśli występuje)]]>0,1,) -> 0 | AF28: 1
A29: 25 | B29: obszar wiejski | C29: =SUM(BUD_MIESZK_A!U33:U195) -> 6000 | D29: nie | E29: Wolnostojący | F29: - | G29: 140 | H29: 1973 | I29: nie | J29: nie | K29: PCV, Drewniane | L29: Dostateczny | M29: ogrzewanie cenralne | N29: węgiel, drewno | O29: 10 | P29: =IFERROR(Wyniki_ankiet[[#This Row],[Wielkość zużycia węgla w tonach (jeśli występuje)]]*1000/Wyniki_ankiet[[#This Row],[Powierzchnia ogrzewana w m2]],) -> 71.428571 | Q29: 0 | R29: 9000 | S29: =IFERROR(Wyniki_ankiet[[#This Row],[Wielkość zużycia drewna w kg (jeśli występuje)]]/Wyniki_ankiet[[#This Row],[Powierzchnia ogrzewana w m2]],) -> 64.285714 | T29: 0 | V29: =IFERROR(Wyniki_ankiet[[#This Row],[Olej opałowy zużycie w litrach]]/Wyniki_ankiet[[#This Row],[Powierzchnia ogrzewana w m2]],) -> 0 | X29: nie | Y29: - | AA29: nie | AB29: =IF(AND(Wyniki_ankiet[[#This Row],[Wielkość zużycia węgla w tonach (jeśli występuje)]]>0,Wyniki_ankiet[[#This Row],[Wielkość zużycia drewna w kg (jeśli występuje)]]>0),1,) -> 1 | AC29: =IF(AND(Wyniki_ankiet[[#This Row],[Wielkość zużycia węgla w tonach (jeśli występuje)]]>0,Wyniki_ankiet[[#This Row],[Wielkość zużycia drewna w kg (jeśli występuje)]]=0),1,) -> 0 | AD29: =IF(AND(Wyniki_ankiet[[#This Row],[Wielkość zużycia drewna w kg (jeśli występuje)]]>0,Wyniki_ankiet[[#This Row],[Wielkość zużycia węgla w tonach (jeśli występuje)]]=0),1,) -> 0 | AE29: =IF(Wyniki_ankiet[[#This Row],[Wielkość zużycia gazu w m3 (jeśli występuje)]]>0,1,) -> 0
A30: 26 | B30: obszar wiejski | C30: =SUM(BUD_MIESZK_A!U34:U196) -> 6000 | D30: nie | E30: Wolnostojący | F30: 211 | G30: 180 | H30: 1984 | I30: nie | J30: nie | K30: Drewniane | L30: Zły | M30: ogrzewanie centralne: kocioł węglowy rusztowy | N30: węgiel, drewno | O30: 8 | P30: =IFERROR(Wyniki_ankiet[[#This Row],[Wielkość zużycia węgla w tonach (jeśli występuje)]]*1000/Wyniki_ankiet[[#This Row],[Powierzchnia ogrzewana w m2]],) -> 44.444444 | Q30: 0 | R30: 1800 | S30: =IFERROR(Wyniki_ankiet[[#This Row],[Wielkość zużycia drewna w kg (jeśli występuje)]]/Wyniki_ankiet[[#This Row],[Powierzchnia ogrzewana w m2]],) -> 10 | T30: 0 | V30: =IFERROR(Wyniki_ankiet[[#This Row],[Olej opałowy zużycie w litrach]]/Wyniki_ankiet[[#This Row],[Powierzchnia ogrzewana w m2]],) -> 0 | X30: nie | Y30: - | AA30: tak | AB30: =IF(AND(Wyniki_ankiet[[#This Row],[Wielkość zużycia węgla w tonach (jeśli występuje)]]>0,Wyniki_ankiet[[#This Row],[Wielkość zużycia drewna w kg (jeśli występuje)]]>0),1,) -> 1 | AC30: =IF(AND(Wyniki_ankiet[[#This Row],[Wielkość zużycia węgla w tonach (jeśli występuje)]]>0,Wyniki_ankiet[[#This Row],[Wielkość zużycia drewna w kg (jeśli występuje)]]=0),1,) -> 0 | AD30: =IF(AND(Wyniki_ankiet[[#This Row],[Wielkość zużycia drewna w kg (jeśli występuje)]]>0,Wyniki_ankiet[[#This Row],[Wielkość zużycia węgla w tonach (jeśli występuje)]]=0),1,) -> 0 | AE30: =IF(Wyniki_ankiet[[#This Row],[Wielkość zużycia gazu w m3 (jeśli występuje)]]>0,1,) -> 0
A31: 27 | B31: obszar wiejski | C31: =SUM(BUD_MIESZK_A!U35:U197) -> 6000 | D31: nie | E31: Wielorodzinny | F31: 200 | G31: 150 | H31: 1885 | I31: nie | J31: nie | K31: PCV, Drewniane | L31: Dobry | M31: ogrzewanie centralne: kocioł węglowy rusztowy | N31: węgiel, drewno | O31: 5 | P31: =IFERROR(Wyniki_ankiet[[#This Row],[Wielkość zużycia węgla w tonach (jeśli występuje)]]*1000/Wyniki_ankiet[[#This Row],[Powierzchnia ogrzewana w m2]],) -> 33.333333 | Q31: 0 | R31: 1200 | S31: =IFERROR(Wyniki_ankiet[[#This Row],[Wielkość zużycia drewna w kg (jeśli występuje)]]/Wyniki_ankiet[[#This Row],[Powierzchnia ogrzewana w m2]],) -> 8 | T31: 0 | V31: =IFERROR(Wyniki_ankiet[[#This Row],[Olej opałowy zużycie w litrach]]/Wyniki_ankiet[[#This Row],[Powierzchnia ogrzewana w m2]],) -> 0 | X31: nie | Y31: - | AA31: tak | AB31: =IF(AND(Wyniki_ankiet[[#This Row],[Wielkość zużycia węgla w tonach (jeśli występuje)]]>0,Wyniki_ankiet[[#This Row],[Wielkość zużycia drewna w kg (jeśli występuje)]]>0),1,) -> 1 | AC31: =IF(AND(Wyniki_ankiet[[#This Row],[Wielkość zużycia węgla w tonach (jeśli występuje)]]>0,Wyniki_ankiet[[#This Row],[Wielkość zużycia drewna w kg (jeśli występuje)]]=0),1,) -> 0 | AD31: =IF(AND(Wyniki_ankiet[[#This Row],[Wielkość zużycia drewna w kg (jeśli występuje)]]>0,Wyniki_ankiet[[#This Row],[Wielkość zużycia węgla w tonach (jeśli występuje)]]=0),1,) -> 0 | AE31: =IF(Wyniki_ankiet[[#This Row],[Wielkość zużycia gazu w m3 (jeśli występuje)]]>0,1,) -> 0
A32: 28 | B32: obszar wiejski | C32: =SUM(BUD_MIESZK_A!U36:U198) -> 5100 | D32: nie | E32: Wolnostojący | F32: 120 | G32: 120 | H32: 1978 | I32: tak | J32: tak | K32: PCV | L32: Dobry | M32: ogrzewanie centralne: kocioł węglowy rusztowy | N32: węgiel, drewno | O32: 2 | P32: =IFERROR(Wyniki_ankiet[[#This Row],[Wielkość zużycia węgla w tonach (jeśli występuje)]]*1000/Wyniki_ankiet[[#This Row],[Powierzchnia ogrzewana w m2]],) -> 16.666667 | Q32: 0 | R32: 1200 | S32: =IFERROR(Wyniki_ankiet[[#This Row],[Wielkość zużycia drewna w kg (jeśli występuje)]]/Wyniki_ankiet[[#This Row],[Powierzchnia ogrzewana w m2]],) -> 10 | T32: 0 | V32: =IFERROR(Wyniki_ankiet[[#This Row],[Olej opałowy zużycie w litrach]]/Wyniki_ankiet[[#This Row],[Powierzchnia ogrzewana w m2]],) -> 0 | X32: nie | Y32: - | AA32: nie | AB32: =IF(AND(Wyniki_ankiet[[#This Row],[Wielkość zużycia węgla w tonach (jeśli występuje)]]>0,Wyniki_ankiet[[#This Row],[Wielkość zużycia drewna w kg (jeśli występuje)]]>0),1,) -> 1 | AC32: =IF(AND(Wyniki_ankiet[[#This Row],[Wielkość zużycia węgla w tonach (jeśli występuje)]]>0,Wyniki_ankiet[[#This Row],[Wielkość zużycia drewna w kg (jeśli występuje)]]=0),1,) -> 0 | AD32: =IF(AND(Wyniki_ankiet[[#This Row],[Wielkość zużycia drewna w kg (jeśli występuje)]]>0,Wyniki_ankiet[[#This Row],[Wielkość zużycia węgla w tonach (jeśli występuje)]]=0),1,) -> 0 | AE32: =IF(Wyniki_ankiet[[#This Row],[Wielkość zużycia gazu w m3 (jeśli występuje)]]>0,1,) -> 0
A33: 29 | B33: obszar wiejski | C33: =SUM(BUD_MIESZK_A!U37:U199) -> 4100 | D33: nie | E33: Wolnostojący | F33: 120 | G33: 120 | H33: - | I33: nie | J33: nie | K33: Drewniane | L33: Dostateczny | M33: ogrzewanie centralne: kocioł węglowy rusztowy | N33: węgiel | O33: 2 | P33: =IFERROR(Wyniki_ankiet[[#This Row],[Wielkość zużycia węgla w tonach (jeśli występuje)]]*1000/Wyniki_ankiet[[#This Row],[Powierzchnia ogrzewana w m2]],) -> 16.666667 | Q33: 0 | S33: =IFERROR(Wyniki_ankiet[[#This Row],[Wielkość zużycia drewna w kg (jeśli występuje)]]/Wyniki_ankiet[[#This Row],[Powierzchnia ogrzewana w m2]],) -> 0 | T33: 0 | V33: =IFERROR(Wyniki_ankiet[[#This Row],[Olej opałowy zużycie w litrach]]/Wyniki_ankiet[[#This Row],[Powierzchnia ogrzewana w m2]],) -> 0 | X33: nie | Y33: - | AA33: tak | AB33: =IF(AND(Wyniki_ankiet[[#This Row],[Wielkość zużycia węgla w tonach (jeśli występuje)]]>0,Wyniki_ankiet[[#This Row],[Wielkość zużycia drewna w kg (jeśli występuje)]]>0),1,) -> 0 | AC33: =IF(AND(Wyniki_ankiet[[#This Row],[Wielkość zużycia węgla w tonach (jeśli występuje)]]>0,Wyniki_ankiet[[#This Row],[Wielkość zużycia drewna w kg (jeśli występuje)]]=0),1,) -> 1 | AD33: =IF(AND(Wyniki_ankiet[[#This Row],[Wielkość zużycia drewna w kg (jeśli występuje)]]>0,Wyniki_ankiet[[#This Row],[Wielkość zużycia węgla w tonach (jeśli występuje)]]=0),1,) -> 0 | AE33: =IF(Wyniki_ankiet[[#This Row],[Wielkość zużycia gazu w m3 (jeśli występuje)]]>0,1,) -> 0
A34: 30 | B34: obszar wiejski | C34: =SUM(BUD_MIESZK_A!U38:U200) -> 4100 | D34: nie | E34: Wolnostojący | F34: 200 | G34: 200 | H34: - | I34: tak | J34: tak | K34: Drewniane | L34: Dobry | M34: inne???? str55 | N34: węgiel, drewno | O34: 3 | P34: =IFERROR(Wyniki_ankiet[[#This Row],[Wielkość zużycia węgla w tonach (jeśli występuje)]]*1000/Wyniki_ankiet[[#This Row],[Powierzchnia ogrzewana w m2]],) -> 15 | Q34: 0 | R34: 3000 | S34: =IFERROR(Wyniki_ankiet[[#This Row],[Wielkość zużycia drewna w kg (jeśli występuje)]]/Wyniki_ankiet[[#This Row],[Powierzchnia ogrzewana w m2]],) -> 15 | T34: 0 | V34: =IFERROR(Wyniki_ankiet[[#This Row],[Olej opałowy zużycie w litrach]]/Wyniki_ankiet[[#This Row],[Powierzchnia ogrzewana w m2]],) -> 0 | X34: nie | Y34: - | AA34: tak | AB34: =IF(AND(Wyniki_ankiet[[#This Row],[Wielkość zużycia węgla w tonach (jeśli występuje)]]>0,Wyniki_ankiet[[#This Row],[Wielkość zużycia drewna w kg (jeśli występuje)]]>0),1,) -> 1 | AC34: =IF(AND(Wyniki_ankiet[[#This Row],[Wielkość zużycia węgla w tonach (jeśli występuje)]]>0,Wyniki_ankiet[[#This Row],[Wielkość zużycia drewna w kg (jeśli występuje)]]=0),1,) -> 0 | AD34: =IF(AND(Wyniki_ankiet[[#This Row],[Wielkość zużycia drewna w kg (jeśli występuje)]]>0,Wyniki_ankiet[[#This Row],[Wielkość zużycia węgla w tonach (jeśli występuje)]]=0),1,) -> 0 | AE34: =IF(Wyniki_ankiet[[#This Row],[Wielkość zużycia gazu w m3 (jeśli występuje)]]>0,1,) -> 0
A35: 31 | B35: obszar wiejski | C35: =SUM(BUD_MIESZK_A!U39:U201) -> 4100 | D35: nie | E35: Wolnostojący | F35: 280 | G35: 160 | H35: 1995 | I35: tak | J35: tak | K35: PCV, Drewniane | L35: Dobry | M35: ogrzewanie centralne: kocioł węglowy z podajnikiem | N35: węgiel, olej opałowy | O35: 3.6 | P35: =IFERROR(Wyniki_ankiet[[#This Row],[Wielkość zużycia węgla w tonach (jeśli występuje)]]*1000/Wyniki_ankiet[[#This Row],[Powierzchnia ogrzewana w m2]],) -> 22.5 | Q35: 0 | S35: =IFERROR(Wyniki_ankiet[[#This Row],[Wielkość zużycia drewna w kg (jeśli występuje)]]/Wyniki_ankiet[[#This Row],[Powierzchnia ogrzewana w m2]],) -> 0 | T35: olej opałowy 0 900 l | U35: 900 | V35: =IFERROR(Wyniki_ankiet[[#This Row],[Olej opałowy zużycie w litrach]]/Wyniki_ankiet[[#This Row],[Powierzchnia ogrzewana w m2]],) -> 5.625 | X35: nie | Y35: - | AA35: tak | AB35: =IF(AND(Wyniki_ankiet[[#This Row],[Wielkość zużycia węgla w tonach (jeśli występuje)]]>0,Wyniki_ankiet[[#This Row],[Wielkość zużycia drewna w kg (jeśli występuje)]]>0),1,) -> 0 | AC35: =IF(AND(Wyniki_ankiet[[#This Row],[Wielkość zużycia węgla w tonach (jeśli występuje)]]>0,Wyniki_ankiet[[#This Row],[Wielkość zużycia drewna w kg (jeśli występuje)]]=0),1,) -> 1 | AD35: =IF(AND(Wyniki_ankiet[[#This Row],[Wielkość zużycia drewna w kg (jeśli występuje)]]>0,Wyniki_ankiet[[#This Row],[Wielkość zużycia węgla w tonach (jeśli występuje)]]=0),1,) -> 0 | AE35: =IF(Wyniki_ankiet[[#This Row],[Wielkość zużycia gazu w m3 (jeśli występuje)]]>0,1,) -> 0 | AF35: 1
A36: 32 | B36: obszar wiejski | C36: =SUM(BUD_MIESZK_A!U40:U202) -> 4100 | D36: nie | E36: Wolnostojący | F36: 100 | G36: 100 | H36: 1984 | I36: tak | J36: tak | K36: PCV | L36: Dobry | M36: inne: olej opałowy | N36: olej opałowy, drewno | P36: =IFERROR(Wyniki_ankiet[[#This Row],[Wielkość zużycia węgla w tonach (jeśli występuje)]]*1000/Wyniki_ankiet[[#This Row],[Powierzchnia ogrzewana w m2]],) -> 0 | Q36: 0 | R36: 3600 | S36: =IFERROR(Wyniki_ankiet[[#This Row],[Wielkość zużycia drewna w kg (jeśli występuje)]]/Wyniki_ankiet[[#This Row],[Powierzchnia ogrzewana w m2]],) -> 36 | T36: olej opałowy 0 1000 l | U36: 1000 | V36: =IFERROR(Wyniki_ankiet[[#This Row],[Olej opałowy zużycie w litrach]]/Wyniki_ankiet[[#This Row],[Powierzchnia ogrzewana w m2]],) -> 10 | X36: nie | Y36: - | AA36: tak | AB36: =IF(AND(Wyniki_ankiet[[#This Row],[Wielkość zużycia węgla w tonach (jeśli występuje)]]>0,Wyniki_ankiet[[#This Row],[Wielkość zużycia drewna w kg (jeśli występuje)]]>0),1,) -> 0 | AC36: =IF(AND(Wyniki_ankiet[[#This Row],[Wielkość zużycia węgla w tonach (jeśli występuje)]]>0,Wyniki_ankiet[[#This Row],[Wielkość zużycia drewna w kg (jeśli występuje)]]=0),1,) -> 0 | AD36: =IF(AND(Wyniki_ankiet[[#This Row],[Wielkość zużycia drewna w kg (jeśli występuje)]]>0,Wyniki_ankiet[[#This Row],[Wielkość zużycia węgla w tonach (jeśli występuje)]]=0),1,) -> 1 | AE36: =IF(Wyniki_ankiet[[#This Row],[Wielkość zużycia gazu w m3 (jeśli występuje)]]>0,1,) -> 0 | AF36: 1
A37: 33 | B37: obszar wiejski | C37: =SUM(BUD_MIESZK_A!U41:U203) -> 4100 | D37: nie | E37: Wolnostojący | F37: 110 | G37: 110 | H37: 1984 | I37: tak | J37: nie | K37: PCV, Drewniane | L37: Dobry | M37: ogrzewanie centralne: kocioł węglowy rusztowy | N37: węgiel, drewno | O37: 5 | P37: =IFERROR(Wyniki_ankiet[[#This Row],[Wielkość zużycia węgla w tonach (jeśli występuje)]]*1000/Wyniki_ankiet[[#This Row],[Powierzchnia ogrzewana w m2]],) -> 45.454545 | Q37: 0 | R37: 3000 | S37: =IFERROR(Wyniki_ankiet[[#This Row],[Wielkość zużycia drewna w kg (jeśli występuje)]]/Wyniki_ankiet[[#This Row],[Powierzchnia ogrzewana w m2]],) -> 27.272727 | T37: 0 | V37: =IFERROR(Wyniki_ankiet[[#This Row],[Olej opałowy zużycie w litrach]]/Wyniki_ankiet[[#This Row],[Powierzchnia ogrzewana w m2]],) -> 0 | X37: nie | Y37: - | AA37: tak | AB37: =IF(AND(Wyniki_ankiet[[#This Row],[Wielkość zużycia węgla w tonach (jeśli występuje)]]>0,Wyniki_ankiet[[#This Row],[Wielkość zużycia drewna w kg (jeśli występuje)]]>0),1,) -> 1 | AC37: =IF(AND(Wyniki_ankiet[[#This Row],[Wielkość zużycia węgla w tonach (jeśli występuje)]]>0,Wyniki_ankiet[[#This Row],[Wielkość zużycia drewna w kg (jeśli występuje)]]=0),1,) -> 0 | AD37: =IF(AND(Wyniki_ankiet[[#This Row],[Wielkość zużycia drewna w kg (jeśli występuje)]]>0,Wyniki_ankiet[[#This Row],[Wielkość zużycia węgla w tonach (jeśli występuje)]]=0),1,) -> 0 | AE37: =IF(Wyniki_ankiet[[#This Row],[Wielkość zużycia gazu w m3 (jeśli występuje)]]>0,1,) -> 0
A38: 34 | B38: obszar wiejski | C38: =SUM(BUD_MIESZK_A!U42:U204) -> 4100 | D38: nie | E38: Wolnostojący | F38: 110 | G38: 110 | H38: 2005 | I38: nie | J38: tak | K38: PCV | L38: Dobry | M38: ogrzewanie centralne: kocioł węglowy rusztowy | N38: węgiel, drewno | O38: 3 | P38: =IFERROR(Wyniki_ankiet[[#This Row],[Wielkość zużycia węgla w tonach (jeśli występuje)]]*1000/Wyniki_ankiet[[#This Row],[Powierzchnia ogrzewana w m2]],) -> 27.272727 | Q38: 0 | R38: 1800 | S38: =IFERROR(Wyniki_ankiet[[#This Row],[Wielkość zużycia drewna w kg (jeśli występuje)]]/Wyniki_ankiet[[#This Row],[Powierzchnia ogrzewana w m2]],) -> 16.363636 | T38: 0 | V38: =IFERROR(Wyniki_ankiet[[#This Row],[Olej opałowy zużycie w litrach]]/Wyniki_ankiet[[#This Row],[Powierzchnia ogrzewana w m2]],) -> 0 | X38: nie | Y38: - | AA38: tak | AB38: =IF(AND(Wyniki_ankiet[[#This Row],[Wielkość zużycia węgla w tonach (jeśli występuje)]]>0,Wyniki_ankiet[[#This Row],[Wielkość zużycia drewna w kg (jeśli występuje)]]>0),1,) -> 1 | AC38: =IF(AND(Wyniki_ankiet[[#This Row],[Wielkość zużycia węgla w tonach (jeśli występuje)]]>0,Wyniki_ankiet[[#This Row],[Wielkość zużycia drewna w kg (jeśli występuje)]]=0),1,) -> 0 | AD38: =IF(AND(Wyniki_ankiet[[#This Row],[Wielkość zużycia drewna w kg (jeśli występuje)]]>0,Wyniki_ankiet[[#This Row],[Wielkość zużycia węgla w tonach (jeśli występuje)]]=0),1,) -> 0 | AE38: =IF(Wyniki_ankiet[[#This Row],[Wielkość zużycia gazu w m3 (jeśli występuje)]]>0,1,) -> 0
A39: 35 | B39: obszar wiejski | C39: =SUM(BUD_MIESZK_A!U43:U205) -> 4100 | D39: nie | E39: Wolnostojący | F39: 130 | G39: 130 | H39: 1933 | I39: nie | J39: nie | K39: PCV | L39: Dobry | M39: ogrzewanie centralne: kocioł węglowy rusztowy | N39: węgiel, drewno | O39: 5 | P39: =IFERROR(Wyniki_ankiet[[#This Row],[Wielkość zużycia węgla w tonach (jeśli występuje)]]*1000/Wyniki_ankiet[[#This Row],[Powierzchnia ogrzewana w m2]],) -> 38.461538 | Q39: 0 | R39: 1800 | S39: =IFERROR(Wyniki_ankiet[[#This Row],[Wielkość zużycia drewna w kg (jeśli występuje)]]/Wyniki_ankiet[[#This Row],[Powierzchnia ogrzewana w m2]],) -> 13.846154 | T39: 0 | V39: =IFERROR(Wyniki_ankiet[[#This Row],[Olej opałowy zużycie w litrach]]/Wyniki_ankiet[[#This Row],[Powierzchnia ogrzewana w m2]],) -> 0 | X39: nie | Y39: - | AA39: tak | AB39: =IF(AND(Wyniki_ankiet[[#This Row],[Wielkość zużycia węgla w tonach (jeśli występuje)]]>0,Wyniki_ankiet[[#This Row],[Wielkość zużycia drewna w kg (jeśli występuje)]]>0),1,) -> 1 | AC39: =IF(AND(Wyniki_ankiet[[#This Row],[Wielkość zużycia węgla w tonach (jeśli występuje)]]>0,Wyniki_ankiet[[#This Row],[Wielkość zużycia drewna w kg (jeśli występuje)]]=0),1,) -> 0 | AD39: =IF(AND(Wyniki_ankiet[[#This Row],[Wielkość zużycia drewna w kg (jeśli występuje)]]>0,Wyniki_ankiet[[#This Row],[Wielkość zużycia węgla w tonach (jeśli występuje)]]=0),1,) -> 0 | AE39: =IF(Wyniki_ankiet[[#This Row],[Wielkość zużycia gazu w m3 (jeśli występuje)]]>0,1,) -> 0
A40: 36 | B40: obszar wiejski | C40: =SUM(BUD_MIESZK_A!U44:U206) -> 4100 | D40: - | E40: Wolnostojący | F40: 120 | G40: 110 | H40: 1960 | I40: tak | J40: nie | K40: PCV | L40: Dobry | M40: ogrzewanie cenralne | N40: węgiel, drewno | O40: 4 | P40: =IFERROR(Wyniki_ankiet[[#This Row],[Wielkość zużycia węgla w tonach (jeśli występuje)]]*1000/Wyniki_ankiet[[#This Row],[Powierzchnia ogrzewana w m2]],) -> 36.363636 | Q40: 0 | S40: =IFERROR(Wyniki_ankiet[[#This Row],[Wielkość zużycia drewna w kg (jeśli występuje)]]/Wyniki_ankiet[[#This Row],[Powierzchnia ogrzewana w m2]],) -> 0 | T40: 0 | V40: =IFERROR(Wyniki_ankiet[[#This Row],[Olej opałowy zużycie w litrach]]/Wyniki_ankiet[[#This Row],[Powierzchnia ogrzewana w m2]],) -> 0 | X40: nie | Y40: - | AA40: tak | AB40: =IF(AND(Wyniki_ankiet[[#This Row],[Wielkość zużycia węgla w tonach (jeśli występuje)]]>0,Wyniki_ankiet[[#This Row],[Wielkość zużycia drewna w kg (jeśli występuje)]]>0),1,) -> 0 | AC40: =IF(AND(Wyniki_ankiet[[#This Row],[Wielkość zużycia węgla w tonach (jeśli występuje)]]>0,Wyniki_ankiet[[#This Row],[Wielkość zużycia drewna w kg (jeśli występuje)]]=0),1,) -> 1 | AD40: =IF(AND(Wyniki_ankiet[[#This Row],[Wielkość zużycia drewna w kg (jeśli występuje)]]>0,Wyniki_ankiet[[#This Row],[Wielkość zużycia węgla w tonach (jeśli występuje)]]=0),1,) -> 0 | AE40: =IF(Wyniki_ankiet[[#This Row],[Wielkość zużycia gazu w m3 (jeśli występuje)]]>0,1,) -> 0
A41: 37 | B41: obszar wiejski | C41: =SUM(BUD_MIESZK_A!U45:U207) -> 4100 | D41: - | E41: Wolnostojący | F41: 80 | G41: 50 | H41: 1977 | I41: tak | J41: nie | K41: PCV | L41: Dobry | M41: ogrzewanie centralne: kocioł węglowy górnego paleniska | N41: węgiel, drewno | O41: 3 | P41: =IFERROR(Wyniki_ankiet[[#This Row],[Wielkość zużycia węgla w tonach (jeśli występuje)]]*1000/Wyniki_ankiet[[#This Row],[Powierzchnia ogrzewana w m2]],) -> 60 | Q41: 0 | R41: 4000 | S41: =IFERROR(Wyniki_ankiet[[#This Row],[Wielkość zużycia drewna w kg (jeśli występuje)]]/Wyniki_ankiet[[#This Row],[Powierzchnia ogrzewana w m2]],) -> 80 | T41: 0 | V41: =IFERROR(Wyniki_ankiet[[#This Row],[Olej opałowy zużycie w litrach]]/Wyniki_ankiet[[#This Row],[Powierzchnia ogrzewana w m2]],) -> 0 | X41: tak | Y41: Kolektory słoneczne | AA41: tak | AB41: =IF(AND(Wyniki_ankiet[[#This Row],[Wielkość zużycia węgla w tonach (jeśli występuje)]]>0,Wyniki_ankiet[[#This Row],[Wielkość zużycia drewna w kg (jeśli występuje)]]>0),1,) -> 1 | AC41: =IF(AND(Wyniki_ankiet[[#This Row],[Wielkość zużycia węgla w tonach (jeśli występuje)]]>0,Wyniki_ankiet[[#This Row],[Wielkość zużycia drewna w kg (jeśli występuje)]]=0),1,) -> 0 | AD41: =IF(AND(Wyniki_ankiet[[#This Row],[Wielkość zużycia drewna w kg (jeśli występuje)]]>0,Wyniki_ankiet[[#This Row],[Wielkość zużycia węgla w tonach (jeśli występuje)]]=0),1,) -> 0 | AE41: =IF(Wyniki_ankiet[[#This Row],[Wielkość zużycia gazu w m3 (jeśli występuje)]]>0,1,) -> 0
A42: 38 | B42: obszar wiejski | C42: =SUM(BUD_MIESZK_A!U46:U208) -> 4100 | D42: nie | E42: Wolnostojący | F42: 200 | G42: 160 | H42: 1990 | I42: nie | J42: tak | K42: PCV | L42: Dobry | M42: ogrzewanie centralne | N42: węgiel, drewno, energia elektryczna | O42: 4 | P42: =IFERROR(Wyniki_ankiet[[#This Row],[Wielkość zużycia węgla w tonach (jeśli występuje)]]*1000/Wyniki_ankiet[[#This Row],[Powierzchnia ogrzewana w m2]],) -> 25 | Q42: 0 | R42: 1500 | S42: =IFERROR(Wyniki_ankiet[[#This Row],[Wielkość zużycia drewna w kg (jeśli występuje)]]/Wyniki_ankiet[[#This Row],[Powierzchnia ogrzewana w m2]],) -> 9.375 | T42: 0 | V42: =IFERROR(Wyniki_ankiet[[#This Row],[Olej opałowy zużycie w litrach]]/Wyniki_ankiet[[#This Row],[Powierzchnia ogrzewana w m2]],) -> 0 | W42: 20 | X42: nie | Y42: - | AA42: tak | AB42: =IF(AND(Wyniki_ankiet[[#This Row],[Wielkość zużycia węgla w tonach (jeśli występuje)]]>0,Wyniki_ankiet[[#This Row],[Wielkość zużycia drewna w kg (jeśli występuje)]]>0),1,) -> 1 | AC42: =IF(AND(Wyniki_ankiet[[#This Row],[Wielkość zużycia węgla w tonach (jeśli występuje)]]>0,Wyniki_ankiet[[#This Row],[Wielkość zużycia drewna w kg (jeśli występuje)]]=0),1,) -> 0 | AD42: =IF(AND(Wyniki_ankiet[[#This Row],[Wielkość zużycia drewna w kg (jeśli występuje)]]>0,Wyniki_ankiet[[#This Row],[Wielkość zużycia węgla w tonach (jeśli występuje)]]=0),1,) -> 0 | AE42: =IF(Wyniki_ankiet[[#This Row],[Wielkość zużycia gazu w m3 (jeśli występuje)]]>0,1,) -> 0
A43: 39 | B43: obszar wiejski | C43: =SUM(BUD_MIESZK_A!U47:U209) -> 4100 | D43: nie | E43: Szeregowiec | F43: 120 | G43: 160 | H43: 1980 | I43: tak | J43: nie | K43: PCV | L43: Dobry | M43: ogrzewanie centralne | N43: węgiel, drewno | O43: 4 | P43: =IFERROR(Wyniki_ankiet[[#This Row],[Wielkość zużycia węgla w tonach (jeśli występuje)]]*1000/Wyniki_ankiet[[#This Row],[Powierzchnia ogrzewana w m2]],) -> 25 | Q43: 0 | R43: 1400 | S43: =IFERROR(Wyniki_ankiet[[#This Row],[Wielkość zużycia drewna w kg (jeśli występuje)]]/Wyniki_ankiet[[#This Row],[Powierzchnia ogrzewana w m2]],) -> 8.75 | T43: 0 | V43: =IFERROR(Wyniki_ankiet[[#This Row],[Olej opałowy zużycie w litrach]]/Wyniki_ankiet[[#This Row],[Powierzchnia ogrzewana w m2]],) -> 0 | X43: nie | Y43: - | AA43: tak | AB43: =IF(AND(Wyniki_ankiet[[#This Row],[Wielkość zużycia węgla w tonach (jeśli występuje)]]>0,Wyniki_ankiet[[#This Row],[Wielkość zużycia drewna w kg (jeśli występuje)]]>0),1,) -> 1 | AC43: =IF(AND(Wyniki_ankiet[[#This Row],[Wielkość zużycia węgla w tonach (jeśli występuje)]]>0,Wyniki_ankiet[[#This Row],[Wielkość zużycia drewna w kg (jeśli występuje)]]=0),1,) -> 0 | AD43: =IF(AND(Wyniki_ankiet[[#This Row],[Wielkość zużycia drewna w kg (jeśli występuje)]]>0,Wyniki_ankiet[[#This Row],[Wielkość zużycia węgla w tonach (jeśli występuje)]]=0),1,) -> 0 | AE43: =IF(Wyniki_ankiet[[#This Row],[Wielkość zużycia gazu w m3 (jeśli występuje)]]>0,1,) -> 0
A44: 40sk1 | B44: obszar wiejski | C44: =SUM(BUD_MIESZK_A!U48:U210) -> 4100 | D44: nie | E44: Wielorodzinny | F44: 60 | G44: 60 | H44: - | I44: tak | J44: nie | K44: PCV | L44: Dobry | M44: ogrzewanie centralne | N44: węgiel | O44: 1 | P44: =IFERROR(Wyniki_ankiet[[#This Row],[Wielkość zużycia węgla w tonach (jeśli występuje)]]*1000/Wyniki_ankiet[[#This Row],[Powierzchnia ogrzewana w m2]],) -> 16.666667 | Q44: 0 | S44: =IFERROR(Wyniki_ankiet[[#This Row],[Wielkość zużycia drewna w kg (jeśli występuje)]]/Wyniki_ankiet[[#This Row],[Powierzchnia ogrzewana w m2]],) -> 0 | T44: 0 | V44: =IFERROR(Wyniki_ankiet[[#This Row],[Olej opałowy zużycie w litrach]]/Wyniki_ankiet[[#This Row],[Powierzchnia ogrzewana w m2]],) -> 0 | X44: nie | Y44: - | AA44: nie | AB44: =IF(AND(Wyniki_ankiet[[#This Row],[Wielkość zużycia węgla w tonach (jeśli występuje)]]>0,Wyniki_ankiet[[#This Row],[Wielkość zużycia drewna w kg (jeśli występuje)]]>0),1,) -> 0 | AC44: =IF(AND(Wyniki_ankiet[[#This Row],[Wielkość zużycia węgla w tonach (jeśli występuje)]]>0,Wyniki_ankiet[[#This Row],[Wielkość zużycia drewna w kg (jeśli występuje)]]=0),1,) -> 1 | AD44: =IF(AND(Wyniki_ankiet[[#This Row],[Wielkość zużycia drewna w kg (jeśli występuje)]]>0,Wyniki_ankiet[[#This Row],[Wielkość zużycia węgla w tonach (jeśli występuje)]]=0),1,) -> 0 | AE44: =IF(Wyniki_ankiet[[#This Row],[Wielkość zużycia gazu w m3 (jeśli występuje)]]>0,1,) -> 0
A45: 41 | B45: obszar wiejski | C45: =SUM(BUD_MIESZK_A!U49:U211) -> 4100 | D45: nie | E45: Wolnostojący | F45: 120 | G45: 120 | H45: - | I45: tak | J45: tak | K45: PCV | L45: Dobry | M45: ogrzewanie centralne: kocioł węglowy z podajnikiem | N45: węgiel | O45: 4 | P45: =IFERROR(Wyniki_ankiet[[#This Row],[Wielkość zużycia węgla w tonach (jeśli występuje)]]*1000/Wyniki_ankiet[[#This Row],[Powierzchnia ogrzewana w m2]],) -> 33.333333 | Q45: 0 | S45: =IFERROR(Wyniki_ankiet[[#This Row],[Wielkość zużycia drewna w kg (jeśli występuje)]]/Wyniki_ankiet[[#This Row],[Powierzchnia ogrzewana w m2]],) -> 0 | T45: 0 | V45: =IFERROR(Wyniki_ankiet[[#This Row],[Olej opałowy zużycie w litrach]]/Wyniki_ankiet[[#This Row],[Powierzchnia ogrzewana w m2]],) -> 0 | X45: nie | Y45: - | AA45: tak | AB45: =IF(AND(Wyniki_ankiet[[#This Row],[Wielkość zużycia węgla w tonach (jeśli występuje)]]>0,Wyniki_ankiet[[#This Row],[Wielkość zużycia drewna w kg (jeśli występuje)]]>0),1,) -> 0 | AC45: =IF(AND(Wyniki_ankiet[[#This Row],[Wielkość zużycia węgla w tonach (jeśli występuje)]]>0,Wyniki_ankiet[[#This Row],[Wielkość zużycia drewna w kg (jeśli występuje)]]=0),1,) -> 1 | AD45: =IF(AND(Wyniki_ankiet[[#This Row],[Wielkość zużycia drewna w kg (jeśli występuje)]]>0,Wyniki_ankiet[[#This Row],[Wielkość zużycia węgla w tonach (jeśli występuje)]]=0),1,) -> 0 | AE45: =IF(Wyniki_ankiet[[#This Row],[Wielkość zużycia gazu w m3 (jeśli występuje)]]>0,1,) -> 0
A46: 42 | B46: obszar wiejski | C46: =SUM(BUD_MIESZK_A!U50:U212) -> 4100 | D46: tak | E46: Wolnostojący | F46: 108 | G46: 108 | H46: 1912 | I46: tak | J46: tak | K46: PCV, Drewniane | L46: Dobry | M46: ogrzewanie centralne | N46: drewno | P46: =IFERROR(Wyniki_ankiet[[#This Row],[Wielkość zużycia węgla w tonach (jeśli występuje)]]*1000/Wyniki_ankiet[[#This Row],[Powierzchnia ogrzewana w m2]],) -> 0 | Q46: 0 | R46: 9000 | S46: =IFERROR(Wyniki_ankiet[[#This Row],[Wielkość zużycia drewna w kg (jeśli występuje)]]/Wyniki_ankiet[[#This Row],[Powierzchnia ogrzewana w m2]],) -> 83.333333 | T46: 0 | V46: =IFERROR(Wyniki_ankiet[[#This Row],[Olej opałowy zużycie w litrach]]/Wyniki_ankiet[[#This Row],[Powierzchnia ogrzewana w m2]],) -> 0 | X46: nie | Y46: - | AA46: tak | AB46: =IF(AND(Wyniki_ankiet[[#This Row],[Wielkość zużycia węgla w tonach (jeśli występuje)]]>0,Wyniki_ankiet[[#This Row],[Wielkość zużycia drewna w kg (jeśli występuje)]]>0),1,) -> 0 | AC46: =IF(AND(Wyniki_ankiet[[#This Row],[Wielkość zużycia węgla w tonach (jeśli występuje)]]>0,Wyniki_ankiet[[#This Row],[Wielkość zużycia drewna w kg (jeśli występuje)]]=0),1,) -> 0 | AD46: =IF(AND(Wyniki_ankiet[[#This Row],[Wielkość zużycia drewna w kg (jeśli występuje)]]>0,Wyniki_ankiet[[#This Row],[Wielkość zużycia węgla w tonach (jeśli występuje)]]=0),1,) -> 1 | AE46: =IF(Wyniki_ankiet[[#This Row],[Wielkość zużycia gazu w m3 (jeśli występuje)]]>0,1,) -> 0
A47: 43 | B47: obszar wiejski | C47: =SUM(BUD_MIESZK_A!U51:U213) -> 4100 | D47: nie | E47: Wolnostojący | F47: 75 | G47: 75 | H47: 1970 | I47: tak | J47: nie | K47: PCV | L47: Dobry | M47: ogrzewanie centralne | N47: węgiel, drewno, energia elektryczna | O47: 3.5 | P47: =IFERROR(Wyniki_ankiet[[#This Row],[Wielkość zużycia węgla w tonach (jeśli występuje)]]*1000/Wyniki_ankiet[[#This Row],[Powierzchnia ogrzewana w m2]],) -> 46.666667 | Q47: 0 | R47: 500 | S47: =IFERROR(Wyniki_ankiet[[#This Row],[Wielkość zużycia drewna w kg (jeśli występuje)]]/Wyniki_ankiet[[#This Row],[Powierzchnia ogrzewana w m2]],) -> 6.6666667 | T47: 0 | V47: =IFERROR(Wyniki_ankiet[[#This Row],[Olej opałowy zużycie w litrach]]/Wyniki_ankiet[[#This Row],[Powierzchnia ogrzewana w m2]],) -> 0 | W47: 1200 | X47: nie | Y47: - | AA47: tak | AB47: =IF(AND(Wyniki_ankiet[[#This Row],[Wielkość zużycia węgla w tonach (jeśli występuje)]]>0,Wyniki_ankiet[[#This Row],[Wielkość zużycia drewna w kg (jeśli występuje)]]>0),1,) -> 1 | AC47: =IF(AND(Wyniki_ankiet[[#This Row],[Wielkość zużycia węgla w tonach (jeśli występuje)]]>0,Wyniki_ankiet[[#This Row],[Wielkość zużycia drewna w kg (jeśli występuje)]]=0),1,) -> 0 | AD47: =IF(AND(Wyniki_ankiet[[#This Row],[Wielkość zużycia drewna w kg (jeśli występuje)]]>0,Wyniki_ankiet[[#This Row],[Wielkość zużycia węgla w tonach (jeśli występuje)]]=0),1,) -> 0 | AE47: =IF(Wyniki_ankiet[[#This Row],[Wielkość zużycia gazu w m3 (jeśli występuje)]]>0,1,) -> 0
A48: 44 | B48: obszar wiejski | C48: =SUM(BUD_MIESZK_A!U52:U214) -> 4100 | D48: tak | E48: Wolnostojący | F48: 190 | G48: 190 | H48: 1900 | I48: tak | J48: tak | K48: PCV | L48: Dobry | M48: ogrzewanie centralne | N48: węgiel | O48: 6 | P48: =IFERROR(Wyniki_ankiet[[#This Row],[Wielkość zużycia węgla w tonach (jeśli występuje)]]*1000/Wyniki_ankiet[[#This Row],[Powierzchnia ogrzewana w m2]],) -> 31.578947 | Q48: 0 | S48: =IFERROR(Wyniki_ankiet[[#This Row],[Wielkość zużycia drewna w kg (jeśli występuje)]]/Wyniki_ankiet[[#This Row],[Powierzchnia ogrzewana w m2]],) -> 0 | T48: 0 | V48: =IFERROR(Wyniki_ankiet[[#This Row],[Olej opałowy zużycie w litrach]]/Wyniki_ankiet[[#This Row],[Powierzchnia ogrzewana w m2]],) -> 0 | X48: tak | Y48: Kolektory słoneczne | AA48: tak | AB48: =IF(AND(Wyniki_ankiet[[#This Row],[Wielkość zużycia węgla w tonach (jeśli występuje)]]>0,Wyniki_ankiet[[#This Row],[Wielkość zużycia drewna w kg (jeśli występuje)]]>0),1,) -> 0 | AC48: =IF(AND(Wyniki_ankiet[[#This Row],[Wielkość zużycia węgla w tonach (jeśli występuje)]]>0,Wyniki_ankiet[[#This Row],[Wielkość zużycia drewna w kg (jeśli występuje)]]=0),1,) -> 1 | AD48: =IF(AND(Wyniki_ankiet[[#This Row],[Wielkość zużycia drewna w kg (jeśli występuje)]]>0,Wyniki_ankiet[[#This Row],[Wielkość zużycia węgla w tonach (jeśli występuje)]]=0),1,) -> 0 | AE48: =IF(Wyniki_ankiet[[#This Row],[Wielkość zużycia gazu w m3 (jeśli występuje)]]>0,1,) -> 0
A49: 45 | B49: obszar wiejski | C49: =SUM(BUD_MIESZK_A!U53:U215) -> 4100 | D49: nie | E49: Wolnostojący | F49: 220 | G49: 220 | H49: 1900 | I49: nie | J49: tak | K49: PCV | L49: Dobry | M49: ogrzewanie centralne | N49: węgiel | O49: 6 | P49: =IFERROR(Wyniki_ankiet[[#This Row],[Wielkość zużycia węgla w tonach (jeśli występuje)]]*1000/Wyniki_ankiet[[#This Row],[Powierzchnia ogrzewana w m2]],) -> 27.272727 | Q49: 0 | S49: =IFERROR(Wyniki_ankiet[[#This Row],[Wielkość zużycia drewna w kg (jeśli występuje)]]/Wyniki_ankiet[[#This Row],[Powierzchnia ogrzewana w m2]],) -> 0 | T49: 0 | V49: =IFERROR(Wyniki_ankiet[[#This Row],[Olej opałowy zużycie w litrach]]/Wyniki_ankiet[[#This Row],[Powierzchnia ogrzewana w m2]],) -> 0 | X49: nie | Y49: - | AA49: tak | AB49: =IF(AND(Wyniki_ankiet[[#This Row],[Wielkość zużycia węgla w tonach (jeśli występuje)]]>0,Wyniki_ankiet[[#This Row],[Wielkość zużycia drewna w kg (jeśli występuje)]]>0),1,) -> 0 | AC49: =IF(AND(Wyniki_ankiet[[#This Row],[Wielkość zużycia węgla w tonach (jeśli występuje)]]>0,Wyniki_ankiet[[#This Row],[Wielkość zużycia drewna w kg (jeśli występuje)]]=0),1,) -> 1 | AD49: =IF(AND(Wyniki_ankiet[[#This Row],[Wielkość zużycia drewna w kg (jeśli występuje)]]>0,Wyniki_ankiet[[#This Row],[Wielkość zużycia węgla w tonach (jeśli występuje)]]=0),1,) -> 0 | AE49: =IF(Wyniki_ankiet[[#This Row],[Wielkość zużycia gazu w m3 (jeśli występuje)]]>0,1,) -> 0
A50: 46 | B50: obszar wiejski | C50: =SUM(BUD_MIESZK_A!U54:U216) -> 4100 | D50: nie | E50: Wielorodzinny | F50: 130 | G50: 130 | H50: 1970 | I50: nie | J50: nie | K50: PCV | L50: Dobry | M50: inne: ogrzewanie gazowe | N50: gaz | P50: =IFERROR(Wyniki_ankiet[[#This Row],[Wielkość zużycia węgla w tonach (jeśli występuje)]]*1000/Wyniki_ankiet[[#This Row],[Powierzchnia ogrzewana w m2]],) -> 0 | Q50: 6000 | S50: =IFERROR(Wyniki_ankiet[[#This Row],[Wielkość zużycia drewna w kg (jeśli występuje)]]/Wyniki_ankiet[[#This Row],[Powierzchnia ogrzewana w m2]],) -> 0 | T50: 0 | V50: =IFERROR(Wyniki_ankiet[[#This Row],[Olej opałowy zużycie w litrach]]/Wyniki_ankiet[[#This Row],[Powierzchnia ogrzewana w m2]],) -> 0 | X50: nie | Y50: - | AA50: nie | AB50: =IF(AND(Wyniki_ankiet[[#This Row],[Wielkość zużycia węgla w tonach (jeśli występuje)]]>0,Wyniki_ankiet[[#This Row],[Wielkość zużycia drewna w kg (jeśli występuje)]]>0),1,) -> 0 | AC50: =IF(AND(Wyniki_ankiet[[#This Row],[Wielkość zużycia węgla w tonach (jeśli występuje)]]>0,Wyniki_ankiet[[#This Row],[Wielkość zużycia drewna w kg (jeśli występuje)]]=0),1,) -> 0 | AD50: =IF(AND(Wyniki_ankiet[[#This Row],[Wielkość zużycia drewna w kg (jeśli występuje)]]>0,Wyniki_ankiet[[#This Row],[Wielkość zużycia węgla w tonach (jeśli występuje)]]=0),1,) -> 0 | AE50: =IF(Wyniki_ankiet[[#This Row],[Wielkość zużycia gazu w m3 (jeśli występuje)]]>0,1,) -> 1
A51: 47 | B51: obszar wiejski | C51: =SUM(BUD_MIESZK_A!U55:U217) -> 2600 | D51: nie | E51: Wielorodzinny | F51: 150 | G51: 100 | H51: 1925 | I51: tak | J51: nie | K51: PCV, Drewniane | L51: Dobry | M51: ogrzewanie centralne: kocioł węglowy z podajnikiem | N51: węgiel | P51: =IFERROR(Wyniki_ankiet[[#This Row],[Wielkość zużycia węgla w tonach (jeśli występuje)]]*1000/Wyniki_ankiet[[#This Row],[Powierzchnia ogrzewana w m2]],) -> 0 | Q51: 0 | S51: =IFERROR(Wyniki_ankiet[[#This Row],[Wielkość zużycia drewna w kg (jeśli występuje)]]/Wyniki_ankiet[[#This Row],[Powierzchnia ogrzewana w m2]],) -> 0 | T51: 0 | V51: =IFERROR(Wyniki_ankiet[[#This Row],[Olej opałowy zużycie w litrach]]/Wyniki_ankiet[[#This Row],[Powierzchnia ogrzewana w m2]],) -> 0 | X51: nie | Y51: - | AA51: - | AB51: =IF(AND(Wyniki_ankiet[[#This Row],[Wielkość zużycia węgla w tonach (jeśli występuje)]]>0,Wyniki_ankiet[[#This Row],[Wielkość zużycia drewna w kg (jeśli występuje)]]>0),1,) -> 0 | AC51: =IF(AND(Wyniki_ankiet[[#This Row],[Wielkość zużycia węgla w tonach (jeśli występuje)]]>0,Wyniki_ankiet[[#This Row],[Wielkość zużycia drewna w kg (jeśli występuje)]]=0),1,) -> 0 | AD51: =IF(AND(Wyniki_ankiet[[#This Row],[Wielkość zużycia drewna w kg (jeśli występuje)]]>0,Wyniki_ankiet[[#This Row],[Wielkość zużycia węgla w tonach (jeśli występuje)]]=0),1,) -> 0 | AE51: =IF(Wyniki_ankiet[[#This Row],[Wielkość zużycia gazu w m3 (jeśli występuje)]]>0,1,) -> 0
A52: 48 | B52: obszar wiejski | C52: =SUM(BUD_MIESZK_A!U56:U218) -> 2600 | D52: nie | E52: Wielorodzinny | F52: 150 | G52: 100 | H52: 1925 | I52: tak | J52: nie | K52: PCV, Drewniane | L52: Dobry | M52: ogrzewanie centralne: kocioł węglowy z podajnikiem | N52: węgiel | P52: =IFERROR(Wyniki_ankiet[[#This Row],[Wielkość zużycia węgla w tonach (jeśli występuje)]]*1000/Wyniki_ankiet[[#This Row],[Powierzchnia ogrzewana w m2]],) -> 0 | Q52: 0 | S52: =IFERROR(Wyniki_ankiet[[#This Row],[Wielkość zużycia drewna w kg (jeśli występuje)]]/Wyniki_ankiet[[#This Row],[Powierzchnia ogrzewana w m2]],) -> 0 | T52: 0 | V52: =IFERROR(Wyniki_ankiet[[#This Row],[Olej opałowy zużycie w litrach]]/Wyniki_ankiet[[#This Row],[Powierzchnia ogrzewana w m2]],) -> 0 | X52: nie | Y52: - | AA52: tak | AB52: =IF(AND(Wyniki_ankiet[[#This Row],[Wielkość zużycia węgla w tonach (jeśli występuje)]]>0,Wyniki_ankiet[[#This Row],[Wielkość zużycia drewna w kg (jeśli występuje)]]>0),1,) -> 0 | AC52: =IF(AND(Wyniki_ankiet[[#This Row],[Wielkość zużycia węgla w tonach (jeśli występuje)]]>0,Wyniki_ankiet[[#This Row],[Wielkość zużycia drewna w kg (jeśli występuje)]]=0),1,) -> 0 | AD52: =IF(AND(Wyniki_ankiet[[#This Row],[Wielkość zużycia drewna w kg (jeśli występuje)]]>0,Wyniki_ankiet[[#This Row],[Wielkość zużycia węgla w tonach (jeśli występuje)]]=0),1,) -> 0 | AE52: =IF(Wyniki_ankiet[[#This Row],[Wielkość zużycia gazu w m3 (jeśli występuje)]]>0,1,) -> 0
A53: 49 | B53: obszar wiejski | C53: =SUM(BUD_MIESZK_A!U57:U219) -> 2600 | D53: nie | E53: Wielorodzinny | F53: 50 | G53: 7 | H53: 1970 | I53: nie | J53: nie | K53: Drewniane | L53: Dobry | M53: inne: ogrzewanie gazowe | N53: gaz | P53: =IFERROR(Wyniki_ankiet[[#This Row],[Wielkość zużycia węgla w tonach (jeśli występuje)]]*1000/Wyniki_ankiet[[#This Row],[Powierzchnia ogrzewana w m2]],) -> 0 | Q53: 7917 | S53: =IFERROR(Wyniki_ankiet[[#This Row],[Wielkość zużycia drewna w kg (jeśli występuje)]]/Wyniki_ankiet[[#This Row],[Powierzchnia ogrzewana w m2]],) -> 0 | T53: 0 | V53: =IFERROR(Wyniki_ankiet[[#This Row],[Olej opałowy zużycie w litrach]]/Wyniki_ankiet[[#This Row],[Powierzchnia ogrzewana w m2]],) -> 0 | X53: nie | Y53: - | AA53: tak | AB53: =IF(AND(Wyniki_ankiet[[#This Row],[Wielkość zużycia węgla w tonach (jeśli występuje)]]>0,Wyniki_ankiet[[#This Row],[Wielkość zużycia drewna w kg (jeśli występuje)]]>0),1,) -> 0 | AC53: =IF(AND(Wyniki_ankiet[[#This Row],[Wielkość zużycia węgla w tonach (jeśli występuje)]]>0,Wyniki_ankiet[[#This Row],[Wielkość zużycia drewna w kg (jeśli występuje)]]=0),1,) -> 0 | AD53: =IF(AND(Wyniki_ankiet[[#This Row],[Wielkość zużycia drewna w kg (jeśli występuje)]]>0,Wyniki_ankiet[[#This Row],[Wielkość zużycia węgla w tonach (jeśli występuje)]]=0),1,) -> 0 | AE53: =IF(Wyniki_ankiet[[#This Row],[Wielkość zużycia gazu w m3 (jeśli występuje)]]>0,1,) -> 1
A54: 50 | B54: obszar wiejski | C54: =SUM(BUD_MIESZK_A!U58:U220) -> 2600 | D54: nie | E54: Wolnostojący | F54: 160 | G54: 136 | H54: 2006 | I54: tak | J54: tak | K54: PCV | L54: Dobry | M54: inne: olej opałowy | N54: olej opałowy, drewno | P54: =IFERROR(Wyniki_ankiet[[#This Row],[Wielkość zużycia węgla w tonach (jeśli występuje)]]*1000/Wyniki_ankiet[[#This Row],[Powierzchnia ogrzewana w m2]],) -> 0 | Q54: 0 | S54: =IFERROR(Wyniki_ankiet[[#This Row],[Wielkość zużycia drewna w kg (jeśli występuje)]]/Wyniki_ankiet[[#This Row],[Powierzchnia ogrzewana w m2]],) -> 0 | T54: olej opałowy 0 1500 l | U54: 1500 | V54: =IFERROR(Wyniki_ankiet[[#This Row],[Olej opałowy zużycie w litrach]]/Wyniki_ankiet[[#This Row],[Powierzchnia ogrzewana w m2]],) -> 11.029412 | X54: nie | Y54: - | AA54: tak | AB54: =IF(AND(Wyniki_ankiet[[#This Row],[Wielkość zużycia węgla w tonach (jeśli występuje)]]>0,Wyniki_ankiet[[#This Row],[Wielkość zużycia drewna w kg (jeśli występuje)]]>0),1,) -> 0 | AC54: =IF(AND(Wyniki_ankiet[[#This Row],[Wielkość zużycia węgla w tonach (jeśli występuje)]]>0,Wyniki_ankiet[[#This Row],[Wielkość zużycia drewna w kg (jeśli występuje)]]=0),1,) -> 0 | AD54: =IF(AND(Wyniki_ankiet[[#This Row],[Wielkość zużycia drewna w kg (jeśli występuje)]]>0,Wyniki_ankiet[[#This Row],[Wielkość zużycia węgla w tonach (jeśli występuje)]]=0),1,) -> 0 | AE54: =IF(Wyniki_ankiet[[#This Row],[Wielkość zużycia gazu w m3 (jeśli występuje)]]>0,1,) -> 0 | AF54: 1
A55: 51 | B55: obszar wiejski | C55: =SUM(BUD_MIESZK_A!U59:U221) -> 2600 | D55: tak | E55: Wolnostojący | F55: 215 | G55: 165 | H55: 1993 | I55: tak | J55: tak | K55: PCV | L55: Dobry | M55: ogrzewanie centralne: kocioł węglowy rusztowy | N55: węgiel, drewno | O55: 4 | P55: =IFERROR(Wyniki_ankiet[[#This Row],[Wielkość zużycia węgla w tonach (jeśli występuje)]]*1000/Wyniki_ankiet[[#This Row],[Powierzchnia ogrzewana w m2]],) -> 24.242424 | Q55: 0 | R55: 2000 | S55: =IFERROR(Wyniki_ankiet[[#This Row],[Wielkość zużycia drewna w kg (jeśli występuje)]]/Wyniki_ankiet[[#This Row],[Powierzchnia ogrzewana w m2]],) -> 12.121212 | T55: 0 | V55: =IFERROR(Wyniki_ankiet[[#This Row],[Olej opałowy zużycie w litrach]]/Wyniki_ankiet[[#This Row],[Powierzchnia ogrzewana w m2]],) -> 0 | X55: nie | Y55: - | AA55: tak | AB55: =IF(AND(Wyniki_ankiet[[#This Row],[Wielkość zużycia węgla w tonach (jeśli występuje)]]>0,Wyniki_ankiet[[#This Row],[Wielkość zużycia drewna w kg (jeśli występuje)]]>0),1,) -> 1 | AC55: =IF(AND(Wyniki_ankiet[[#This Row],[Wielkość zużycia węgla w tonach (jeśli występuje)]]>0,Wyniki_ankiet[[#This Row],[Wielkość zużycia drewna w kg (jeśli występuje)]]=0),1,) -> 0 | AD55: =IF(AND(Wyniki_ankiet[[#This Row],[Wielkość zużycia drewna w kg (jeśli występuje)]]>0,Wyniki_ankiet[[#This Row],[Wielkość zużycia węgla w tonach (jeśli występuje)]]=0),1,) -> 0 | AE55: =IF(Wyniki_ankiet[[#This Row],[Wielkość zużycia gazu w m3 (jeśli występuje)]]>0,1,) -> 0
A56: 52 | B56: obszar wiejski | C56: =SUM(BUD_MIESZK_A!U60:U222) -> 2600 | D56: - | E56: Wolnostojący | F56: 280 | G56: 280 | H56: 2010 | I56: tak | J56: tak | K56: PCV | L56: Dobry | M56: ogrzewanie centralne | N56: węgiel | O56: 4 | P56: =IFERROR(Wyniki_ankiet[[#This Row],[Wielkość zużycia węgla w tonach (jeśli występuje)]]*1000/Wyniki_ankiet[[#This Row],[Powierzchnia ogrzewana w m2]],) -> 14.285714 | Q56: 0 | S56: =IFERROR(Wyniki_ankiet[[#This Row],[Wielkość zużycia drewna w kg (jeśli występuje)]]/Wyniki_ankiet[[#This Row],[Powierzchnia ogrzewana w m2]],) -> 0 | T56: 0 | V56: =IFERROR(Wyniki_ankiet[[#This Row],[Olej opałowy zużycie w litrach]]/Wyniki_ankiet[[#This Row],[Powierzchnia ogrzewana w m2]],) -> 0 | X56: nie | Y56: - | AA56: nie | AB56: =IF(AND(Wyniki_ankiet[[#This Row],[Wielkość zużycia węgla w tonach (jeśli występuje)]]>0,Wyniki_ankiet[[#This Row],[Wielkość zużycia drewna w kg (jeśli występuje)]]>0),1,) -> 0 | AC56: =IF(AND(Wyniki_ankiet[[#This Row],[Wielkość zużycia węgla w tonach (jeśli występuje)]]>0,Wyniki_ankiet[[#This Row],[Wielkość zużycia drewna w kg (jeśli występuje)]]=0),1,) -> 1 | AD56: =IF(AND(Wyniki_ankiet[[#This Row],[Wielkość zużycia drewna w kg (jeśli występuje)]]>0,Wyniki_ankiet[[#This Row],[Wielkość zużycia węgla w tonach (jeśli występuje)]]=0),1,) -> 0 | AE56: =IF(Wyniki_ankiet[[#This Row],[Wielkość zużycia gazu w m3 (jeśli występuje)]]>0,1,) -> 0
A57: 53 | B57: obszar wiejski | C57: =SUM(BUD_MIESZK_A!U61:U223) -> 2600 | D57: nie | E57: Wolnostojący | F57: 120 | G57: 120 | H57: 1980 | I57: tak | J57: tak | K57: PCV | L57: Dobry | M57: ogrzewanie centralne | N57: węgiel, drewno | O57: 4 | P57: =IFERROR(Wyniki_ankiet[[#This Row],[Wielkość zużycia węgla w tonach (jeśli występuje)]]*1000/Wyniki_ankiet[[#This Row],[Powierzchnia ogrzewana w m2]],) -> 33.333333 | Q57: 0 | R57: 300 | S57: =IFERROR(Wyniki_ankiet[[#This Row],[Wielkość zużycia drewna w kg (jeśli występuje)]]/Wyniki_ankiet[[#This Row],[Powierzchnia ogrzewana w m2]],) -> 2.5 | T57: 0 | V57: =IFERROR(Wyniki_ankiet[[#This Row],[Olej opałowy zużycie w litrach]]/Wyniki_ankiet[[#This Row],[Powierzchnia ogrzewana w m2]],) -> 0 | X57: nie | Y57: - | AA57: tak | AB57: =IF(AND(Wyniki_ankiet[[#This Row],[Wielkość zużycia węgla w tonach (jeśli występuje)]]>0,Wyniki_ankiet[[#This Row],[Wielkość zużycia drewna w kg (jeśli występuje)]]>0),1,) -> 1 | AC57: =IF(AND(Wyniki_ankiet[[#This Row],[Wielkość zużycia węgla w tonach (jeśli występuje)]]>0,Wyniki_ankiet[[#This Row],[Wielkość zużycia drewna w kg (jeśli występuje)]]=0),1,) -> 0 | AD57: =IF(AND(Wyniki_ankiet[[#This Row],[Wielkość zużycia drewna w kg (jeśli występuje)]]>0,Wyniki_ankiet[[#This Row],[Wielkość zużycia węgla w tonach (jeśli występuje)]]=0),1,) -> 0 | AE57: =IF(Wyniki_ankiet[[#This Row],[Wielkość zużycia gazu w m3 (jeśli występuje)]]>0,1,) -> 0
A58: 54 | B58: obszar wiejski | C58: =SUM(BUD_MIESZK_A!U62:U224) -> 2600 | D58: nie | E58: Wolnostojący | F58: 80 | G58: 80 | H58: - | I58: - | J58: - | K58: Drewniane | L58: Dobry | M58: ogrzewanie centralne | N58: węgiel, drewno | O58: 3 | P58: =IFERROR(Wyniki_ankiet[[#This Row],[Wielkość zużycia węgla w tonach (jeśli występuje)]]*1000/Wyniki_ankiet[[#This Row],[Powierzchnia ogrzewana w m2]],) -> 37.5 | Q58: 0 | R58: 3600 | S58: =IFERROR(Wyniki_ankiet[[#This Row],[Wielkość zużycia drewna w kg (jeśli występuje)]]/Wyniki_ankiet[[#This Row],[Powierzchnia ogrzewana w m2]],) -> 45 | T58: 0 | V58: =IFERROR(Wyniki_ankiet[[#This Row],[Olej opałowy zużycie w litrach]]/Wyniki_ankiet[[#This Row],[Powierzchnia ogrzewana w m2]],) -> 0 | X58: nie | Y58: - | AA58: tak | AB58: =IF(AND(Wyniki_ankiet[[#This Row],[Wielkość zużycia węgla w tonach (jeśli występuje)]]>0,Wyniki_ankiet[[#This Row],[Wielkość zużycia drewna w kg (jeśli występuje)]]>0),1,) -> 1 | AC58: =IF(AND(Wyniki_ankiet[[#This Row],[Wielkość zużycia węgla w tonach (jeśli występuje)]]>0,Wyniki_ankiet[[#This Row],[Wielkość zużycia drewna w kg (jeśli występuje)]]=0),1,) -> 0 | AD58: =IF(AND(Wyniki_ankiet[[#This Row],[Wielkość zużycia drewna w kg (jeśli występuje)]]>0,Wyniki_ankiet[[#This Row],[Wielkość zużycia węgla w tonach (jeśli występuje)]]=0),1,) -> 0 | AE58: =IF(Wyniki_ankiet[[#This Row],[Wielkość zużycia gazu w m3 (jeśli występuje)]]>0,1,) -> 0
A59: 55 | B59: obszar wiejski | C59: =SUM(BUD_MIESZK_A!U63:U225) -> 2600 | D59: tak | E59: Wolnostojący | F59: 42 | G59: 42 | H59: 1905 | I59: nie | J59: nie | K59: Drewniane | L59: Dostateczny | M59: ogrzewanie w pokojach: piec metalowy | N59: węgiel, drewno | O59: 1 | P59: =IFERROR(Wyniki_ankiet[[#This Row],[Wielkość zużycia węgla w tonach (jeśli występuje)]]*1000/Wyniki_ankiet[[#This Row],[Powierzchnia ogrzewana w m2]],) -> 23.809524 | Q59: 0 | R59: 1800 | S59: =IFERROR(Wyniki_ankiet[[#This Row],[Wielkość zużycia drewna w kg (jeśli występuje)]]/Wyniki_ankiet[[#This Row],[Powierzchnia ogrzewana w m2]],) -> 42.857143 | T59: 0 | V59: =IFERROR(Wyniki_ankiet[[#This Row],[Olej opałowy zużycie w litrach]]/Wyniki_ankiet[[#This Row],[Powierzchnia ogrzewana w m2]],) -> 0 | X59: nie | Y59: - | AA59: tak | AB59: =IF(AND(Wyniki_ankiet[[#This Row],[Wielkość zużycia węgla w tonach (jeśli występuje)]]>0,Wyniki_ankiet[[#This Row],[Wielkość zużycia drewna w kg (jeśli występuje)]]>0),1,) -> 1 | AC59: =IF(AND(Wyniki_ankiet[[#This Row],[Wielkość zużycia węgla w tonach (jeśli występuje)]]>0,Wyniki_ankiet[[#This Row],[Wielkość zużycia drewna w kg (jeśli występuje)]]=0),1,) -> 0 | AD59: =IF(AND(Wyniki_ankiet[[#This Row],[Wielkość zużycia drewna w kg (jeśli występuje)]]>0,Wyniki_ankiet[[#This Row],[Wielkość zużycia węgla w tonach (jeśli występuje)]]=0),1,) -> 0 | AE59: =IF(Wyniki_ankiet[[#This Row],[Wielkość zużycia gazu w m3 (jeśli występuje)]]>0,1,) -> 0
A60: 56 | B60: obszar wiejski | C60: =SUM(BUD_MIESZK_A!U64:U226) -> 2600 | D60: tak | E60: Wolnostojący | F60: 100 | G60: 100 | H60: 1917 | I60: nie | J60: nie | K60: PCV | L60: Dobry | M60: ogrzewanie centralne | N60: węgiel, drewno | O60: 3 | P60: =IFERROR(Wyniki_ankiet[[#This Row],[Wielkość zużycia węgla w tonach (jeśli występuje)]]*1000/Wyniki_ankiet[[#This Row],[Powierzchnia ogrzewana w m2]],) -> 30 | Q60: 0 | R60: 3600 | S60: =IFERROR(Wyniki_ankiet[[#This Row],[Wielkość zużycia drewna w kg (jeśli występuje)]]/Wyniki_ankiet[[#This Row],[Powierzchnia ogrzewana w m2]],) -> 36 | T60: 0 | V60: =IFERROR(Wyniki_ankiet[[#This Row],[Olej opałowy zużycie w litrach]]/Wyniki_ankiet[[#This Row],[Powierzchnia ogrzewana w m2]],) -> 0 | X60: nie | Y60: - | AA60: tak | AB60: =IF(AND(Wyniki_ankiet[[#This Row],[Wielkość zużycia węgla w tonach (jeśli występuje)]]>0,Wyniki_ankiet[[#This Row],[Wielkość zużycia drewna w kg (jeśli występuje)]]>0),1,) -> 1 | AC60: =IF(AND(Wyniki_ankiet[[#This Row],[Wielkość zużycia węgla w tonach (jeśli występuje)]]>0,Wyniki_ankiet[[#This Row],[Wielkość zużycia drewna w kg (jeśli występuje)]]=0),1,) -> 0 | AD60: =IF(AND(Wyniki_ankiet[[#This Row],[Wielkość zużycia drewna w kg (jeśli występuje)]]>0,Wyniki_ankiet[[#This Row],[Wielkość zużycia węgla w tonach (jeśli występuje)]]=0),1,) -> 0 | AE60: =IF(Wyniki_ankiet[[#This Row],[Wielkość zużycia gazu w m3 (jeśli występuje)]]>0,1,) -> 0
A61: 57 | B61: obszar wiejski | C61: =SUM(BUD_MIESZK_A!U65:U227) -> 2600 | D61: tak | E61: Wolnostojący | F61: 530 | G61: 530 | H61: 1914 | I61: nie | J61: tak | K61: PCV | L61: Dobry | M61: ogrzewanie centralne | N61: węgiel | O61: 10 | P61: =IFERROR(Wyniki_ankiet[[#This Row],[Wielkość zużycia węgla w tonach (jeśli występuje)]]*1000/Wyniki_ankiet[[#This Row],[Powierzchnia ogrzewana w m2]],) -> 18.867925 | Q61: 0 | S61: =IFERROR(Wyniki_ankiet[[#This Row],[Wielkość zużycia drewna w kg (jeśli występuje)]]/Wyniki_ankiet[[#This Row],[Powierzchnia ogrzewana w m2]],) -> 0 | T61: 0 | V61: =IFERROR(Wyniki_ankiet[[#This Row],[Olej opałowy zużycie w litrach]]/Wyniki_ankiet[[#This Row],[Powierzchnia ogrzewana w m2]],) -> 0 | X61: nie | Y61: - | AA61: tak | AB61: =IF(AND(Wyniki_ankiet[[#This Row],[Wielkość zużycia węgla w tonach (jeśli występuje)]]>0,Wyniki_ankiet[[#This Row],[Wielkość zużycia drewna w kg (jeśli występuje)]]>0),1,) -> 0 | AC61: =IF(AND(Wyniki_ankiet[[#This Row],[Wielkość zużycia węgla w tonach (jeśli występuje)]]>0,Wyniki_ankiet[[#This Row],[Wielkość zużycia drewna w kg (jeśli występuje)]]=0),1,) -> 1 | AD61: =IF(AND(Wyniki_ankiet[[#This Row],[Wielkość zużycia drewna w kg (jeśli występuje)]]>0,Wyniki_ankiet[[#This Row],[Wielkość zużycia węgla w tonach (jeśli występuje)]]=0),1,) -> 0 | AE61: =IF(Wyniki_ankiet[[#This Row],[Wielkość zużycia gazu w m3 (jeśli występuje)]]>0,1,) -> 0
A62: 58 | B62: obszar wiejski | C62: =SUM(BUD_MIESZK_A!U66:U228) -> 2600 | D62: nie | E62: Wolnostojący | F62: 180 | G62: 180 | H62: 1900 | I62: tak | J62: tak | K62: Drewniane | L62: Dobry | M62: ogrzewanie centralne: kocioł węglowy rusztowy | N62: węgiel, drewno | P62: =IFERROR(Wyniki_ankiet[[#This Row],[Wielkość zużycia węgla w tonach (jeśli występuje)]]*1000/Wyniki_ankiet[[#This Row],[Powierzchnia ogrzewana w m2]],) -> 0 | Q62: 0 | S62: =IFERROR(Wyniki_ankiet[[#This Row],[Wielkość zużycia drewna w kg (jeśli występuje)]]/Wyniki_ankiet[[#This Row],[Powierzchnia ogrzewana w m2]],) -> 0 | T62: 0 | V62: =IFERROR(Wyniki_ankiet[[#This Row],[Olej opałowy zużycie w litrach]]/Wyniki_ankiet[[#This Row],[Powierzchnia ogrzewana w m2]],) -> 0 | X62: nie | Y62: - | AA62: tak | AB62: =IF(AND(Wyniki_ankiet[[#This Row],[Wielkość zużycia węgla w tonach (jeśli występuje)]]>0,Wyniki_ankiet[[#This Row],[Wielkość zużycia drewna w kg (jeśli występuje)]]>0),1,) -> 0 | AC62: =IF(AND(Wyniki_ankiet[[#This Row],[Wielkość zużycia węgla w tonach (jeśli występuje)]]>0,Wyniki_ankiet[[#This Row],[Wielkość zużycia drewna w kg (jeśli występuje)]]=0),1,) -> 0 | AD62: =IF(AND(Wyniki_ankiet[[#This Row],[Wielkość zużycia drewna w kg (jeśli występuje)]]>0,Wyniki_ankiet[[#This Row],[Wielkość zużycia węgla w tonach (jeśli występuje)]]=0),1,) -> 0 | AE62: =IF(Wyniki_ankiet[[#This Row],[Wielkość zużycia gazu w m3 (jeśli występuje)]]>0,1,) -> 0
A63: 59 | B63: obszar wiejski | C63: =SUM(BUD_MIESZK_A!U67:U229) -> 2600 | D63: nie | E63: Wolnostojący | F63: 90 | G63: 70 | H63: - | I63: nie | J63: nie | K63: Drewniane | L63: Dostateczny | M63: ogrzewanie centralne | N63: węgiel, gaz, drewno, energia elektryczna | O63: 3 | P63: =IFERROR(Wyniki_ankiet[[#This Row],[Wielkość zużycia węgla w tonach (jeśli występuje)]]*1000/Wyniki_ankiet[[#This Row],[Powierzchnia ogrzewana w m2]],) -> 42.857143 | Q63: 1 | R63: 3600 | S63: =IFERROR(Wyniki_ankiet[[#This Row],[Wielkość zużycia drewna w kg (jeśli występuje)]]/Wyniki_ankiet[[#This Row],[Powierzchnia ogrzewana w m2]],) -> 51.428571 | T63: 0 | V63: =IFERROR(Wyniki_ankiet[[#This Row],[Olej opałowy zużycie w litrach]]/Wyniki_ankiet[[#This Row],[Powierzchnia ogrzewana w m2]],) -> 0 | W63: 700 | X63: nie | Y63: - | AA63: tak | AB63: =IF(AND(Wyniki_ankiet[[#This Row],[Wielkość zużycia węgla w tonach (jeśli występuje)]]>0,Wyniki_ankiet[[#This Row],[Wielkość zużycia drewna w kg (jeśli występuje)]]>0),1,) -> 1 | AC63: =IF(AND(Wyniki_ankiet[[#This Row],[Wielkość zużycia węgla w tonach (jeśli występuje)]]>0,Wyniki_ankiet[[#This Row],[Wielkość zużycia drewna w kg (jeśli występuje)]]=0),1,) -> 0 | AD63: =IF(AND(Wyniki_ankiet[[#This Row],[Wielkość zużycia drewna w kg (jeśli występuje)]]>0,Wyniki_ankiet[[#This Row],[Wielkość zużycia węgla w tonach (jeśli występuje)]]=0),1,) -> 0 | AE63: =IF(Wyniki_ankiet[[#This Row],[Wielkość zużycia gazu w m3 (jeśli występuje)]]>0,1,) -> 1
A64: 60 | B64: obszar wiejski | C64: =SUM(BUD_MIESZK_A!U68:U230) -> 2600 | D64: nie | E64: Wolnostojący | F64: 110 | G64: 110 | H64: 1900 | I64: tak | J64: tak | K64: PCV, Drewniane | L64: Dobry | M64: inne: ogrzewanie gazowe | N64: gaz | P64: =IFERROR(Wyniki_ankiet[[#This Row],[Wielkość zużycia węgla w tonach (jeśli występuje)]]*1000/Wyniki_ankiet[[#This Row],[Powierzchnia ogrzewana w m2]],) -> 0 | Q64: 1200 | S64: =IFERROR(Wyniki_ankiet[[#This Row],[Wielkość zużycia drewna w kg (jeśli występuje)]]/Wyniki_ankiet[[#This Row],[Powierzchnia ogrzewana w m2]],) -> 0 | T64: 0 | V64: =IFERROR(Wyniki_ankiet[[#This Row],[Olej opałowy zużycie w litrach]]/Wyniki_ankiet[[#This Row],[Powierzchnia ogrzewana w m2]],) -> 0 | X64: nie | Y64: - | AA64: nie | AB64: =IF(AND(Wyniki_ankiet[[#This Row],[Wielkość zużycia węgla w tonach (jeśli występuje)]]>0,Wyniki_ankiet[[#This Row],[Wielkość zużycia drewna w kg (jeśli występuje)]]>0),1,) -> 0 | AC64: =IF(AND(Wyniki_ankiet[[#This Row],[Wielkość zużycia węgla w tonach (jeśli występuje)]]>0,Wyniki_ankiet[[#This Row],[Wielkość zużycia drewna w kg (jeśli występuje)]]=0),1,) -> 0 | AD64: =IF(AND(Wyniki_ankiet[[#This Row],[Wielkość zużycia drewna w kg (jeśli występuje)]]>0,Wyniki_ankiet[[#This Row],[Wielkość zużycia węgla w tonach (jeśli występuje)]]=0),1,) -> 0 | AE64: =IF(Wyniki_ankiet[[#This Row],[Wielkość zużycia gazu w m3 (jeśli występuje)]]>0,1,) -> 1
A65: 61 | B65: obszar wiejski | C65: =SUM(BUD_MIESZK_A!U69:U231) -> 2600 | D65: nie | E65: Wolnostojący | F65: 120 | G65: 120 | H65: 1996 | I65: tak | J65: tak | K65: PCV | L65: Dobry | M65: ogrzewanie centralne: kocioł węglowy rusztowy | N65: węgiel | O65: 3 | P65: =IFERROR(Wyniki_ankiet[[#This Row],[Wielkość zużycia węgla w tonach (jeśli występuje)]]*1000/Wyniki_ankiet[[#This Row],[Powierzchnia ogrzewana w m2]],) -> 25 | Q65: 0 | S65: =IFERROR(Wyniki_ankiet[[#This Row],[Wielkość zużycia drewna w kg (jeśli występuje)]]/Wyniki_ankiet[[#This Row],[Powierzchnia ogrzewana w m2]],) -> 0 | T65: 0 | V65: =IFERROR(Wyniki_ankiet[[#This Row],[Olej opałowy zużycie w litrach]]/Wyniki_ankiet[[#This Row],[Powierzchnia ogrzewana w m2]],) -> 0 | X65: nie | Y65: - | AA65: tak | AB65: =IF(AND(Wyniki_ankiet[[#This Row],[Wielkość zużycia węgla w tonach (jeśli występuje)]]>0,Wyniki_ankiet[[#This Row],[Wielkość zużycia drewna w kg (jeśli występuje)]]>0),1,) -> 0 | AC65: =IF(AND(Wyniki_ankiet[[#This Row],[Wielkość zużycia węgla w tonach (jeśli występuje)]]>0,Wyniki_ankiet[[#This Row],[Wielkość zużycia drewna w kg (jeśli występuje)]]=0),1,) -> 1 | AD65: =IF(AND(Wyniki_ankiet[[#This Row],[Wielkość zużycia drewna w kg (jeśli występuje)]]>0,Wyniki_ankiet[[#This Row],[Wielkość zużycia węgla w tonach (jeśli występuje)]]=0),1,) -> 0 | AE65: =IF(Wyniki_ankiet[[#This Row],[Wielkość zużycia gazu w m3 (jeśli występuje)]]>0,1,) -> 0
A66: 62 | B66: obszar wiejski | C66: =SUM(BUD_MIESZK_A!U70:U232) -> 2600 | D66: nie | E66: Wolnostojący | F66: 250 | G66: 250 | H66: 1996 | I66: tak | J66: tak | K66: PCV | L66: Dobry | M66: inne: ogrzewanie gazowe | N66: gaz | P66: =IFERROR(Wyniki_ankiet[[#This Row],[Wielkość zużycia węgla w tonach (jeśli występuje)]]*1000/Wyniki_ankiet[[#This Row],[Powierzchnia ogrzewana w m2]],) -> 0 | Q66: 3300 | S66: =IFERROR(Wyniki_ankiet[[#This Row],[Wielkość zużycia drewna w kg (jeśli występuje)]]/Wyniki_ankiet[[#This Row],[Powierzchnia ogrzewana w m2]],) -> 0 | T66: 0 | V66: =IFERROR(Wyniki_ankiet[[#This Row],[Olej opałowy zużycie w litrach]]/Wyniki_ankiet[[#This Row],[Powierzchnia ogrzewana w m2]],) -> 0 | X66: nie | Y66: - | AA66: tak | AB66: =IF(AND(Wyniki_ankiet[[#This Row],[Wielkość zużycia węgla w tonach (jeśli występuje)]]>0,Wyniki_ankiet[[#This Row],[Wielkość zużycia drewna w kg (jeśli występuje)]]>0),1,) -> 0 | AC66: =IF(AND(Wyniki_ankiet[[#This Row],[Wielkość zużycia węgla w tonach (jeśli występuje)]]>0,Wyniki_ankiet[[#This Row],[Wielkość zużycia drewna w kg (jeśli występuje)]]=0),1,) -> 0 | AD66: =IF(AND(Wyniki_ankiet[[#This Row],[Wielkość zużycia drewna w kg (jeśli występuje)]]>0,Wyniki_ankiet[[#This Row],[Wielkość zużycia węgla w tonach (jeśli występuje)]]=0),1,) -> 0 | AE66: =IF(Wyniki_ankiet[[#This Row],[Wielkość zużycia gazu w m3 (jeśli występuje)]]>0,1,) -> 1
A67: 63 | B67: obszar wiejski | C67: =SUM(BUD_MIESZK_A!U71:U233) -> 2600 | D67: tak | E67: Wolnostojący | F67: 105 | G67: 105 | H67: 1930 | I67: tak | J67: nie | K67: PCV | L67: Dobry | M67: ogrzewanie centralne | N67: węgiel | O67: 6 | P67: =IFERROR(Wyniki_ankiet[[#This Row],[Wielkość zużycia węgla w tonach (jeśli występuje)]]*1000/Wyniki_ankiet[[#This Row],[Powierzchnia ogrzewana w m2]],) -> 57.142857 | Q67: 0 | S67: =IFERROR(Wyniki_ankiet[[#This Row],[Wielkość zużycia drewna w kg (jeśli występuje)]]/Wyniki_ankiet[[#This Row],[Powierzchnia ogrzewana w m2]],) -> 0 | T67: 0 | V67: =IFERROR(Wyniki_ankiet[[#This Row],[Olej opałowy zużycie w litrach]]/Wyniki_ankiet[[#This Row],[Powierzchnia ogrzewana w m2]],) -> 0 | X67: tak | Y67: Kolektory słoneczne | AA67: tak | AB67: =IF(AND(Wyniki_ankiet[[#This Row],[Wielkość zużycia węgla w tonach (jeśli występuje)]]>0,Wyniki_ankiet[[#This Row],[Wielkość zużycia drewna w kg (jeśli występuje)]]>0),1,) -> 0 | AC67: =IF(AND(Wyniki_ankiet[[#This Row],[Wielkość zużycia węgla w tonach (jeśli występuje)]]>0,Wyniki_ankiet[[#This Row],[Wielkość zużycia drewna w kg (jeśli występuje)]]=0),1,) -> 1 | AD67: =IF(AND(Wyniki_ankiet[[#This Row],[Wielkość zużycia drewna w kg (jeśli występuje)]]>0,Wyniki_ankiet[[#This Row],[Wielkość zużycia węgla w tonach (jeśli występuje)]]=0),1,) -> 0 | AE67: =IF(Wyniki_ankiet[[#This Row],[Wielkość zużycia gazu w m3 (jeśli występuje)]]>0,1,) -> 0
A68: 64 | B68: obszar wiejski | C68: =SUM(BUD_MIESZK_A!U72:U234) -> 2600 | D68: tak | E68: Wolnostojący | F68: 125 | G68: 125 | H68: 1916 | I68: tak | J68: nie | K68: PCV | L68: Dostateczny | M68: ogrzewanie centralne: kocioł węglowy rusztowy | N68: inne | O68: 4 | P68: =IFERROR(Wyniki_ankiet[[#This Row],[Wielkość zużycia węgla w tonach (jeśli występuje)]]*1000/Wyniki_ankiet[[#This Row],[Powierzchnia ogrzewana w m2]],) -> 32 | Q68: 0 | S68: =IFERROR(Wyniki_ankiet[[#This Row],[Wielkość zużycia drewna w kg (jeśli występuje)]]/Wyniki_ankiet[[#This Row],[Powierzchnia ogrzewana w m2]],) -> 0 | T68: miał 0 4t | V68: =IFERROR(Wyniki_ankiet[[#This Row],[Olej opałowy zużycie w litrach]]/Wyniki_ankiet[[#This Row],[Powierzchnia ogrzewana w m2]],) -> 0 | X68: nie | Y68: - | AA68: nie | AB68: =IF(AND(Wyniki_ankiet[[#This Row],[Wielkość zużycia węgla w tonach (jeśli występuje)]]>0,Wyniki_ankiet[[#This Row],[Wielkość zużycia drewna w kg (jeśli występuje)]]>0),1,) -> 0 | AC68: =IF(AND(Wyniki_ankiet[[#This Row],[Wielkość zużycia węgla w tonach (jeśli występuje)]]>0,Wyniki_ankiet[[#This Row],[Wielkość zużycia drewna w kg (jeśli występuje)]]=0),1,) -> 1 | AD68: =IF(AND(Wyniki_ankiet[[#This Row],[Wielkość zużycia drewna w kg (jeśli występuje)]]>0,Wyniki_ankiet[[#This Row],[Wielkość zużycia węgla w tonach (jeśli występuje)]]=0),1,) -> 0 | AE68: =IF(Wyniki_ankiet[[#This Row],[Wielkość zużycia gazu w m3 (jeśli występuje)]]>0,1,) -> 0
A69: 65 | B69: obszar wiejski | C69: =SUM(BUD_MIESZK_A!U73:U235) -> 2600 | D69: - | E69: Wolnostojący | F69: 75 | G69: 75 | H69: 1968 | I69: nie | J69: nie | K69: PCV, Drewniane | L69: Dobry | M69: ogrzewanie centralne | N69: węgiel, drewno | O69: 4 | P69: =IFERROR(Wyniki_ankiet[[#This Row],[Wielkość zużycia węgla w tonach (jeśli występuje)]]*1000/Wyniki_ankiet[[#This Row],[Powierzchnia ogrzewana w m2]],) -> 53.333333 | Q69: 0 | R69: 1200 | S69: =IFERROR(Wyniki_ankiet[[#This Row],[Wielkość zużycia drewna w kg (jeśli występuje)]]/Wyniki_ankiet[[#This Row],[Powierzchnia ogrzewana w m2]],) -> 16 | T69: 0 | V69: =IFERROR(Wyniki_ankiet[[#This Row],[Olej opałowy zużycie w litrach]]/Wyniki_ankiet[[#This Row],[Powierzchnia ogrzewana w m2]],) -> 0 | X69: nie | Y69: - | AA69: tak | AB69: =IF(AND(Wyniki_ankiet[[#This Row],[Wielkość zużycia węgla w tonach (jeśli występuje)]]>0,Wyniki_ankiet[[#This Row],[Wielkość zużycia drewna w kg (jeśli występuje)]]>0),1,) -> 1 | AC69: =IF(AND(Wyniki_ankiet[[#This Row],[Wielkość zużycia węgla w tonach (jeśli występuje)]]>0,Wyniki_ankiet[[#This Row],[Wielkość zużycia drewna w kg (jeśli występuje)]]=0),1,) -> 0 | AD69: =IF(AND(Wyniki_ankiet[[#This Row],[Wielkość zużycia drewna w kg (jeśli występuje)]]>0,Wyniki_ankiet[[#This Row],[Wielkość zużycia węgla w tonach (jeśli występuje)]]=0),1,) -> 0 | AE69: =IF(Wyniki_ankiet[[#This Row],[Wielkość zużycia gazu w m3 (jeśli występuje)]]>0,1,) -> 0
A70: 66 | B70: obszar wiejski | C70: =SUM(BUD_MIESZK_A!U74:U236) -> 2600 | D70: nie | E70: Wolnostojący | F70: 96 | G70: 96 | H70: - | I70: tak | J70: nie | K70: Drewniane | L70: Dobry | M70: ciepło sieciowe | N70: - | P70: =IFERROR(Wyniki_ankiet[[#This Row],[Wielkość zużycia węgla w tonach (jeśli występuje)]]*1000/Wyniki_ankiet[[#This Row],[Powierzchnia ogrzewana w m2]],) -> 0 | Q70: 0 | S70: =IFERROR(Wyniki_ankiet[[#This Row],[Wielkość zużycia drewna w kg (jeśli występuje)]]/Wyniki_ankiet[[#This Row],[Powierzchnia ogrzewana w m2]],) -> 0 | T70: 0 | V70: =IFERROR(Wyniki_ankiet[[#This Row],[Olej opałowy zużycie w litrach]]/Wyniki_ankiet[[#This Row],[Powierzchnia ogrzewana w m2]],) -> 0 | X70: nie | Y70: - | AA70: nie | AB70: =IF(AND(Wyniki_ankiet[[#This Row],[Wielkość zużycia węgla w tonach (jeśli występuje)]]>0,Wyniki_ankiet[[#This Row],[Wielkość zużycia drewna w kg (jeśli występuje)]]>0),1,) -> 0 | AC70: =IF(AND(Wyniki_ankiet[[#This Row],[Wielkość zużycia węgla w tonach (jeśli występuje)]]>0,Wyniki_ankiet[[#This Row],[Wielkość zużycia drewna w kg (jeśli występuje)]]=0),1,) -> 0 | AD70: =IF(AND(Wyniki_ankiet[[#This Row],[Wielkość zużycia drewna w kg (jeśli występuje)]]>0,Wyniki_ankiet[[#This Row],[Wielkość zużycia węgla w tonach (jeśli występuje)]]=0),1,) -> 0 | AE70: =IF(Wyniki_ankiet[[#This Row],[Wielkość zużycia gazu w m3 (jeśli występuje)]]>0,1,) -> 0
A71: 67 | B71: obszar wiejski | C71: =SUM(BUD_MIESZK_A!U75:U237) -> 2600 | D71: nie | E71: Wolnostojący | F71: - | G71: - | H71: - | I71: nie | J71: nie | K71: PCV | L71: Dobry | M71: ogrzewanie centralne | N71: węgiel, drewno | O71: 3 | P71: =IFERROR(Wyniki_ankiet[[#This Row],[Wielkość zużycia węgla w tonach (jeśli występuje)]]*1000/Wyniki_ankiet[[#This Row],[Powierzchnia ogrzewana w m2]],) -> 0 | Q71: 0 | R71: 500 | S71: =IFERROR(Wyniki_ankiet[[#This Row],[Wielkość zużycia drewna w kg (jeśli występuje)]]/Wyniki_ankiet[[#This Row],[Powierzchnia ogrzewana w m2]],) -> 0 | T71: 0 | V71: =IFERROR(Wyniki_ankiet[[#This Row],[Olej opałowy zużycie w litrach]]/Wyniki_ankiet[[#This Row],[Powierzchnia ogrzewana w m2]],) -> 0 | X71: nie | Y71: - | AA71: nie | AB71: =IF(AND(Wyniki_ankiet[[#This Row],[Wielkość zużycia węgla w tonach (jeśli występuje)]]>0,Wyniki_ankiet[[#This Row],[Wielkość zużycia drewna w kg (jeśli występuje)]]>0),1,) -> 1 | AC71: =IF(AND(Wyniki_ankiet[[#This Row],[Wielkość zużycia węgla w tonach (jeśli występuje)]]>0,Wyniki_ankiet[[#This Row],[Wielkość zużycia drewna w kg (jeśli występuje)]]=0),1,) -> 0 | AD71: =IF(AND(Wyniki_ankiet[[#This Row],[Wielkość zużycia drewna w kg (jeśli występuje)]]>0,Wyniki_ankiet[[#This Row],[Wielkość zużycia węgla w tonach (jeśli występuje)]]=0),1,) -> 0 | AE71: =IF(Wyniki_ankiet[[#This Row],[Wielkość zużycia gazu w m3 (jeśli występuje)]]>0,1,) -> 0
A72: 68 | B72: obszar wiejski | C72: =SUM(BUD_MIESZK_A!U76:U238) -> 2600 | D72: nie | E72: Wolnostojący | F72: 180 | G72: 180 | H72: 1914 | I72: tak | J72: nie | K72: PCV | L72: Dobry | M72: ogrzewanie centralne | N72: węgiel, drewno, inne | O72: 4 | P72: =IFERROR(Wyniki_ankiet[[#This Row],[Wielkość zużycia węgla w tonach (jeśli występuje)]]*1000/Wyniki_ankiet[[#This Row],[Powierzchnia ogrzewana w m2]],) -> 22.222222 | Q72: 0 | R72: 600 | S72: =IFERROR(Wyniki_ankiet[[#This Row],[Wielkość zużycia drewna w kg (jeśli występuje)]]/Wyniki_ankiet[[#This Row],[Powierzchnia ogrzewana w m2]],) -> 3.3333333 | T72: miał | V72: =IFERROR(Wyniki_ankiet[[#This Row],[Olej opałowy zużycie w litrach]]/Wyniki_ankiet[[#This Row],[Powierzchnia ogrzewana w m2]],) -> 0 | X72: nie | Y72: - | AA72: tak | AB72: =IF(AND(Wyniki_ankiet[[#This Row],[Wielkość zużycia węgla w tonach (jeśli występuje)]]>0,Wyniki_ankiet[[#This Row],[Wielkość zużycia drewna w kg (jeśli występuje)]]>0),1,) -> 1 | AC72: =IF(AND(Wyniki_ankiet[[#This Row],[Wielkość zużycia węgla w tonach (jeśli występuje)]]>0,Wyniki_ankiet[[#This Row],[Wielkość zużycia drewna w kg (jeśli występuje)]]=0),1,) -> 0 | AD72: =IF(AND(Wyniki_ankiet[[#This Row],[Wielkość zużycia drewna w kg (jeśli występuje)]]>0,Wyniki_ankiet[[#This Row],[Wielkość zużycia węgla w tonach (jeśli występuje)]]=0),1,) -> 0 | AE72: =IF(Wyniki_ankiet[[#This Row],[Wielkość zużycia gazu w m3 (jeśli występuje)]]>0,1,) -> 0
A73: 69 | B73: obszar wiejski | C73: =SUM(BUD_MIESZK_A!U77:U239) -> 2600 | D73: nie | E73: Wolnostojący | F73: 68 | G73: 68 | H73: 1987 | I73: tak | J73: nie | K73: PCV | L73: Dobry | M73: ogrzewanie centralne | N73: węgiel | O73: 3 | P73: =IFERROR(Wyniki_ankiet[[#This Row],[Wielkość zużycia węgla w tonach (jeśli występuje)]]*1000/Wyniki_ankiet[[#This Row],[Powierzchnia ogrzewana w m2]],) -> 44.117647 | Q73: 0 | S73: =IFERROR(Wyniki_ankiet[[#This Row],[Wielkość zużycia drewna w kg (jeśli występuje)]]/Wyniki_ankiet[[#This Row],[Powierzchnia ogrzewana w m2]],) -> 0 | T73: 0 | V73: =IFERROR(Wyniki_ankiet[[#This Row],[Olej opałowy zużycie w litrach]]/Wyniki_ankiet[[#This Row],[Powierzchnia ogrzewana w m2]],) -> 0 | X73: tak | Y73: Kolektory słoneczne | AA73: tak | AB73: =IF(AND(Wyniki_ankiet[[#This Row],[Wielkość zużycia węgla w tonach (jeśli występuje)]]>0,Wyniki_ankiet[[#This Row],[Wielkość zużycia drewna w kg (jeśli występuje)]]>0),1,) -> 0 | AC73: =IF(AND(Wyniki_ankiet[[#This Row],[Wielkość zużycia węgla w tonach (jeśli występuje)]]>0,Wyniki_ankiet[[#This Row],[Wielkość zużycia drewna w kg (jeśli występuje)]]=0),1,) -> 1 | AD73: =IF(AND(Wyniki_ankiet[[#This Row],[Wielkość zużycia drewna w kg (jeśli występuje)]]>0,Wyniki_ankiet[[#This Row],[Wielkość zużycia węgla w tonach (jeśli występuje)]]=0),1,) -> 0 | AE73: =IF(Wyniki_ankiet[[#This Row],[Wielkość zużycia gazu w m3 (jeśli występuje)]]>0,1,) -> 0
A74: 70 | B74: obszar wiejski | C74: =SUM(BUD_MIESZK_A!U78:U240) -> 2600 | D74: nie | E74: Wielorodzinny | F74: 55 | G74: 55 | H74: 1974 | I74: nie | J74: nie | K74: PCV, Drewniane | L74: Dostateczny | M74: inne: ogrzewanie gazowe | N74: węgiel, gaz | O74: 3 | P74: =IFERROR(Wyniki_ankiet[[#This Row],[Wielkość zużycia węgla w tonach (jeśli występuje)]]*1000/Wyniki_ankiet[[#This Row],[Powierzchnia ogrzewana w m2]],) -> 54.545455 | Q74: 0 | S74: =IFERROR(Wyniki_ankiet[[#This Row],[Wielkość zużycia drewna w kg (jeśli występuje)]]/Wyniki_ankiet[[#This Row],[Powierzchnia ogrzewana w m2]],) -> 0 | T74: 0 | V74: =IFERROR(Wyniki_ankiet[[#This Row],[Olej opałowy zużycie w litrach]]/Wyniki_ankiet[[#This Row],[Powierzchnia ogrzewana w m2]],) -> 0 | X74: nie | Y74: - | AA74: tak | AB74: =IF(AND(Wyniki_ankiet[[#This Row],[Wielkość zużycia węgla w tonach (jeśli występuje)]]>0,Wyniki_ankiet[[#This Row],[Wielkość zużycia drewna w kg (jeśli występuje)]]>0),1,) -> 0 | AC74: =IF(AND(Wyniki_ankiet[[#This Row],[Wielkość zużycia węgla w tonach (jeśli występuje)]]>0,Wyniki_ankiet[[#This Row],[Wielkość zużycia drewna w kg (jeśli występuje)]]=0),1,) -> 1 | AD74: =IF(AND(Wyniki_ankiet[[#This Row],[Wielkość zużycia drewna w kg (jeśli występuje)]]>0,Wyniki_ankiet[[#This Row],[Wielkość zużycia węgla w tonach (jeśli występuje)]]=0),1,) -> 0 | AE74: =IF(Wyniki_ankiet[[#This Row],[Wielkość zużycia gazu w m3 (jeśli występuje)]]>0,1,) -> 0
A75: 71sk2 | B75: obszar wiejski | C75: =SUM(BUD_MIESZK_A!U79:U241) -> 2600 | D75: nie | E75: Wolnostojący | F75: 150 | G75: 150 | H75: 1900 | I75: nie | J75: nie | K75: PCV | L75: Dobry | M75: ogrzewanie centralne: kocioł węglowy rusztowy | N75: węgiel, drewno | O75: 5 | P75: =IFERROR(Wyniki_ankiet[[#This Row],[Wielkość zużycia węgla w tonach (jeśli występuje)]]*1000/Wyniki_ankiet[[#This Row],[Powierzchnia ogrzewana w m2]],) -> 33.333333 | Q75: 0 | R75: 1000 | S75: =IFERROR(Wyniki_ankiet[[#This Row],[Wielkość zużycia drewna w kg (jeśli występuje)]]/Wyniki_ankiet[[#This Row],[Powierzchnia ogrzewana w m2]],) -> 6.6666667 | T75: 0 | V75: =IFERROR(Wyniki_ankiet[[#This Row],[Olej opałowy zużycie w litrach]]/Wyniki_ankiet[[#This Row],[Powierzchnia ogrzewana w m2]],) -> 0 | X75: nie | Y75: - | AA75: tak | AB75: =IF(AND(Wyniki_ankiet[[#This Row],[Wielkość zużycia węgla w tonach (jeśli występuje)]]>0,Wyniki_ankiet[[#This Row],[Wielkość zużycia drewna w kg (jeśli występuje)]]>0),1,) -> 1 | AC75: =IF(AND(Wyniki_ankiet[[#This Row],[Wielkość zużycia węgla w tonach (jeśli występuje)]]>0,Wyniki_ankiet[[#This Row],[Wielkość zużycia drewna w kg (jeśli występuje)]]=0),1,) -> 0 | AD75: =IF(AND(Wyniki_ankiet[[#This Row],[Wielkość zużycia drewna w kg (jeśli występuje)]]>0,Wyniki_ankiet[[#This Row],[Wielkość zużycia węgla w tonach (jeśli występuje)]]=0),1,) -> 0 | AE75: =IF(Wyniki_ankiet[[#This Row],[Wielkość zużycia gazu w m3 (jeśli występuje)]]>0,1,) -> 0
A76: 72 | B76: obszar wiejski | C76: =SUM(BUD_MIESZK_A!U80:U242) -> 2600 | D76: tak | E76: Wolnostojący | F76: 180 | G76: 160 | H76: 1911 | I76: tak | J76: tak | K76: PCV, Drewniane | L76: Dobry | M76: ogrzewanie centralne: kocioł węglowy rusztowy | N76: węgiel | O76: 5.5 | P76: =IFERROR(Wyniki_ankiet[[#This Row],[Wielkość zużycia węgla w tonach (jeśli występuje)]]*1000/Wyniki_ankiet[[#This Row],[Powierzchnia ogrzewana w m2]],) -> 34.375 | Q76: 0 | S76: =IFERROR(Wyniki_ankiet[[#This Row],[Wielkość zużycia drewna w kg (jeśli występuje)]]/Wyniki_ankiet[[#This Row],[Powierzchnia ogrzewana w m2]],) -> 0 | T76: 0 | V76: =IFERROR(Wyniki_ankiet[[#This Row],[Olej opałowy zużycie w litrach]]/Wyniki_ankiet[[#This Row],[Powierzchnia ogrzewana w m2]],) -> 0 | X76: nie | Y76: - | AA76: tak | AB76: =IF(AND(Wyniki_ankiet[[#This Row],[Wielkość zużycia węgla w tonach (jeśli występuje)]]>0,Wyniki_ankiet[[#This Row],[Wielkość zużycia drewna w kg (jeśli występuje)]]>0),1,) -> 0 | AC76: =IF(AND(Wyniki_ankiet[[#This Row],[Wielkość zużycia węgla w tonach (jeśli występuje)]]>0,Wyniki_ankiet[[#This Row],[Wielkość zużycia drewna w kg (jeśli występuje)]]=0),1,) -> 1 | AD76: =IF(AND(Wyniki_ankiet[[#This Row],[Wielkość zużycia drewna w kg (jeśli występuje)]]>0,Wyniki_ankiet[[#This Row],[Wielkość zużycia węgla w tonach (jeśli występuje)]]=0),1,) -> 0 | AE76: =IF(Wyniki_ankiet[[#This Row],[Wielkość zużycia gazu w m3 (jeśli występuje)]]>0,1,) -> 0
A77: 73 | B77: obszar wiejski | C77: =SUM(BUD_MIESZK_A!U81:U243) -> 2600 | D77: tak | E77: Wolnostojący | F77: 100 | G77: 100 | H77: - | I77: nie | J77: nie | K77: PCV | L77: Dobry | M77: ogrzewanie centralne | N77: węgiel | O77: 5 | P77: =IFERROR(Wyniki_ankiet[[#This Row],[Wielkość zużycia węgla w tonach (jeśli występuje)]]*1000/Wyniki_ankiet[[#This Row],[Powierzchnia ogrzewana w m2]],) -> 50 | Q77: 0 | S77: =IFERROR(Wyniki_ankiet[[#This Row],[Wielkość zużycia drewna w kg (jeśli występuje)]]/Wyniki_ankiet[[#This Row],[Powierzchnia ogrzewana w m2]],) -> 0 | T77: 0 | V77: =IFERROR(Wyniki_ankiet[[#This Row],[Olej opałowy zużycie w litrach]]/Wyniki_ankiet[[#This Row],[Powierzchnia ogrzewana w m2]],) -> 0 | X77: nie | Y77: - | AA77: nie | AB77: =IF(AND(Wyniki_ankiet[[#This Row],[Wielkość zużycia węgla w tonach (jeśli występuje)]]>0,Wyniki_ankiet[[#This Row],[Wielkość zużycia drewna w kg (jeśli występuje)]]>0),1,) -> 0 | AC77: =IF(AND(Wyniki_ankiet[[#This Row],[Wielkość zużycia węgla w tonach (jeśli występuje)]]>0,Wyniki_ankiet[[#This Row],[Wielkość zużycia drewna w kg (jeśli występuje)]]=0),1,) -> 1 | AD77: =IF(AND(Wyniki_ankiet[[#This Row],[Wielkość zużycia drewna w kg (jeśli występuje)]]>0,Wyniki_ankiet[[#This Row],[Wielkość zużycia węgla w tonach (jeśli występuje)]]=0),1,) -> 0 | AE77: =IF(Wyniki_ankiet[[#This Row],[Wielkość zużycia gazu w m3 (jeśli występuje)]]>0,1,) -> 0
A78: 74 | B78: obszar wiejski | C78: =SUM(BUD_MIESZK_A!U82:U244) -> 2600 | D78: - | E78: Wolnostojący | F78: 160 | G78: 160 | H78: 1980 | I78: nie | J78: nie | K78: PCV | L78: Dostateczny | M78: ogrzewanie centralne | N78: węgiel, drewno, inne | O78: 5 | P78: =IFERROR(Wyniki_ankiet[[#This Row],[Wielkość zużycia węgla w tonach (jeśli występuje)]]*1000/Wyniki_ankiet[[#This Row],[Powierzchnia ogrzewana w m2]],) -> 31.25 | Q78: 0 | R78: 6000 | S78: =IFERROR(Wyniki_ankiet[[#This Row],[Wielkość zużycia drewna w kg (jeśli występuje)]]/Wyniki_ankiet[[#This Row],[Powierzchnia ogrzewana w m2]],) -> 37.5 | T78: miał 0 3t | V78: =IFERROR(Wyniki_ankiet[[#This Row],[Olej opałowy zużycie w litrach]]/Wyniki_ankiet[[#This Row],[Powierzchnia ogrzewana w m2]],) -> 0 | X78: nie | Y78: - | AA78: tak | AB78: =IF(AND(Wyniki_ankiet[[#This Row],[Wielkość zużycia węgla w tonach (jeśli występuje)]]>0,Wyniki_ankiet[[#This Row],[Wielkość zużycia drewna w kg (jeśli występuje)]]>0),1,) -> 1 | AC78: =IF(AND(Wyniki_ankiet[[#This Row],[Wielkość zużycia węgla w tonach (jeśli występuje)]]>0,Wyniki_ankiet[[#This Row],[Wielkość zużycia drewna w kg (jeśli występuje)]]=0),1,) -> 0 | AD78: =IF(AND(Wyniki_ankiet[[#This Row],[Wielkość zużycia drewna w kg (jeśli występuje)]]>0,Wyniki_ankiet[[#This Row],[Wielkość zużycia węgla w tonach (jeśli występuje)]]=0),1,) -> 0 | AE78: =IF(Wyniki_ankiet[[#This Row],[Wielkość zużycia gazu w m3 (jeśli występuje)]]>0,1,) -> 0
A79: 75 | B79: obszar wiejski | C79: =SUM(BUD_MIESZK_A!U83:U245) -> 2600 | D79: nie | E79: Wolnostojący | F79: 250 | G79: 250 | H79: 2013 | I79: tak | J79: tak | K79: PCV | L79: Dobry | M79: ogrzewanie centralne: kocioł węglowy z podajnikiem | N79: węgiel | O79: 4 | P79: =IFERROR(Wyniki_ankiet[[#This Row],[Wielkość zużycia węgla w tonach (jeśli występuje)]]*1000/Wyniki_ankiet[[#This Row],[Powierzchnia ogrzewana w m2]],) -> 16 | Q79: 0 | S79: =IFERROR(Wyniki_ankiet[[#This Row],[Wielkość zużycia drewna w kg (jeśli występuje)]]/Wyniki_ankiet[[#This Row],[Powierzchnia ogrzewana w m2]],) -> 0 | T79: 0 | V79: =IFERROR(Wyniki_ankiet[[#This Row],[Olej opałowy zużycie w litrach]]/Wyniki_ankiet[[#This Row],[Powierzchnia ogrzewana w m2]],) -> 0 | X79: nie | Y79: - | AA79: tak | AB79: =IF(AND(Wyniki_ankiet[[#This Row],[Wielkość zużycia węgla w tonach (jeśli występuje)]]>0,Wyniki_ankiet[[#This Row],[Wielkość zużycia drewna w kg (jeśli występuje)]]>0),1,) -> 0 | AC79: =IF(AND(Wyniki_ankiet[[#This Row],[Wielkość zużycia węgla w tonach (jeśli występuje)]]>0,Wyniki_ankiet[[#This Row],[Wielkość zużycia drewna w kg (jeśli występuje)]]=0),1,) -> 1 | AD79: =IF(AND(Wyniki_ankiet[[#This Row],[Wielkość zużycia drewna w kg (jeśli występuje)]]>0,Wyniki_ankiet[[#This Row],[Wielkość zużycia węgla w tonach (jeśli występuje)]]=0),1,) -> 0 | AE79: =IF(Wyniki_ankiet[[#This Row],[Wielkość zużycia gazu w m3 (jeśli występuje)]]>0,1,) -> 0
A80: 76 | B80: obszar wiejski | C80: =SUM(BUD_MIESZK_A!U84:U246) -> 2600 | D80: nie | E80: - | F80: 100 | G80: 100 | H80: - | I80: nie | J80: nie | K80: PCV | L80: Dobry | M80: ogrzewanie centralne: kocioł węglowy rusztowy | N80: węgiel | O80: 5 | P80: =IFERROR(Wyniki_ankiet[[#This Row],[Wielkość zużycia węgla w tonach (jeśli występuje)]]*1000/Wyniki_ankiet[[#This Row],[Powierzchnia ogrzewana w m2]],) -> 50 | Q80: 0 | S80: =IFERROR(Wyniki_ankiet[[#This Row],[Wielkość zużycia drewna w kg (jeśli występuje)]]/Wyniki_ankiet[[#This Row],[Powierzchnia ogrzewana w m2]],) -> 0 | T80: 0 | V80: =IFERROR(Wyniki_ankiet[[#This Row],[Olej opałowy zużycie w litrach]]/Wyniki_ankiet[[#This Row],[Powierzchnia ogrzewana w m2]],) -> 0 | X80: nie | Y80: - | AA80: tak | AB80: =IF(AND(Wyniki_ankiet[[#This Row],[Wielkość zużycia węgla w tonach (jeśli występuje)]]>0,Wyniki_ankiet[[#This Row],[Wielkość zużycia drewna w kg (jeśli występuje)]]>0),1,) -> 0 | AC80: =IF(AND(Wyniki_ankiet[[#This Row],[Wielkość zużycia węgla w tonach (jeśli występuje)]]>0,Wyniki_ankiet[[#This Row],[Wielkość zużycia drewna w kg (jeśli występuje)]]=0),1,) -> 1 | AD80: =IF(AND(Wyniki_ankiet[[#This Row],[Wielkość zużycia drewna w kg (jeśli występuje)]]>0,Wyniki_ankiet[[#This Row],[Wielkość zużycia węgla w tonach (jeśli występuje)]]=0),1,) -> 0 | AE80: =IF(Wyniki_ankiet[[#This Row],[Wielkość zużycia gazu w m3 (jeśli występuje)]]>0,1,) -> 0
A81: 77 | B81: obszar wiejski | C81: =SUM(BUD_MIESZK_A!U85:U247) -> 2600 | D81: - | E81: Wolnostojący | F81: 182 | G81: 182 | H81: 1914 | I81: tak | J81: tak | K81: PCV | L81: Dobry | M81: ogrzewanie centralne | N81: węgiel, drewno | O81: 5 | P81: =IFERROR(Wyniki_ankiet[[#This Row],[Wielkość zużycia węgla w tonach (jeśli występuje)]]*1000/Wyniki_ankiet[[#This Row],[Powierzchnia ogrzewana w m2]],) -> 27.472527 | Q81: 0 | R81: 3000 | S81: =IFERROR(Wyniki_ankiet[[#This Row],[Wielkość zużycia drewna w kg (jeśli występuje)]]/Wyniki_ankiet[[#This Row],[Powierzchnia ogrzewana w m2]],) -> 16.483516 | T81: 0 | V81: =IFERROR(Wyniki_ankiet[[#This Row],[Olej opałowy zużycie w litrach]]/Wyniki_ankiet[[#This Row],[Powierzchnia ogrzewana w m2]],) -> 0 | X81: nie | Y81: - | AA81: tak | AB81: =IF(AND(Wyniki_ankiet[[#This Row],[Wielkość zużycia węgla w tonach (jeśli występuje)]]>0,Wyniki_ankiet[[#This Row],[Wielkość zużycia drewna w kg (jeśli występuje)]]>0),1,) -> 1 | AC81: =IF(AND(Wyniki_ankiet[[#This Row],[Wielkość zużycia węgla w tonach (jeśli występuje)]]>0,Wyniki_ankiet[[#This Row],[Wielkość zużycia drewna w kg (jeśli występuje)]]=0),1,) -> 0 | AD81: =IF(AND(Wyniki_ankiet[[#This Row],[Wielkość zużycia drewna w kg (jeśli występuje)]]>0,Wyniki_ankiet[[#This Row],[Wielkość zużycia węgla w tonach (jeśli występuje)]]=0),1,) -> 0 | AE81: =IF(Wyniki_ankiet[[#This Row],[Wielkość zużycia gazu w m3 (jeśli występuje)]]>0,1,) -> 0
A82: 78 | B82: obszar wiejski | C82: =SUM(BUD_MIESZK_A!U86:U248) -> 2600 | D82: nie | E82: Bliźniak | F82: 107 | G82: 107 | H82: 1980 | I82: tak | J82: tak | K82: PCV | L82: Dobry | M82: ogrzewanie centralne | N82: węgiel | O82: 4 | P82: =IFERROR(Wyniki_ankiet[[#This Row],[Wielkość zużycia węgla w tonach (jeśli występuje)]]*1000/Wyniki_ankiet[[#This Row],[Powierzchnia ogrzewana w m2]],) -> 37.383178 | Q82: 0 | S82: =IFERROR(Wyniki_ankiet[[#This Row],[Wielkość zużycia drewna w kg (jeśli występuje)]]/Wyniki_ankiet[[#This Row],[Powierzchnia ogrzewana w m2]],) -> 0 | T82: 0 | V82: =IFERROR(Wyniki_ankiet[[#This Row],[Olej opałowy zużycie w litrach]]/Wyniki_ankiet[[#This Row],[Powierzchnia ogrzewana w m2]],) -> 0 | X82: nie | Y82: - | AA82: nie | AB82: =IF(AND(Wyniki_ankiet[[#This Row],[Wielkość zużycia węgla w tonach (jeśli występuje)]]>0,Wyniki_ankiet[[#This Row],[Wielkość zużycia drewna w kg (jeśli występuje)]]>0),1,) -> 0 | AC82: =IF(AND(Wyniki_ankiet[[#This Row],[Wielkość zużycia węgla w tonach (jeśli występuje)]]>0,Wyniki_ankiet[[#This Row],[Wielkość zużycia drewna w kg (jeśli występuje)]]=0),1,) -> 1 | AD82: =IF(AND(Wyniki_ankiet[[#This Row],[Wielkość zużycia drewna w kg (jeśli występuje)]]>0,Wyniki_ankiet[[#This Row],[Wielkość zużycia węgla w tonach (jeśli występuje)]]=0),1,) -> 0 | AE82: =IF(Wyniki_ankiet[[#This Row],[Wielkość zużycia gazu w m3 (jeśli występuje)]]>0,1,) -> 0
A83: 79 | B83: obszar wiejski | C83: =SUM(BUD_MIESZK_A!U87:U249) -> 2600 | D83: tak | E83: Wolnostojący | F83: 85 | G83: 85 | H83: 1900 | I83: nie | J83: nie | K83: PCV | L83: Dobry | M83: ogrzewanie centralne: kocioł węglowy rusztowy | N83: węgiel, drewno | O83: 2 | P83: =IFERROR(Wyniki_ankiet[[#This Row],[Wielkość zużycia węgla w tonach (jeśli występuje)]]*1000/Wyniki_ankiet[[#This Row],[Powierzchnia ogrzewana w m2]],) -> 23.529412 | Q83: 0 | R83: 1000 | S83: =IFERROR(Wyniki_ankiet[[#This Row],[Wielkość zużycia drewna w kg (jeśli występuje)]]/Wyniki_ankiet[[#This Row],[Powierzchnia ogrzewana w m2]],) -> 11.764706 | T83: 0 | V83: =IFERROR(Wyniki_ankiet[[#This Row],[Olej opałowy zużycie w litrach]]/Wyniki_ankiet[[#This Row],[Powierzchnia ogrzewana w m2]],) -> 0 | X83: nie | Y83: - | AA83: tak | AB83: =IF(AND(Wyniki_ankiet[[#This Row],[Wielkość zużycia węgla w tonach (jeśli występuje)]]>0,Wyniki_ankiet[[#This Row],[Wielkość zużycia drewna w kg (jeśli występuje)]]>0),1,) -> 1 | AC83: =IF(AND(Wyniki_ankiet[[#This Row],[Wielkość zużycia węgla w tonach (jeśli występuje)]]>0,Wyniki_ankiet[[#This Row],[Wielkość zużycia drewna w kg (jeśli występuje)]]=0),1,) -> 0 | AD83: =IF(AND(Wyniki_ankiet[[#This Row],[Wielkość zużycia drewna w kg (jeśli występuje)]]>0,Wyniki_ankiet[[#This Row],[Wielkość zużycia węgla w tonach (jeśli występuje)]]=0),1,) -> 0 | AE83: =IF(Wyniki_ankiet[[#This Row],[Wielkość zużycia gazu w m3 (jeśli występuje)]]>0,1,) -> 0
A84: 80 | B84: obszar wiejski | C84: =SUM(BUD_MIESZK_A!U88:U250) -> 2600 | D84: nie | E84: Wolnostojący | F84: 90 | G84: 90 | H84: 1993 | I84: nie | J84: - | K84: Drewniane | L84: Dostateczny | M84: ogrzewanie centralne: kocioł węglowy rusztowy | N84: węgiel, drewno | O84: 2 | P84: =IFERROR(Wyniki_ankiet[[#This Row],[Wielkość zużycia węgla w tonach (jeśli występuje)]]*1000/Wyniki_ankiet[[#This Row],[Powierzchnia ogrzewana w m2]],) -> 22.222222 | Q84: 0 | R84: 6000 | S84: =IFERROR(Wyniki_ankiet[[#This Row],[Wielkość zużycia drewna w kg (jeśli występuje)]]/Wyniki_ankiet[[#This Row],[Powierzchnia ogrzewana w m2]],) -> 66.666667 | T84: 0 | V84: =IFERROR(Wyniki_ankiet[[#This Row],[Olej opałowy zużycie w litrach]]/Wyniki_ankiet[[#This Row],[Powierzchnia ogrzewana w m2]],) -> 0 | X84: nie | Y84: - | AA84: tak | AB84: =IF(AND(Wyniki_ankiet[[#This Row],[Wielkość zużycia węgla w tonach (jeśli występuje)]]>0,Wyniki_ankiet[[#This Row],[Wielkość zużycia drewna w kg (jeśli występuje)]]>0),1,) -> 1 | AC84: =IF(AND(Wyniki_ankiet[[#This Row],[Wielkość zużycia węgla w tonach (jeśli występuje)]]>0,Wyniki_ankiet[[#This Row],[Wielkość zużycia drewna w kg (jeśli występuje)]]=0),1,) -> 0 | AD84: =IF(AND(Wyniki_ankiet[[#This Row],[Wielkość zużycia drewna w kg (jeśli występuje)]]>0,Wyniki_ankiet[[#This Row],[Wielkość zużycia węgla w tonach (jeśli występuje)]]=0),1,) -> 0 | AE84: =IF(Wyniki_ankiet[[#This Row],[Wielkość zużycia gazu w m3 (jeśli występuje)]]>0,1,) -> 0
A85: 81 | B85: obszar wiejski | C85: =SUM(BUD_MIESZK_A!U89:U251) -> 2600 | D85: nie | E85: Wolnostojący | F85: 144 | G85: 144 | H85: 2003 | I85: tak | J85: tak | K85: PCV | L85: Dobry | M85: ogrzewanie centralne | N85: węgiel | O85: 4 | P85: =IFERROR(Wyniki_ankiet[[#This Row],[Wielkość zużycia węgla w tonach (jeśli występuje)]]*1000/Wyniki_ankiet[[#This Row],[Powierzchnia ogrzewana w m2]],) -> 27.777778 | Q85: 0 | S85: =IFERROR(Wyniki_ankiet[[#This Row],[Wielkość zużycia drewna w kg (jeśli występuje)]]/Wyniki_ankiet[[#This Row],[Powierzchnia ogrzewana w m2]],) -> 0 | T85: 0 | V85: =IFERROR(Wyniki_ankiet[[#This Row],[Olej opałowy zużycie w litrach]]/Wyniki_ankiet[[#This Row],[Powierzchnia ogrzewana w m2]],) -> 0 | X85: nie | Y85: - | AA85: nie | AB85: =IF(AND(Wyniki_ankiet[[#This Row],[Wielkość zużycia węgla w tonach (jeśli występuje)]]>0,Wyniki_ankiet[[#This Row],[Wielkość zużycia drewna w kg (jeśli występuje)]]>0),1,) -> 0 | AC85: =IF(AND(Wyniki_ankiet[[#This Row],[Wielkość zużycia węgla w tonach (jeśli występuje)]]>0,Wyniki_ankiet[[#This Row],[Wielkość zużycia drewna w kg (jeśli występuje)]]=0),1,) -> 1 | AD85: =IF(AND(Wyniki_ankiet[[#This Row],[Wielkość zużycia drewna w kg (jeśli występuje)]]>0,Wyniki_ankiet[[#This Row],[Wielkość zużycia węgla w tonach (jeśli występuje)]]=0),1,) -> 0 | AE85: =IF(Wyniki_ankiet[[#This Row],[Wielkość zużycia gazu w m3 (jeśli występuje)]]>0,1,) -> 0
A86: 82 | B86: obszar wiejski | C86: =SUM(BUD_MIESZK_A!U90:U252) -> 2600 | D86: tak | E86: Wolnostojący | F86: 200 | G86: 160 | H86: - | I86: nie | J86: nie | K86: PCV | L86: Dostateczny | M86: ogrzewanie centralne | N86: węgiel, drewno, inne | O86: 5 | P86: =IFERROR(Wyniki_ankiet[[#This Row],[Wielkość zużycia węgla w tonach (jeśli występuje)]]*1000/Wyniki_ankiet[[#This Row],[Powierzchnia ogrzewana w m2]],) -> 31.25 | Q86: 0 | R86: 6000 | S86: =IFERROR(Wyniki_ankiet[[#This Row],[Wielkość zużycia drewna w kg (jeśli występuje)]]/Wyniki_ankiet[[#This Row],[Powierzchnia ogrzewana w m2]],) -> 37.5 | T86: miał 0 3t | V86: =IFERROR(Wyniki_ankiet[[#This Row],[Olej opałowy zużycie w litrach]]/Wyniki_ankiet[[#This Row],[Powierzchnia ogrzewana w m2]],) -> 0 | X86: nie | Y86: - | AA86: tak | AB86: =IF(AND(Wyniki_ankiet[[#This Row],[Wielkość zużycia węgla w tonach (jeśli występuje)]]>0,Wyniki_ankiet[[#This Row],[Wielkość zużycia drewna w kg (jeśli występuje)]]>0),1,) -> 1 | AC86: =IF(AND(Wyniki_ankiet[[#This Row],[Wielkość zużycia węgla w tonach (jeśli występuje)]]>0,Wyniki_ankiet[[#This Row],[Wielkość zużycia drewna w kg (jeśli występuje)]]=0),1,) -> 0 | AD86: =IF(AND(Wyniki_ankiet[[#This Row],[Wielkość zużycia drewna w kg (jeśli występuje)]]>0,Wyniki_ankiet[[#This Row],[Wielkość zużycia węgla w tonach (jeśli występuje)]]=0),1,) -> 0 | AE86: =IF(Wyniki_ankiet[[#This Row],[Wielkość zużycia gazu w m3 (jeśli występuje)]]>0,1,) -> 0
A87: 83 | B87: obszar wiejski | C87: =SUM(BUD_MIESZK_A!U91:U253) -> 2600 | D87: tak | E87: Wolnostojący | F87: 90 | G87: 90 | H87: 2001 | I87: tak | J87: tak | K87: Drewniane | L87: Dobry | M87: ogrzewanie centralne | N87: węgiel, drewno | O87: 0.5 | P87: =IFERROR(Wyniki_ankiet[[#This Row],[Wielkość zużycia węgla w tonach (jeśli występuje)]]*1000/Wyniki_ankiet[[#This Row],[Powierzchnia ogrzewana w m2]],) -> 5.5555556 | Q87: 0 | R87: 2000 | S87: =IFERROR(Wyniki_ankiet[[#This Row],[Wielkość zużycia drewna w kg (jeśli występuje)]]/Wyniki_ankiet[[#This Row],[Powierzchnia ogrzewana w m2]],) -> 22.222222 | T87: 0 | V87: =IFERROR(Wyniki_ankiet[[#This Row],[Olej opałowy zużycie w litrach]]/Wyniki_ankiet[[#This Row],[Powierzchnia ogrzewana w m2]],) -> 0 | X87: tak | Y87: Kolektory słoneczne | AA87: tak | AB87: =IF(AND(Wyniki_ankiet[[#This Row],[Wielkość zużycia węgla w tonach (jeśli występuje)]]>0,Wyniki_ankiet[[#This Row],[Wielkość zużycia drewna w kg (jeśli występuje)]]>0),1,) -> 1 | AC87: =IF(AND(Wyniki_ankiet[[#This Row],[Wielkość zużycia węgla w tonach (jeśli występuje)]]>0,Wyniki_ankiet[[#This Row],[Wielkość zużycia drewna w kg (jeśli występuje)]]=0),1,) -> 0 | AD87: =IF(AND(Wyniki_ankiet[[#This Row],[Wielkość zużycia drewna w kg (jeśli występuje)]]>0,Wyniki_ankiet[[#This Row],[Wielkość zużycia węgla w tonach (jeśli występuje)]]=0),1,) -> 0 | AE87: =IF(Wyniki_ankiet[[#This Row],[Wielkość zużycia gazu w m3 (jeśli występuje)]]>0,1,) -> 0
A88: 84 | B88: obszar wiejski | C88: =SUM(BUD_MIESZK_A!U92:U254) -> 2600 | D88: - | E88: Wielorodzinny | F88: 66 | G88: 66 | H88: 1936 | I88: nie | J88: nie | K88: PCV | L88: Dobry | M88: - | N88: węgiel, drewno | O88: 4 | P88: =IFERROR(Wyniki_ankiet[[#This Row],[Wielkość zużycia węgla w tonach (jeśli występuje)]]*1000/Wyniki_ankiet[[#This Row],[Powierzchnia ogrzewana w m2]],) -> 60.606061 | Q88: 0 | R88: 2400 | S88: =IFERROR(Wyniki_ankiet[[#This Row],[Wielkość zużycia drewna w kg (jeśli występuje)]]/Wyniki_ankiet[[#This Row],[Powierzchnia ogrzewana w m2]],) -> 36.363636 | T88: 0 | V88: =IFERROR(Wyniki_ankiet[[#This Row],[Olej opałowy zużycie w litrach]]/Wyniki_ankiet[[#This Row],[Powierzchnia ogrzewana w m2]],) -> 0 | X88: nie | Y88: - | AA88: nie | AB88: =IF(AND(Wyniki_ankiet[[#This Row],[Wielkość zużycia węgla w tonach (jeśli występuje)]]>0,Wyniki_ankiet[[#This Row],[Wielkość zużycia drewna w kg (jeśli występuje)]]>0),1,) -> 1 | AC88: =IF(AND(Wyniki_ankiet[[#This Row],[Wielkość zużycia węgla w tonach (jeśli występuje)]]>0,Wyniki_ankiet[[#This Row],[Wielkość zużycia drewna w kg (jeśli występuje)]]=0),1,) -> 0 | AD88: =IF(AND(Wyniki_ankiet[[#This Row],[Wielkość zużycia drewna w kg (jeśli występuje)]]>0,Wyniki_ankiet[[#This Row],[Wielkość zużycia węgla w tonach (jeśli występuje)]]=0),1,) -> 0 | AE88: =IF(Wyniki_ankiet[[#This Row],[Wielkość zużycia gazu w m3 (jeśli występuje)]]>0,1,) -> 0
A89: 85 | B89: obszar wiejski | C89: =SUM(BUD_MIESZK_A!U93:U255) -> 2600 | D89: nie | E89: Bliźniak | F89: 110 | G89: 100 | H89: 1915 | I89: nie | J89: nie | K89: PCV | L89: Dostateczny | M89: ogrzewanie centralne | N89: drewno | P89: =IFERROR(Wyniki_ankiet[[#This Row],[Wielkość zużycia węgla w tonach (jeśli występuje)]]*1000/Wyniki_ankiet[[#This Row],[Powierzchnia ogrzewana w m2]],) -> 0 | Q89: 0 | R89: 18000 | S89: =IFERROR(Wyniki_ankiet[[#This Row],[Wielkość zużycia drewna w kg (jeśli występuje)]]/Wyniki_ankiet[[#This Row],[Powierzchnia ogrzewana w m2]],) -> 180 | T89: 0 | V89: =IFERROR(Wyniki_ankiet[[#This Row],[Olej opałowy zużycie w litrach]]/Wyniki_ankiet[[#This Row],[Powierzchnia ogrzewana w m2]],) -> 0 | X89: nie | Y89: - | AA89: nie | AB89: =IF(AND(Wyniki_ankiet[[#This Row],[Wielkość zużycia węgla w tonach (jeśli występuje)]]>0,Wyniki_ankiet[[#This Row],[Wielkość zużycia drewna w kg (jeśli występuje)]]>0),1,) -> 0 | AC89: =IF(AND(Wyniki_ankiet[[#This Row],[Wielkość zużycia węgla w tonach (jeśli występuje)]]>0,Wyniki_ankiet[[#This Row],[Wielkość zużycia drewna w kg (jeśli występuje)]]=0),1,) -> 0 | AD89: =IF(AND(Wyniki_ankiet[[#This Row],[Wielkość zużycia drewna w kg (jeśli występuje)]]>0,Wyniki_ankiet[[#This Row],[Wielkość zużycia węgla w tonach (jeśli występuje)]]=0),1,) -> 1 | AE89: =IF(Wyniki_ankiet[[#This Row],[Wielkość zużycia gazu w m3 (jeśli występuje)]]>0,1,) -> 0
A90: 86 | B90: obszar wiejski | C90: =SUM(BUD_MIESZK_A!U94:U256) -> 2600 | D90: nie | E90: Wolnostojący | F90: 200 | G90: 200 | H90: 1968 | I90: tak | J90: tak | K90: PCV | L90: Dobry | M90: ogrzewanie centralne: kocioł węglowy rusztowy | N90: węgiel | O90: 6 | P90: =IFERROR(Wyniki_ankiet[[#This Row],[Wielkość zużycia węgla w tonach (jeśli występuje)]]*1000/Wyniki_ankiet[[#This Row],[Powierzchnia ogrzewana w m2]],) -> 30 | Q90: 0 | S90: =IFERROR(Wyniki_ankiet[[#This Row],[Wielkość zużycia drewna w kg (jeśli występuje)]]/Wyniki_ankiet[[#This Row],[Powierzchnia ogrzewana w m2]],) -> 0 | T90: 0 | V90: =IFERROR(Wyniki_ankiet[[#This Row],[Olej opałowy zużycie w litrach]]/Wyniki_ankiet[[#This Row],[Powierzchnia ogrzewana w m2]],) -> 0 | X90: - | Y90: - | AA90: - | AB90: =IF(AND(Wyniki_ankiet[[#This Row],[Wielkość zużycia węgla w tonach (jeśli występuje)]]>0,Wyniki_ankiet[[#This Row],[Wielkość zużycia drewna w kg (jeśli występuje)]]>0),1,) -> 0 | AC90: =IF(AND(Wyniki_ankiet[[#This Row],[Wielkość zużycia węgla w tonach (jeśli występuje)]]>0,Wyniki_ankiet[[#This Row],[Wielkość zużycia drewna w kg (jeśli występuje)]]=0),1,) -> 1 | AD90: =IF(AND(Wyniki_ankiet[[#This Row],[Wielkość zużycia drewna w kg (jeśli występuje)]]>0,Wyniki_ankiet[[#This Row],[Wielkość zużycia węgla w tonach (jeśli występuje)]]=0),1,) -> 0 | AE90: =IF(Wyniki_ankiet[[#This Row],[Wielkość zużycia gazu w m3 (jeśli występuje)]]>0,1,) -> 0
A91: 87 | B91: obszar wiejski | C91: =SUM(BUD_MIESZK_A!U95:U257) -> 2600 | D91: tak | E91: Bliźniak | F91: 165 | G91: 165 | H91: 1990 | I91: nie | J91: nie | K91: Drewniane | L91: Zły | M91: ogrzewanie centralne | N91: drewno | P91: =IFERROR(Wyniki_ankiet[[#This Row],[Wielkość zużycia węgla w tonach (jeśli występuje)]]*1000/Wyniki_ankiet[[#This Row],[Powierzchnia ogrzewana w m2]],) -> 0 | Q91: 0 | R91: 72000 | S91: =IFERROR(Wyniki_ankiet[[#This Row],[Wielkość zużycia drewna w kg (jeśli występuje)]]/Wyniki_ankiet[[#This Row],[Powierzchnia ogrzewana w m2]],) -> 436.36364 | T91: 0 | V91: =IFERROR(Wyniki_ankiet[[#This Row],[Olej opałowy zużycie w litrach]]/Wyniki_ankiet[[#This Row],[Powierzchnia ogrzewana w m2]],) -> 0 | X91: nie | Y91: - | AA91: tak | AB91: =IF(AND(Wyniki_ankiet[[#This Row],[Wielkość zużycia węgla w tonach (jeśli występuje)]]>0,Wyniki_ankiet[[#This Row],[Wielkość zużycia drewna w kg (jeśli występuje)]]>0),1,) -> 0 | AC91: =IF(AND(Wyniki_ankiet[[#This Row],[Wielkość zużycia węgla w tonach (jeśli występuje)]]>0,Wyniki_ankiet[[#This Row],[Wielkość zużycia drewna w kg (jeśli występuje)]]=0),1,) -> 0 | AD91: =IF(AND(Wyniki_ankiet[[#This Row],[Wielkość zużycia drewna w kg (jeśli występuje)]]>0,Wyniki_ankiet[[#This Row],[Wielkość zużycia węgla w tonach (jeśli występuje)]]=0),1,) -> 1 | AE91: =IF(Wyniki_ankiet[[#This Row],[Wielkość zużycia gazu w m3 (jeśli występuje)]]>0,1,) -> 0
A92: 88 | B92: obszar wiejski | C92: =SUM(BUD_MIESZK_A!U96:U258) -> 2600 | D92: nie | E92: Wolnostojący | F92: 270 | G92: 180 | H92: 1995 | I92: nie | J92: tak | K92: PCV, Drewniane | L92: Dobry | M92: ogrzewanie centralne | N92: węgiel, drewno | O92: 8 | P92: =IFERROR(Wyniki_ankiet[[#This Row],[Wielkość zużycia węgla w tonach (jeśli występuje)]]*1000/Wyniki_ankiet[[#This Row],[Powierzchnia ogrzewana w m2]],) -> 44.444444 | Q92: 0 | R92: 12000 | S92: =IFERROR(Wyniki_ankiet[[#This Row],[Wielkość zużycia drewna w kg (jeśli występuje)]]/Wyniki_ankiet[[#This Row],[Powierzchnia ogrzewana w m2]],) -> 66.666667 | T92: 0 | V92: =IFERROR(Wyniki_ankiet[[#This Row],[Olej opałowy zużycie w litrach]]/Wyniki_ankiet[[#This Row],[Powierzchnia ogrzewana w m2]],) -> 0 | X92: nie | Y92: - | AA92: tak | AB92: =IF(AND(Wyniki_ankiet[[#This Row],[Wielkość zużycia węgla w tonach (jeśli występuje)]]>0,Wyniki_ankiet[[#This Row],[Wielkość zużycia drewna w kg (jeśli występuje)]]>0),1,) -> 1 | AC92: =IF(AND(Wyniki_ankiet[[#This Row],[Wielkość zużycia węgla w tonach (jeśli występuje)]]>0,Wyniki_ankiet[[#This Row],[Wielkość zużycia drewna w kg (jeśli występuje)]]=0),1,) -> 0 | AD92: =IF(AND(Wyniki_ankiet[[#This Row],[Wielkość zużycia drewna w kg (jeśli występuje)]]>0,Wyniki_ankiet[[#This Row],[Wielkość zużycia węgla w tonach (jeśli występuje)]]=0),1,) -> 0 | AE92: =IF(Wyniki_ankiet[[#This Row],[Wielkość zużycia gazu w m3 (jeśli występuje)]]>0,1,) -> 0
A93: 89 | B93: obszar wiejski | C93: =SUM(BUD_MIESZK_A!U97:U259) -> 2600 | D93: tak | E93: Wolnostojący | F93: 220 | G93: 220 | H93: 2010 | I93: tak | J93: tak | K93: Drewniane | L93: Dobry | M93: ogrzewanie centralne: kocioł węglowy z podajnikiem | N93: węgiel | O93: 4 | P93: =IFERROR(Wyniki_ankiet[[#This Row],[Wielkość zużycia węgla w tonach (jeśli występuje)]]*1000/Wyniki_ankiet[[#This Row],[Powierzchnia ogrzewana w m2]],) -> 18.181818 | Q93: 0 | S93: =IFERROR(Wyniki_ankiet[[#This Row],[Wielkość zużycia drewna w kg (jeśli występuje)]]/Wyniki_ankiet[[#This Row],[Powierzchnia ogrzewana w m2]],) -> 0 | T93: 0 | V93: =IFERROR(Wyniki_ankiet[[#This Row],[Olej opałowy zużycie w litrach]]/Wyniki_ankiet[[#This Row],[Powierzchnia ogrzewana w m2]],) -> 0 | X93: tak | Y93: Pompa ciepła | AA93: tak | AB93: =IF(AND(Wyniki_ankiet[[#This Row],[Wielkość zużycia węgla w tonach (jeśli występuje)]]>0,Wyniki_ankiet[[#This Row],[Wielkość zużycia drewna w kg (jeśli występuje)]]>0),1,) -> 0 | AC93: =IF(AND(Wyniki_ankiet[[#This Row],[Wielkość zużycia węgla w tonach (jeśli występuje)]]>0,Wyniki_ankiet[[#This Row],[Wielkość zużycia drewna w kg (jeśli występuje)]]=0),1,) -> 1 | AD93: =IF(AND(Wyniki_ankiet[[#This Row],[Wielkość zużycia drewna w kg (jeśli występuje)]]>0,Wyniki_ankiet[[#This Row],[Wielkość zużycia węgla w tonach (jeśli występuje)]]=0),1,) -> 0 | AE93: =IF(Wyniki_ankiet[[#This Row],[Wielkość zużycia gazu w m3 (jeśli występuje)]]>0,1,) -> 0
A94: 90 | B94: obszar wiejski | C94: =SUM(BUD_MIESZK_A!U98:U260) -> 2600 | D94: nie | E94: Wolnostojący | F94: - | G94: - | H94: - | I94: nie | J94: nie | K94: PCV | L94: - | M94: ogrzewanie centralne | N94: - | P94: =IFERROR(Wyniki_ankiet[[#This Row],[Wielkość zużycia węgla w tonach (jeśli występuje)]]*1000/Wyniki_ankiet[[#This Row],[Powierzchnia ogrzewana w m2]],) -> 0 | Q94: 0 | S94: =IFERROR(Wyniki_ankiet[[#This Row],[Wielkość zużycia drewna w kg (jeśli występuje)]]/Wyniki_ankiet[[#This Row],[Powierzchnia ogrzewana w m2]],) -> 0 | T94: 0 | V94: =IFERROR(Wyniki_ankiet[[#This Row],[Olej opałowy zużycie w litrach]]/Wyniki_ankiet[[#This Row],[Powierzchnia ogrzewana w m2]],) -> 0 | X94: nie | Y94: - | AA94: - | AB94: =IF(AND(Wyniki_ankiet[[#This Row],[Wielkość zużycia węgla w tonach (jeśli występuje)]]>0,Wyniki_ankiet[[#This Row],[Wielkość zużycia drewna w kg (jeśli występuje)]]>0),1,) -> 0 | AC94: =IF(AND(Wyniki_ankiet[[#This Row],[Wielkość zużycia węgla w tonach (jeśli występuje)]]>0,Wyniki_ankiet[[#This Row],[Wielkość zużycia drewna w kg (jeśli występuje)]]=0),1,) -> 0 | AD94: =IF(AND(Wyniki_ankiet[[#This Row],[Wielkość zużycia drewna w kg (jeśli występuje)]]>0,Wyniki_ankiet[[#This Row],[Wielkość zużycia węgla w tonach (jeśli występuje)]]=0),1,) -> 0 | AE94: =IF(Wyniki_ankiet[[#This Row],[Wielkość zużycia gazu w m3 (jeśli występuje)]]>0,1,) -> 0
A95: 91 | B95: obszar wiejski | C95: =SUM(BUD_MIESZK_A!U99:U261) -> 2600 | D95: - | E95: Wolnostojący | F95: 220 | G95: 220 | H95: 1987 | I95: nie | J95: tak | K95: PCV, Drewniane | L95: Dobry | M95: ogrzewanie centralne: kocioł węglowy rusztowy | N95: węgiel, drewno | O95: 3 | P95: =IFERROR(Wyniki_ankiet[[#This Row],[Wielkość zużycia węgla w tonach (jeśli występuje)]]*1000/Wyniki_ankiet[[#This Row],[Powierzchnia ogrzewana w m2]],) -> 13.636364 | Q95: 0 | R95: 500 | S95: =IFERROR(Wyniki_ankiet[[#This Row],[Wielkość zużycia drewna w kg (jeśli występuje)]]/Wyniki_ankiet[[#This Row],[Powierzchnia ogrzewana w m2]],) -> 2.2727273 | T95: 0 | V95: =IFERROR(Wyniki_ankiet[[#This Row],[Olej opałowy zużycie w litrach]]/Wyniki_ankiet[[#This Row],[Powierzchnia ogrzewana w m2]],) -> 0 | X95: nie | Y95: - | AA95: tak | AB95: =IF(AND(Wyniki_ankiet[[#This Row],[Wielkość zużycia węgla w tonach (jeśli występuje)]]>0,Wyniki_ankiet[[#This Row],[Wielkość zużycia drewna w kg (jeśli występuje)]]>0),1,) -> 1 | AC95: =IF(AND(Wyniki_ankiet[[#This Row],[Wielkość zużycia węgla w tonach (jeśli występuje)]]>0,Wyniki_ankiet[[#This Row],[Wielkość zużycia drewna w kg (jeśli występuje)]]=0),1,) -> 0 | AD95: =IF(AND(Wyniki_ankiet[[#This Row],[Wielkość zużycia drewna w kg (jeśli występuje)]]>0,Wyniki_ankiet[[#This Row],[Wielkość zużycia węgla w tonach (jeśli występuje)]]=0),1,) -> 0 | AE95: =IF(Wyniki_ankiet[[#This Row],[Wielkość zużycia gazu w m3 (jeśli występuje)]]>0,1,) -> 0
A96: 92 | B96: obszar wiejski | C96: =SUM(BUD_MIESZK_A!U100:U262) -> 2600 | D96: tak | E96: Wolnostojący | F96: 180 | G96: 160 | H96: 1911 | I96: tak | J96: tak | K96: PCV, Drewniane | L96: Dobry | M96: ogrzewanie centralne: kocioł węglowy rusztowy | N96: węgiel | O96: 5.5 | P96: =IFERROR(Wyniki_ankiet[[#This Row],[Wielkość zużycia węgla w tonach (jeśli występuje)]]*1000/Wyniki_ankiet[[#This Row],[Powierzchnia ogrzewana w m2]],) -> 34.375 | Q96: 0 | S96: =IFERROR(Wyniki_ankiet[[#This Row],[Wielkość zużycia drewna w kg (jeśli występuje)]]/Wyniki_ankiet[[#This Row],[Powierzchnia ogrzewana w m2]],) -> 0 | T96: 0 | V96: =IFERROR(Wyniki_ankiet[[#This Row],[Olej opałowy zużycie w litrach]]/Wyniki_ankiet[[#This Row],[Powierzchnia ogrzewana w m2]],) -> 0 | X96: nie | Y96: - | AA96: tak | AB96: =IF(AND(Wyniki_ankiet[[#This Row],[Wielkość zużycia węgla w tonach (jeśli występuje)]]>0,Wyniki_ankiet[[#This Row],[Wielkość zużycia drewna w kg (jeśli występuje)]]>0),1,) -> 0 | AC96: =IF(AND(Wyniki_ankiet[[#This Row],[Wielkość zużycia węgla w tonach (jeśli występuje)]]>0,Wyniki_ankiet[[#This Row],[Wielkość zużycia drewna w kg (jeśli występuje)]]=0),1,) -> 1 | AD96: =IF(AND(Wyniki_ankiet[[#This Row],[Wielkość zużycia drewna w kg (jeśli występuje)]]>0,Wyniki_ankiet[[#This Row],[Wielkość zużycia węgla w tonach (jeśli występuje)]]=0),1,) -> 0 | AE96: =IF(Wyniki_ankiet[[#This Row],[Wielkość zużycia gazu w m3 (jeśli występuje)]]>0,1,) -> 0
A97: 93 | B97: obszar wiejski | C97: =SUM(BUD_MIESZK_A!U101:U263) -> 2600 | D97: nie | E97: Wolnostojący | F97: 100 | G97: 100 | H97: 1921 | I97: nie | J97: nie | K97: PCV | L97: Dobry | M97: ogrzewanie centralne | N97: węgiel | O97: 6 | P97: =IFERROR(Wyniki_ankiet[[#This Row],[Wielkość zużycia węgla w tonach (jeśli występuje)]]*1000/Wyniki_ankiet[[#This Row],[Powierzchnia ogrzewana w m2]],) -> 60 | Q97: 0 | S97: =IFERROR(Wyniki_ankiet[[#This Row],[Wielkość zużycia drewna w kg (jeśli występuje)]]/Wyniki_ankiet[[#This Row],[Powierzchnia ogrzewana w m2]],) -> 0 | T97: 0 | V97: =IFERROR(Wyniki_ankiet[[#This Row],[Olej opałowy zużycie w litrach]]/Wyniki_ankiet[[#This Row],[Powierzchnia ogrzewana w m2]],) -> 0 | X97: nie | Y97: - | AA97: tak | AB97: =IF(AND(Wyniki_ankiet[[#This Row],[Wielkość zużycia węgla w tonach (jeśli występuje)]]>0,Wyniki_ankiet[[#This Row],[Wielkość zużycia drewna w kg (jeśli występuje)]]>0),1,) -> 0 | AC97: =IF(AND(Wyniki_ankiet[[#This Row],[Wielkość zużycia węgla w tonach (jeśli występuje)]]>0,Wyniki_ankiet[[#This Row],[Wielkość zużycia drewna w kg (jeśli występuje)]]=0),1,) -> 1 | AD97: =IF(AND(Wyniki_ankiet[[#This Row],[Wielkość zużycia drewna w kg (jeśli występuje)]]>0,Wyniki_ankiet[[#This Row],[Wielkość zużycia węgla w tonach (jeśli występuje)]]=0),1,) -> 0 | AE97: =IF(Wyniki_ankiet[[#This Row],[Wielkość zużycia gazu w m3 (jeśli występuje)]]>0,1,) -> 0
A98: 94 | B98: obszar wiejski | C98: =SUM(BUD_MIESZK_A!U102:U264) -> 2600 | D98: nie | E98: Wolnostojący | F98: 220 | G98: 180 | H98: 2008 | I98: nie | J98: tak | K98: Drewniane | L98: Dobry | M98: ogrzewanie centralne: kocioł węglowy z podajnikiem | N98: węgiel | O98: 3 | P98: =IFERROR(Wyniki_ankiet[[#This Row],[Wielkość zużycia węgla w tonach (jeśli występuje)]]*1000/Wyniki_ankiet[[#This Row],[Powierzchnia ogrzewana w m2]],) -> 16.666667 | Q98: 0 | S98: =IFERROR(Wyniki_ankiet[[#This Row],[Wielkość zużycia drewna w kg (jeśli występuje)]]/Wyniki_ankiet[[#This Row],[Powierzchnia ogrzewana w m2]],) -> 0 | T98: 0 | V98: =IFERROR(Wyniki_ankiet[[#This Row],[Olej opałowy zużycie w litrach]]/Wyniki_ankiet[[#This Row],[Powierzchnia ogrzewana w m2]],) -> 0 | X98: tak | Y98: Pompa ciepła | AA98: nie | AB98: =IF(AND(Wyniki_ankiet[[#This Row],[Wielkość zużycia węgla w tonach (jeśli występuje)]]>0,Wyniki_ankiet[[#This Row],[Wielkość zużycia drewna w kg (jeśli występuje)]]>0),1,) -> 0 | AC98: =IF(AND(Wyniki_ankiet[[#This Row],[Wielkość zużycia węgla w tonach (jeśli występuje)]]>0,Wyniki_ankiet[[#This Row],[Wielkość zużycia drewna w kg (jeśli występuje)]]=0),1,) -> 1 | AD98: =IF(AND(Wyniki_ankiet[[#This Row],[Wielkość zużycia drewna w kg (jeśli występuje)]]>0,Wyniki_ankiet[[#This Row],[Wielkość zużycia węgla w tonach (jeśli występuje)]]=0),1,) -> 0 | AE98: =IF(Wyniki_ankiet[[#This Row],[Wielkość zużycia gazu w m3 (jeśli występuje)]]>0,1,) -> 0
A99: 95 | B99: obszar wiejski | C99: =SUM(BUD_MIESZK_A!U103:U265) -> 2600 | D99: nie | E99: Wolnostojący | F99: 147 | G99: 115 | H99: 2008 | I99: nie | J99: tak | K99: PCV, Drewniane | L99: Dobry | M99: ogrzewanie centralne: kocioł węglowy z podajnikiem | N99: węgiel | O99: 5 | P99: =IFERROR(Wyniki_ankiet[[#This Row],[Wielkość zużycia węgla w tonach (jeśli występuje)]]*1000/Wyniki_ankiet[[#This Row],[Powierzchnia ogrzewana w m2]],) -> 43.478261 | Q99: 0 | S99: =IFERROR(Wyniki_ankiet[[#This Row],[Wielkość zużycia drewna w kg (jeśli występuje)]]/Wyniki_ankiet[[#This Row],[Powierzchnia ogrzewana w m2]],) -> 0 | T99: 0 | V99: =IFERROR(Wyniki_ankiet[[#This Row],[Olej opałowy zużycie w litrach]]/Wyniki_ankiet[[#This Row],[Powierzchnia ogrzewana w m2]],) -> 0 | X99: nie | Y99: - | AA99: nie | AB99: =IF(AND(Wyniki_ankiet[[#This Row],[Wielkość zużycia węgla w tonach (jeśli występuje)]]>0,Wyniki_ankiet[[#This Row],[Wielkość zużycia drewna w kg (jeśli występuje)]]>0),1,) -> 0 | AC99: =IF(AND(Wyniki_ankiet[[#This Row],[Wielkość zużycia węgla w tonach (jeśli występuje)]]>0,Wyniki_ankiet[[#This Row],[Wielkość zużycia drewna w kg (jeśli występuje)]]=0),1,) -> 1 | AD99: =IF(AND(Wyniki_ankiet[[#This Row],[Wielkość zużycia drewna w kg (jeśli występuje)]]>0,Wyniki_ankiet[[#This Row],[Wielkość zużycia węgla w tonach (jeśli występuje)]]=0),1,) -> 0 | AE99: =IF(Wyniki_ankiet[[#This Row],[Wielkość zużycia gazu w m3 (jeśli występuje)]]>0,1,) -> 0
A100: 96 | B100: obszar wiejski | C100: =SUM(BUD_MIESZK_A!U104:U266) -> 2600 | D100: nie | E100: Wolnostojący | F100: 182 | G100: 182 | H100: 1997 | I100: tak | J100: tak | K100: PCV | L100: Dobry | M100: ogrzewanie centralne | N100: węgiel, drewno | O100: 5 | P100: =IFERROR(Wyniki_ankiet[[#This Row],[Wielkość zużycia węgla w tonach (jeśli występuje)]]*1000/Wyniki_ankiet[[#This Row],[Powierzchnia ogrzewana w m2]],) -> 27.472527 | Q100: 0 | R100: 3000 | S100: =IFERROR(Wyniki_ankiet[[#This Row],[Wielkość zużycia drewna w kg (jeśli występuje)]]/Wyniki_ankiet[[#This Row],[Powierzchnia ogrzewana w m2]],) -> 16.483516 | T100: 0 | V100: =IFERROR(Wyniki_ankiet[[#This Row],[Olej opałowy zużycie w litrach]]/Wyniki_ankiet[[#This Row],[Powierzchnia ogrzewana w m2]],) -> 0 | X100: nie | Y100: - | AA100: tak | AB100: =IF(AND(Wyniki_ankiet[[#This Row],[Wielkość zużycia węgla w tonach (jeśli występuje)]]>0,Wyniki_ankiet[[#This Row],[Wielkość zużycia drewna w kg (jeśli występuje)]]>0),1,) -> 1 | AC100: =IF(AND(Wyniki_ankiet[[#This Row],[Wielkość zużycia węgla w tonach (jeśli występuje)]]>0,Wyniki_ankiet[[#This Row],[Wielkość zużycia drewna w kg (jeśli występuje)]]=0),1,) -> 0 | AD100: =IF(AND(Wyniki_ankiet[[#This Row],[Wielkość zużycia drewna w kg (jeśli występuje)]]>0,Wyniki_ankiet[[#This Row],[Wielkość zużycia węgla w tonach (jeśli występuje)]]=0),1,) -> 0 | AE100: =IF(Wyniki_ankiet[[#This Row],[Wielkość zużycia gazu w m3 (jeśli występuje)]]>0,1,) -> 0
...

Sheet PRZEM
A1: PRZEMYSŁ
A2: Struktura zużycia paliw oraz emisja CO2
B4: Rodzaj paliwa | C4: Zużycie paliwa | D4: Jednostka | E4: Wartość opałowa | F4: Jednostka | G4: Całkowita energia (MWh) | H4: Wskaźnik emisji (Mg CO2/MWh) | I4: Całkowita emisja (Mg CO2) | J4: Udział w emisji | K4: UWAGI
B5: Energia elektryczna | C5: 5922 | D5: MWh | E5: 1 | F5: MWh | G5: =C5*E5 -> 5922 | H5: 0.812 | I5: =H5*G5 -> 4808.664 | J5: =I5/$I$15 -> 0.41061784 | K5: ENEA Operator sp. z o.o. taryfa G
B6: Gaz ziemny wysokometanowy | C6: =DANE_GAZ!G68*1000 -> 3418700 | D6: m³ | E6: 36.09 | F6: MJ/m³ | G6: =C6*E6/3600 -> 34272.468 | H6: 0.201 | I6: =H6*G6 -> 6888.766 | J6: =I6/$I$15 -> 0.58824036
B7: Gaz ziemny zaazotowany | C7: =DANE_GAZ!G74 -> 7708.2 | D7: m³ | E7: 31.54 | F7: MJ/m³ | G7: =C7*E7/3600 -> 67.532397 | H7: 0.198 | I7: =H7*G7 -> 13.371415 | J7: =I7/$I$15 -> 0.0011418018
B8: Ciepło sieciowe | C8: 0 | D8: MWh | E8: 1 | F8: MWh | G8: =C8*E8 -> 0 | H8: 0 | I8: =H8*G8 -> 0 | J8: =I8/$I$15 -> 0
B9: Olej opałowy | C9: =G29 -> 0 | D9: l | E9: 36.17 | F9: MJ/l | G9: =C9*E9/3600 -> 0 | H9: 0.276 | I9: =H9*G9 -> 0 | J9: =I9/$I$15 -> 0 | K9: brak danych
B10: Olej napędowy | C10: 0 | D10: l | E10: 35.96 | F10: MJ/l | G10: =C10*E10/3600 -> 0 | H10: 0.267 | I10: =H10*G10 -> 0 | J10: =I10/$I$15 -> 0
B11: Węgiel kamienny | C11: =E29 -> 0 | D11: Mg | E11: 22.72 | F11: GJ/Mg | G11: =C11*E11/3.6 -> 0 | H11: 0.341 | I11: =H11*G11 -> 0 | J11: =I11/$I$15 -> 0 | K11: brak danych
B12: Węgiel brunanty | C12: 0 | D12: Mg | E12: 8.76 | F12: GJ/Mg | G12: =C12*E12/3.6 -> 0 | H12: 0.388 | I12: =H12*G12 -> 0 | J12: =I12/$I$15 -> 0
B13: LPG | C13: =H29 -> 0 | D13: l | E13: 26.5 | F13: MJ/l | G13: =C13*E13/3600 -> 0 | H13: 0.227 | I13: =H13*G13 -> 0 | J13: =I13/$I$15 -> 0 | K13: brak danych
B14: Drewno | C14: =F29 -> 0 | D14: Mg | E14: 20 | F14: GJ/Mg | G14: =C14*E14/3.6 -> 0 | H14: 0 | I14: =H14*G14 -> 0 | J14: =I14/$I$15 -> 0
B15: SUMA | G15: =SUM(G5:G14) -> 40262 | I15: =SUM(I5:I14) -> 11710.801

Sheet OSW
A1: OŚWIETLENIE PUBLICZNE
A2: Charakterystyka, zużycie energii oraz emisja CO2
B4: PODSUMOWANIE | C4: Zużycie energii elektrycznej [MWh] | D4: Całkowita emisja (Mg CO2) | E4: Wsk. Emisji [Mg CO2/MWh] | F4: Uwagi
C5: 571 | D5: =ROUND(C5*E5,0) -> 464 | E5: 0.812 | F5: Enea Operator dane 2021
B7: Typ oświetlenia | C7: Lokalizacja | D7: Odbiorca | E7: Moc umowna [kW] | F7: Szacowane zużycie energii [kWh/rok] | G7: Uwagi
B8: Oświetlenie ulic | C8: ul. Gen. Kutrzeby | D8: Gmina Święciechowa | E8: 11 | F8: 4754
B9: Oświetlenie ulic | C9: ul. Leszczyńska | D9: Gmina Święciechowa | E9: 15 | F9: 29368
B10: Oświetlenie ulic | C10: ul. Krzycka | D10: Gmina Święciechowa | E10: 1 | F10: 1448
B11: Oświetlenie ulic | C11: Przybyszewo, ul. Henrykowska | D11: Gmina Święciechowa | E11: 1 | F11: 2292
B12: Oświetlenie ulic | C12: Henrykowo, ul. Zaborowska | D12: Gmina Święciechowa | E12: 1 | F12: 5427
B13: Oświetlenie ulic | C13: Długie Stare, ul. Nowa | D13: Gmina Święciechowa | E13: 1 | F13: 2207
B14: Oświetlenie ulic | C14: Lasocice, ul. Okrężna | D14: Gmina Święciechowa | E14: 1 | F14: 4350
B15: Oświetlenie ulic | C15: ul. Lasocicka | D15: Gmina Święciechowa | E15: 2 | F15: 1413
B16: Oświetlenie ulic | C16: Lasocice, ul. Ogrodowa | D16: Gmina Święciechowa | E16: 4 | F16: 4005
B17: Oświetlenie ulic | C17: Długie Stare, ul. Rolna | D17: Gmina Święciechowa | E17: 11 | F17: 7145
B18: Oświetlenie ulic | C18: Strzyżewice, ul. Pilotów | D18: Gmina Święciechowa | E18: 1 | F18: 1391
B19: Oświetlenie ulic | C19: Strzyżewice | D19: Gmina Święciechowa | E19: 5 | F19: 22557
... B50: Oświetlenie ulic | C50: ul. Lipowa | D50: Gmina Święciechowa | E50: 11 | F50: 24991

Sheet TR_GMIN
A1: POJAZDY GMINNE
A2: Charakterystyka, zużycie paliw oraz emisja CO2
B4: Rodzaj paliwa | C4: Zużycie paliwa | D4: Jednostka | E4: Wartość opałowa | F4: Jednostka | G4: Całkowita energia (MWh) | H4: Wskaźnik emisji (Mg CO2/MWh) | I4: Całkowita emisja (Mg CO2) | J4: Udział w emisji | K4: UWAGI
B5: Energia elektryczna | C5: =SUMIF(G14:G57,"Energia elektryczna",I14:I57) -> 0 | D5: MWh | E5: 1 | F5: MWh | G5: =C5*E5 -> 0 | H5: 0.812 | I5: =H5*G5 -> 0 | J5: =I5/$I$9 -> 0
B6: Benzyna | C6: =SUMIF(G14:G57,"Benzyna",I14:I57) -> 0 | D6: l | E6: 33.6 | F6: MJ/l | G6: =C6*E6/3600 -> 0 | H6: 0.249 | I6: =H6*G6 -> 0 | J6: =I6/$I$9 -> 0
B7: Olej napędowy | C7: =SUMIF(G14:G57,"olej napędowy",I14:I57) -> 13999 | D7: l | E7: 35.96 | F7: MJ/l | G7: =C7*E7/3600 -> 139.83446 | H7: 0.267 | I7: =H7*G7 -> 37.3358 | J7: =I7/$I$9 -> 1
B8: LPG | C8: =SUMIF(G14:G57,"LPG",I14:I57) -> 0 | D8: l | E8: 26.5 | F8: MJ/l | G8: =C8*E8/3600 -> 0 | H8: 0.227 | I8: =H8*G8 -> 0 | J8: =I8/$I$9 -> 0
B9: SUMA | G9: =SUM(G5:G8) -> 139.83446 | I9: =SUM(I5:I8) -> 37.3358
B12: Marka/Nazwa pojazdów | C12: Kategoria pojazdów | D12: Ilość pojazdów | E12: Rok produkcji | F12: Średni przebieg jednego pojazdu | G12: Rodzaj paliwa | H12: Jednostka zużycia | I12: Roczne zużycie paliwa/energii | J12: Uwagi
D13: [szt.] | E13: [rok] | F13: [km/rok] | I13: [suma]
B14: RENAULT TRAFIC | C14: OSOBOWY | D14: 1 | E14: 2004 | F14: 10000 | G14: OLEJ NAPĘDOWY | H14: LITR | I14: 900
B15: URSUS U3512 | C15: CIĄGNIK ROLNICZY | D15: 1 | E15: 1995 | F15: 200 MTG | G15: OLEJ NAPĘDOWY | H15: LITR | I15: 700
B16: URSUS U4512 | C16: CIĄGNIK ROLNICZY | D16: 1 | E16: 1997 | F16: 700 MTG | G16: OLEJ NAPĘDOWY | H16: LITR | I16: 3500
B17: URSUS C3603P | C17: CIĄGNIK ROLNICZY | D17: 1 | E17: 1986 | F17: 100 MTG | G17: OLEJ NAPĘDOWY | H17: LITR | I17: 350
B18: ZETOR PROXIMA 8441 | C18: CIĄGNIK ROLNICZY | D18: 1 | E18: 2007 | F18: 900 MTG | G18: OLEJ NAPĘDOWY | H18: LITR | I18: 7200
B19: Jelcz 8 | C19: specjalny | D19: 1 | E19: 1985 | F19: 46771 | G19: olej napędowy | H19: litr | I19: 474
B20: Samochód pożarniczy
B21: OSP Święciechowa
B22: Żuk | C22: specjalny | D22: 1 | E22: 1973 | F22: 14033 | G22: olej napędowy | H22: litr | I22: 30
B23: Samochód pożarniczy
B24: OSP Długie Stare
B25: Żuk | C25: specjalny | D25: 1 | E25: 1987 | F25: 58063 | G25: olej napędowy | H25: litr | I25: 30
B26: Samochód pożarniczy
B27: Lasocice
B28: Mercedes | C28: specjalny | D28: 1 | E28: 1965 | F28: 24902 | G28: olej napędowy | H28: litr | I28: 20
B29: Samochód pożarniczy
B30: OSP Przybyszewo
B31: FS- Lublin Żuk | C31: specjalny | D31: 1 | E31: 1978 | F31: 19874 | G31: olej napędowy | H31: litr | I31: 60
B32: Samochód pożarniczy
B33: OSP Gołanice
B34: FS- Lublin Żuk | C34: specjalny | D34: 1 | E34: 1983 | F34: 9190 | G34: olej napędowy | H34: litr | I34: 100
B35: Samochód pożarniczy
B36: OSP Krzycko Małe
B37: MAN | C37: specjalny | D37: 1 | E37: 2008 | F37: 8503 | G37: olej napędowy | H37: litr | I37: 815
B38: Samochód pożarniczy
B39: OSP Święciechowa
B40: STAR | C40: specjalny | D40: 1 | E40: 2002 | F40: 24 721 | G40: olej napędowy | H40: litr | I40: 166
B41: Samochód pożarniczy
B42: OSP Święciechowa

Sheet TR_PUBL
A1: Transport publiczny gminny
A2: Charakterystyka, zużycie paliw oraz emisja CO2
B4: Rodzaj paliwa | C4: Zużycie paliwa | D4: Jednostka | E4: Wartość opałowa | F4: Jednostka | G4: Całkowita energia (MWh) | H4: Wskaźnik emisji (Mg CO2/MWh) | I4: Całkowita emisja (Mg CO2) | J4: Udział w emisji | K4: UWAGI
B5: Energia elektryczna | C5: =SUMIF(G14:G57,"Energia elektryczna",I14:I57) -> 0 | D5: MWh | E5: 1 | F5: MWh | G5: =C5*E5 -> 0 | H5: 0.812 | I5: =H5*G5 -> 0 | J5: =I5/$I$9 -> 0
B6: Benzyna | C6: =SUMIF(G14:G57,"Benzyna",I14:I57) -> 0 | D6: l | E6: 33.6 | F6: MJ/l | G6: =C6*E6/3600 -> 0 | H6: 0.249 | I6: =H6*G6 -> 0 | J6: =I6/$I$9 -> 0
B7: Olej napędowy | C7: =D14+D21 -> 30649.5 | D7: l | E7: 35.96 | F7: MJ/l | G7: =C7*E7/3600 -> 306.15445 | H7: 0.267 | I7: =H7*G7 -> 81.743238 | J7: =I7/$I$9 -> 1
B8: LPG | C8: =SUMIF(G14:G57,"LPG",I14:I57) -> 0 | D8: l | E8: 26.5 | F8: MJ/l | G8: =C8*E8/3600 -> 0 | H8: 0.227 | I8: =H8*G8 -> 0 | J8: =I8/$I$9 -> 0
B9: SUMA | G9: =SUM(G5:G8) -> 306.15445 | I9: =SUM(I5:I8) -> 81.743238
B11: Dowozy uczniów do szkół podstawowych i gimnazjów z gminy Święciechowa:
B12: Długość przewozów | D12: 60000 | E12: km
B13: Przeciętne żużycie paliwa (autobus) | D13: 35 | E13: l/100km
B14: Zużycie paliwa (ON) | D14: =D12*D13/100 -> 21000 | E14: l
B16: Długość tras komunikacji miejskiej na terenie gminy | D16: 3 | E16: km
B17: liczba kursów dziennie (pn-pt) | D17: 34
B18: liczba kursów dziennie (dni wolne) | D18: 6
B19: Ilość przejechanych kilometrów | D19: =(D17*250*D16)+(D18*D16*115) -> 27570 | E19: km
B20: Przeciętne żużycie paliwa (autobus) | D20: 35 | E20: l/100km
B21: Zużycie paliwa (ON) | D21: =D19*D20/100 -> 9649.5 | E21: l

Sheet TR_PRYW
A1: Transport prywatny i komercyjny
A2: Charakterystyka, zużycie paliw oraz emisja CO2
C4: Liczba pojazdów (pomiar 2010) | D4: Wzrost PKB | E4: Wskaźnik elastyczności GDDKiA | F4: Liczba pojazdów 2013 r | G4: Wskaźnik [g/km] | H4: Długość odcinka (km) | I4: Liczba dni w roku | J4: Emisja [Mg CO2] | L4: Eneria el. [MWh] | M4: Benzyna [MWh] | N4: Olej napędowy [MWh] | O4: LPG [MWh]
B5: motocykle | C5: 45 | D5: 0.045 | E5: 0.9 | F5: =INT(C5*(1+D5*E5)) -> 46 | G5: 50 | H5: 7.7 | I5: 365 | J5: =ROUND(F5*G5*H5*I5/1000000,0) -> 6 | L5: =J5*C23/$C$16 -> 0 | M5: =J5*D23/$C$17 -> 24.096386 | N5: =J5*E23/$C$18 -> 0 | O5: =J5*F23/$C$19 -> 0
B6: sam.osobowe | C6: 6057 | D6: 0.045 | E6: 0.9 | F6: =INT(C6*(1+D6*E6)) -> 6302 | G6: 155 | H6: 7.7 | I6: 365 | J6: =ROUND(F6*G6*H6*I6/1000000,0) -> 2745 | L6: =J6*C24/$C$16 -> 0 | M6: =J6*D24/$C$17 -> 6614.4578 | N6: =J6*E24/$C$18 -> 3084.2697 | O6: =J6*F24/$C$19 -> 1209.2511
B7: lekkie samochody ciężarowe (dostawcze) | C7: 993 | D7: 0.045 | E7: 0.33 | F7: =INT(C7*(1+D7*E7)) -> 1007 | G7: 200 | H7: 7.7 | I7: 365 | J7: =ROUND(F7*G7*H7*I7/1000000,0) -> 566 | L7: =J7*C25/$C$16 -> 0 | M7: =J7*D25/$C$17 -> 227.30924 | N7: =J7*E25/$C$18 -> 1695.8801 | O7: =J7*F25/$C$19 -> 249.33921
B8: Samochody ciężarowe z przyczepą | C8: 1187 | D8: 0.045 | E8: 1.07 | F8: =INT(C8*(1+D8*E8)) -> 1244 | G8: 900 | H8: 7.7 | I8: 365 | J8: =ROUND(F8*G8*H8*I8/1000000,0) -> 3147 | L8: =J8*C26/$C$16 -> 0 | M8: =J8*D26/$C$17 -> 0 | N8: =J8*E26/$C$18 -> 11786.517 | O8: =J8*F26/$C$19 -> 0
B9: Samochody ciężarowe bez przyczepy | C9: 393 | D9: 0.045 | E9: 0.35 | F9: =INT(C9*(1+D9*E9)) -> 399 | G9: 450 | H9: 7.7 | I9: 365 | J9: =ROUND(F9*G9*H9*I9/1000000,0) -> 505 | L9: =J9*C27/$C$16 -> 0 | M9: =J9*D27/$C$17 -> 0 | N9: =J9*E27/$C$18 -> 1891.3858 | O9: =J9*F27/$C$19 -> 0
B10: Autobusy | C10: 92 | D10: 0.045 | E10: 1.15 | F10: =INT(C10*(1+D10*E10)) -> 96 | G10: 450 | H10: 7.7 | I10: 365 | J10: =ROUND(F10*G10*H10*I10/1000000,0) -> 121 | L10: =J10*C28/$C$16 -> 0 | M10: =J10*D28/$C$17 -> 0 | N10: =J10*E28/$C$18 -> 453.18352 | O10: =J10*F28/$C$19 -> 0
B11: Ciągniki rolnicze | C11: 25 | D11: 0.045 | E11: 0.9 | F11: =INT(C11*(1+D11*E11)) -> 26 | G11: 450 | H11: 7.7 | I11: 365 | J11: =ROUND(F11*G11*H11*I11/1000000,0) -> 33 | L11: =J11*C29/$C$16 -> 0 | M11: =J11*D29/$C$17 -> 0 | N11: =J11*E29/$C$18 -> 123.59551 | O11: =J11*F29/$C$19 -> 0
B12: SUMA | C12: =SUM(C5:C11) -> 8792 | F12: =SUM(F5:F11) -> 9120 | J12: =SUM(J5:J11) -> 7123 | L12: =SUM(L5:L11) -> 0 | M12: =SUM(M5:M11) -> 6865.8635 | N12: =SUM(N5:N11) -> 19034.831 | O12: =SUM(O5:O11) -> 1458.5903
L13: emisja | M13: =M12*C17 -> 1709.6 | N13: =N12*C18 -> 5082.3 | O13: =C19*O12 -> 331.1
B14: Oszacowanie zużycia energii wg paliw
B15: Rodzaj paliwa | C15: Wskaźnik emisji [Mg CO2/MWh]
B16: Energia elektryczna | C16: 0.812
B17: Benzyna | C17: 0.249
B18: Olej napędowy | C18: 0.267
B19: LPG | C19: 0.227
C21: Udział pojazdów wg rodzaju paliwa
C22: Energia elektryczna | D22: Benzyna | E22: Olej napędowy | F22: LPG
B23: motocykle | C23: 0 | D23: 1 | E23: 0 | F23: 0
B24: sam.osobowe | C24: 0 | D24: 0.6 | E24: 0.3 | F24: 0.1
B25: lekkie samochody ciężarowe (dostawcze) | C25: 0 | D25: 0.1 | E25: 0.8 | F25: 0.1
B26: Samochody ciężarowe z przyczepą | C26: 0 | D26: 0 | E26: 1 | F26: 0
B27: Samochody ciężarowe bez przyczepy | C27: 0 | D27: 0 | E27: 1 | F27: 0
B28: Autobusy | C28: 0 | D28: 0 | E28: 1 | F28: 0
B29: Ciągniki rolnicze | C29: 0 | D29: 0 | E29: 1 | F29: 0

Sheet G_ODP
A1: GOSPODARKA ODPADAMI
A2: Na terenie gminy nie występują emisje bezpośrednie związane z gospodarką odpadami.

Sheet G_W-S
A1: GOSPODARKA WODNO-ŚCIEKOWA
A2: Zużycie energii i emisje zostały włączone w sektor | G2: Budynki gminne

Sheet DANE_GAZ
A2: 2009
A3: nazwa | B3: rodzaj gazu | C3: lp. | D3: opis | E3: ilość odbiorców | F3: w tym: ogrzewający mieszkanie | G3: zużycie gazu [tyś m3] | H3: w tym: ogrzewający mieszkanie
A4: gmina Święciechowa | B4: LNG | C4: 1 | D4: Odbiorcy domowi
A5: gmina Święciechowa | B5: LNG | C5: 2 | D5: Odbiorcy przemysłowi
A6: gmina Święciechowa | B6: LNG | C6: =SUM(DANE_GAZ!G75) -> 166 | D6: usługi
A7: gmina Święciechowa | B7: LNG | C7: 4 | D7: handel
A8: gmina Święciechowa | B8: LNG | C8: 5 | D8: Pozostali (rolnictwo, łowiectwo, leśnictwo,rybactwo)
E9: =SUM(E4:E8) -> 0 | F9: =SUM(F4:F8) -> 0 | G9: =SUM(G4:G8) -> 0 | H9: =SUM(H4:H8) -> 0
A10: gmina Święciechowa | B10: LW | C10: 1 | D10: Odbiorcy domowi | E10: 116 | F10: 58 | G10: 228.442 | H10: 176.76
A11: gmina Święciechowa | B11: LW | C11: 2 | D11: Odbiorcy przemysłowi | E11: 6 | G11: 481.784
A12: gmina Święciechowa | B12: LW | C12: 3 | D12: usługi | E12: 5 | G12: 19.916
A13: gmina Święciechowa | B13: LW | C13: 4 | D13: handel | E13: 5 | G13: 25.763
A14: gmina Święciechowa | B14: LW | C14: 5 | D14: Pozostali (rolnictwo, łowiectwo, leśnictwo,rybactwo) | E14: 1 | G14: 18.5
